BEGIN:VCALENDAR
VERSION:2.0
PRODID:-//Secretaria Municipal de Cultura e Turismo - ECPv6.15.13//NONSGML v1.0//EN
CALSCALE:GREGORIAN
METHOD:PUBLISH
X-ORIGINAL-URL:https://culturasbo.com
X-WR-CALDESC:Eventos para Secretaria Municipal de Cultura e Turismo
REFRESH-INTERVAL;VALUE=DURATION:PT1H
X-Robots-Tag:noindex
X-PUBLISHED-TTL:PT1H
BEGIN:VTIMEZONE
TZID:America/Sao_Paulo
BEGIN:STANDARD
TZOFFSETFROM:-0300
TZOFFSETTO:-0300
TZNAME:-03
DTSTART:20250101T000000
END:STANDARD
END:VTIMEZONE
BEGIN:VEVENT
DTSTART;TZID=America/Sao_Paulo:20260414T090000
DTEND;TZID=America/Sao_Paulo:20260515T170000
DTSTAMP:20260423T153559
CREATED:20260415T185212Z
LAST-MODIFIED:20260415T185212Z
UID:17548-1776157200-1778864400@culturasbo.com
SUMMARY:Exposição "Águas que me embebedam"
DESCRIPTION:Exposição: “Águas que me embebedam”\nArtista plástico: João Paulo Ramos\nPeríodo: 14 de abril a 15 de maio \nHorário: De terça à sexta\, das 9h às 12h e das 13h às 17h\nExcepcionalmente dia 08 de maio\, sexta-feira\, das 9h às 12h – 13h às 17h e das 18h às 22h \nSinopse: \nA água mencionada no título da exposição é\, na verdade\, uma metáfora. A partir dela\, são desenvolvidas obras que transitam por diferentes universos\, situando-se entre o sagrado e o profano\, o onírico e o utópico. O conjunto das obras cria um universo lúdico\, repleto de cores\, formas e texturas\, convidando o espectador a uma experiência visual agradável\, capaz de despertar curiosidade e provocar reflexões. As obras e flâmulas são produzidas a partir de materiais como lona de caminhão e algodão cru\, explorando técnicas mistas em suportes diversos\, como tela\, madeira e a própria lona. \n  \nLocal: Museu da Imigração\nWebsite da divulgação: @joaoarte36\nClassificação: livre\nContato de informações: (19) 99661-3918
URL:https://culturasbo.com/evento/exposicao-aguas-que-me-embebedam/
LOCATION:Museu da Imigração\, R. João Lino\, 371 - Centro\, Santa Bárbara d'Oeste\, SP\, 13450-001\, Brasil
CATEGORIES:Exposição
ATTACH;FMTTYPE=image/jpeg:https://culturasbo.com/wp-content/uploads/2026/04/WhatsApp-Image-2026-04-01-at-11.31.57.jpeg
END:VEVENT
END:VCALENDAR