BEGIN:VCALENDAR
VERSION:2.0
PRODID:-//Secretaria Municipal de Cultura e Turismo - ECPv6.15.13//NONSGML v1.0//EN
CALSCALE:GREGORIAN
METHOD:PUBLISH
X-WR-CALNAME:Secretaria Municipal de Cultura e Turismo
X-ORIGINAL-URL:https://culturasbo.com
X-WR-CALDESC:Eventos para Secretaria Municipal de Cultura e Turismo
REFRESH-INTERVAL;VALUE=DURATION:PT1H
X-Robots-Tag:noindex
X-PUBLISHED-TTL:PT1H
BEGIN:VTIMEZONE
TZID:America/Sao_Paulo
BEGIN:STANDARD
TZOFFSETFROM:-0300
TZOFFSETTO:-0300
TZNAME:-03
DTSTART:20230101T000000
END:STANDARD
END:VTIMEZONE
BEGIN:VEVENT
DTSTART;TZID=America/Sao_Paulo:20240420T160000
DTEND;TZID=America/Sao_Paulo:20240420T235900
DTSTAMP:20260425T074300
CREATED:20231219T144600Z
LAST-MODIFIED:20241008T114505Z
UID:12024-1713628800-1713657540@culturasbo.com
SUMMARY:FÉstival - Santa Bárbara d'Oeste
DESCRIPTION:Acesse o site do evento: http://festival.culturasbo.com \nO “FÉstival – um dia da celebração da fé e da família” divulgou sua programação completa de shows. Nos palcos Fé e Avivah\, as atrações musicais e teatrais\, além de espaços interativos\, contarão com programação das 16 às 23 horas no dia 20 deste mês. Com entrada gratuita\, o evento será no Complexo Usina Santa Bárbara\, no Residencial Dona Margarida. \nServiço: \nFÉstival em Santa Bárbara \nData: 20 de abril\, das 16 horas a meia-noite \nLocal: Complexo Usina Santa Bárbara | Rua Aristeo Carlos Pereira\, Residencial Dona Margarida\, Santa Bárbara d’Oeste/SP \nProgramação: \n16h | 23h – Espaço interativo – Vivência Cristã \n16h | 23h – Atividades recreativas \n17h – Clebão de Paula | Palco Fé \n18h – Jardim do Inimigo – O Musical\, Cia Nissi | Palco Avivah \n19h – Jefferson e Suellen | Palco Fé \n20h30 – Em Prol do Reino | Palco Avivah \n21h – André e Felipe | Palco Fé \n22h30 – Rodrigo Ito | Palco Avivah \n23h – Bruna Karla | Palco Fé \nEntrada gratuita
URL:https://culturasbo.com/evento/festival-avivah/
LOCATION:Complexo Usina Santa Bárbara\, Rua Aristeo Carlos Pereira\, Santa Bárbara d'Oeste\, São Paulo\, Brasil
CATEGORIES:Festival
ATTACH;FMTTYPE=image/jpeg:https://culturasbo.com/wp-content/uploads/2023/12/Avivah.jpg
END:VEVENT
END:VCALENDAR