BEGIN:VCALENDAR
VERSION:2.0
PRODID:-//Secretaria Municipal de Cultura e Turismo - ECPv6.15.13//NONSGML v1.0//EN
CALSCALE:GREGORIAN
METHOD:PUBLISH
X-WR-CALNAME:Secretaria Municipal de Cultura e Turismo
X-ORIGINAL-URL:https://culturasbo.com
X-WR-CALDESC:Eventos para Secretaria Municipal de Cultura e Turismo
REFRESH-INTERVAL;VALUE=DURATION:PT1H
X-Robots-Tag:noindex
X-PUBLISHED-TTL:PT1H
BEGIN:VTIMEZONE
TZID:America/Sao_Paulo
BEGIN:STANDARD
TZOFFSETFROM:-0300
TZOFFSETTO:-0300
TZNAME:-03
DTSTART:20240101T000000
END:STANDARD
END:VTIMEZONE
BEGIN:VEVENT
DTSTART;TZID=America/Sao_Paulo:20250921T090000
DTEND;TZID=America/Sao_Paulo:20250921T090000
DTSTAMP:20260424T104850
CREATED:20250905T124100Z
LAST-MODIFIED:20250905T124100Z
UID:16236-1758445200-1758445200@culturasbo.com
SUMMARY:Doce Amargo - Grandplié Studio de Dança e Teatro - Palco Aberto
DESCRIPTION:Classificação: Livre \nEntrada: Gratuita
URL:https://culturasbo.com/evento/doce-amargo-grandplie-studio-de-danca-e-teatro-palco-aberto/
LOCATION:Parque dos Jacarandás\, R. do Estanho\, s/n - Vila Mollon IV\, Santa Bárbara d'Oeste\, São Paulo\, 13456-520
CATEGORIES:Apresentação Artística,Festival
END:VEVENT
END:VCALENDAR