BEGIN:VCALENDAR
VERSION:2.0
PRODID:-//Secretaria Municipal de Cultura e Turismo - ECPv6.15.13//NONSGML v1.0//EN
CALSCALE:GREGORIAN
METHOD:PUBLISH
X-WR-CALNAME:Secretaria Municipal de Cultura e Turismo
X-ORIGINAL-URL:https://culturasbo.com
X-WR-CALDESC:Eventos para Secretaria Municipal de Cultura e Turismo
REFRESH-INTERVAL;VALUE=DURATION:PT1H
X-Robots-Tag:noindex
X-PUBLISHED-TTL:PT1H
BEGIN:VTIMEZONE
TZID:America/Sao_Paulo
BEGIN:STANDARD
TZOFFSETFROM:-0300
TZOFFSETTO:-0300
TZNAME:-03
DTSTART:20240101T000000
END:STANDARD
END:VTIMEZONE
BEGIN:VEVENT
DTSTART;TZID=America/Sao_Paulo:20250607T133000
DTEND;TZID=America/Sao_Paulo:20250607T180000
DTSTAMP:20260424T104852
CREATED:20250603T123210Z
LAST-MODIFIED:20250603T140707Z
UID:15858-1749303000-1749319200@culturasbo.com
SUMMARY:Mulheres Conectadas pela Arte
DESCRIPTION:Classificação: Livre \nEntrada: Gratuita – Púnlicofechado\, feito inscrição \nInformações: (19) 3455-7000 \nSinopse: São quatro encontros gratuitos\, voltados para a capacitação e profissionalização de mulhreres artesãs e empreendedoras criativas. Com palestras\, dinâmicas\, rodas de conversas\, yoga\, ginástica laboral\, etc.
URL:https://culturasbo.com/evento/mulheres-conectadas-pela-arte-4/
LOCATION:Centro de Memórias\, R. João Lino\, 362 - Centro\, Santa Bárbara d'Oeste\, São Paulo\, 13450-033\, Brasil
CATEGORIES:Oficina,Palestra,Reunião,Workshop
ATTACH;FMTTYPE=image/jpeg:https://culturasbo.com/wp-content/uploads/2025/05/2357c1eb074396d6d6f393be70311664.jpg
END:VEVENT
END:VCALENDAR