BEGIN:VCALENDAR
VERSION:2.0
PRODID:-//Secretaria Municipal de Cultura e Turismo - ECPv6.15.13//NONSGML v1.0//EN
CALSCALE:GREGORIAN
METHOD:PUBLISH
X-WR-CALNAME:Secretaria Municipal de Cultura e Turismo
X-ORIGINAL-URL:https://culturasbo.com
X-WR-CALDESC:Eventos para Secretaria Municipal de Cultura e Turismo
REFRESH-INTERVAL;VALUE=DURATION:PT1H
X-Robots-Tag:noindex
X-PUBLISHED-TTL:PT1H
BEGIN:VTIMEZONE
TZID:America/Sao_Paulo
BEGIN:STANDARD
TZOFFSETFROM:-0300
TZOFFSETTO:-0300
TZNAME:-03
DTSTART:20230101T000000
END:STANDARD
END:VTIMEZONE
BEGIN:VEVENT
DTSTART;VALUE=DATE:20240914
DTEND;VALUE=DATE:20240916
DTSTAMP:20260424T220326
CREATED:20231220T113029Z
LAST-MODIFIED:20241008T114426Z
UID:12078-1726272000-1726444799@culturasbo.com
SUMMARY:Encontro de Veículos Antigos
DESCRIPTION:
URL:https://culturasbo.com/evento/encontro-de-veiculos-antigos/
LOCATION:São Paulo
CATEGORIES:Exposição,Show
ATTACH;FMTTYPE=image/jpeg:https://culturasbo.com/wp-content/uploads/2023/12/53197154075_57caaec374_c.jpg
END:VEVENT
END:VCALENDAR