BEGIN:VCALENDAR
VERSION:2.0
PRODID:-//Secretaria Municipal de Cultura e Turismo - ECPv6.15.13//NONSGML v1.0//EN
CALSCALE:GREGORIAN
METHOD:PUBLISH
X-WR-CALNAME:Secretaria Municipal de Cultura e Turismo
X-ORIGINAL-URL:https://culturasbo.com
X-WR-CALDESC:Eventos para Secretaria Municipal de Cultura e Turismo
REFRESH-INTERVAL;VALUE=DURATION:PT1H
X-Robots-Tag:noindex
X-PUBLISHED-TTL:PT1H
BEGIN:VTIMEZONE
TZID:America/Sao_Paulo
BEGIN:STANDARD
TZOFFSETFROM:-0300
TZOFFSETTO:-0300
TZNAME:-03
DTSTART:20240101T000000
END:STANDARD
END:VTIMEZONE
BEGIN:VEVENT
DTSTART;TZID=America/Sao_Paulo:20250322T200000
DTEND;TZID=America/Sao_Paulo:20250322T200000
DTSTAMP:20260424T151259
CREATED:20250311T112851Z
LAST-MODIFIED:20250311T122155Z
UID:15157-1742673600-1742673600@culturasbo.com
SUMMARY:Sonântulo - Trupe Dona Formiga - Festival Pop Arte
DESCRIPTION:Classificação: 10 anos \nEntrada: R$ 10\,00 (inteira) e R$ 5\,00 (meia/antecipado) \nIngressos no site (www.ingressodigital.com) ou bilheteria do teatro \nInformações: (19) 3464-9424
URL:https://culturasbo.com/evento/sonantulo-trupe-dona-formiga-festival-pop-arte/
LOCATION:Teatro Municipal Manoel Lyra\, Rua João XXIII\, 61 - Centro\, Santa Bárbara d'Oeste\, SP\, 13450-040\, Brasil
CATEGORIES:Teatro
ATTACH;FMTTYPE=image/jpeg:https://culturasbo.com/wp-content/uploads/2025/03/Sonantulo.jpg
END:VEVENT
BEGIN:VEVENT
DTSTART;TZID=America/Sao_Paulo:20250325T200000
DTEND;TZID=America/Sao_Paulo:20250325T200000
DTSTAMP:20260424T151259
CREATED:20250311T115201Z
LAST-MODIFIED:20250311T122214Z
UID:15162-1742932800-1742932800@culturasbo.com
SUMMARY:Pinocchio - Olhos de Madeira - CIA Arte-Móvel - Festival Pop Arte
DESCRIPTION:Classificação: Livre \nEntrada: R$ 10\,00 (inteira) e R$ 5\,00 (meia/antecipado) \nIngressos no site (www.ingressodigital.com) ou bilheteria do teatro \nInformações: (19) 3464-9424
URL:https://culturasbo.com/evento/pinocchio-olhos-de-madeira-cia-arte-movel-festival-pop-arte/
LOCATION:Teatro Municipal Manoel Lyra\, Rua João XXIII\, 61 - Centro\, Santa Bárbara d'Oeste\, SP\, 13450-040\, Brasil
CATEGORIES:Teatro
ATTACH;FMTTYPE=image/jpeg:https://culturasbo.com/wp-content/uploads/2025/03/PinocchioOlhosdeMadeira_CarlosPetrini-1-3.jpg
END:VEVENT
BEGIN:VEVENT
DTSTART;TZID=America/Sao_Paulo:20250328T193000
DTEND;TZID=America/Sao_Paulo:20250328T193000
DTSTAMP:20260424T151259
CREATED:20250311T120619Z
LAST-MODIFIED:20250311T122251Z
UID:15169-1743190200-1743190200@culturasbo.com
SUMMARY:Cê Falo\, Tá Falido - Cleber Rosa
DESCRIPTION:Classificação: Livre \nEntrada: R$ 80\,00 (inteira)\, R$ 40\,00 (meia) e R$ 55\,00 (meia solidária – com 1 kg de alimento não perecível) \nIngressos no site: www.sympla.com.br \nInformações: (14) 99620-6148 / (19) 3464-9424
URL:https://culturasbo.com/evento/ce-falo-ta-falido-cleber-rosa/
LOCATION:Teatro Municipal Manoel Lyra\, Rua João XXIII\, 61 - Centro\, Santa Bárbara d'Oeste\, SP\, 13450-040\, Brasil
CATEGORIES:Apresentação Artística,Teatro
ATTACH;FMTTYPE=image/jpeg:https://culturasbo.com/wp-content/uploads/2025/03/SE-faliu.jpg
END:VEVENT
BEGIN:VEVENT
DTSTART;TZID=America/Sao_Paulo:20250329T200000
DTEND;TZID=America/Sao_Paulo:20250329T200000
DTSTAMP:20260424T151259
CREATED:20250311T120935Z
LAST-MODIFIED:20250311T122303Z
UID:15172-1743278400-1743278400@culturasbo.com
SUMMARY:Cartas Para Josephine - Coletivo Tantofaz - Festival Pop Arte
DESCRIPTION:Classificação: 14 anos \nEntrada: R$ 10\,00 (inteira) e R$ 5\,00 (meia/antecipado) \nIngressos no site (www.ingressodigital.com) ou bilheteria do teatro \nInformações: (19) 3464-9424
URL:https://culturasbo.com/evento/cartas-para-josephine-coletivo-tantofaz-festival-pop-arte/
LOCATION:Teatro Municipal Manoel Lyra\, Rua João XXIII\, 61 - Centro\, Santa Bárbara d'Oeste\, SP\, 13450-040\, Brasil
CATEGORIES:Teatro
ATTACH;FMTTYPE=image/jpeg:https://culturasbo.com/wp-content/uploads/2025/03/cartas-para-.jpg
END:VEVENT
BEGIN:VEVENT
DTSTART;TZID=America/Sao_Paulo:20250330T190000
DTEND;TZID=America/Sao_Paulo:20250330T201000
DTSTAMP:20260424T151259
CREATED:20250311T121322Z
LAST-MODIFIED:20250327T112159Z
UID:15175-1743361200-1743365400@culturasbo.com
SUMMARY:EVENTO CANCELADO - Coringa - Mauricio Dollenz
DESCRIPTION:Classificação: 18 anos \nEntrada: R$ 100\,00 (inteira) e R$ 50\,00 (meia) \nIngressos no site (www.ingressodigital.com) ou bilheteria do teatro \nInformações: (19) 3464-9424 \n  \nSinopse: Ele sempre falou que a culpa era do Morcego! A loucura do personagem é o mote da apresentação. Um show caótico\, construído no universo dos vilões\, considerado por muitos terapêutico\, que vai fazer você duvidar até da sua saúde mental. Acrescente à tudo isso: truques com cartas\, interação com a plateia\, trocadilhos e piadas ácidas que às vezes podem ser desnecessárias\, mas engraçadas.
URL:https://culturasbo.com/evento/coringa-mauricio-dollenz/
LOCATION:Teatro Municipal Manoel Lyra\, Rua João XXIII\, 61 - Centro\, Santa Bárbara d'Oeste\, SP\, 13450-040\, Brasil
CATEGORIES:Apresentação Artística,Teatro
ATTACH;FMTTYPE=image/png:https://culturasbo.com/wp-content/uploads/2025/03/30-Marco-MauricioDollenz-SBO-Feed-1.png
END:VEVENT
END:VCALENDAR