BEGIN:VCALENDAR
VERSION:2.0
PRODID:-//Secretaria Municipal de Cultura e Turismo - ECPv6.15.13//NONSGML v1.0//EN
CALSCALE:GREGORIAN
METHOD:PUBLISH
X-WR-CALNAME:Secretaria Municipal de Cultura e Turismo
X-ORIGINAL-URL:https://culturasbo.com
X-WR-CALDESC:Eventos para Secretaria Municipal de Cultura e Turismo
REFRESH-INTERVAL;VALUE=DURATION:PT1H
X-Robots-Tag:noindex
X-PUBLISHED-TTL:PT1H
BEGIN:VTIMEZONE
TZID:America/Sao_Paulo
BEGIN:STANDARD
TZOFFSETFROM:-0300
TZOFFSETTO:-0300
TZNAME:-03
DTSTART:20240101T000000
END:STANDARD
END:VTIMEZONE
BEGIN:VEVENT
DTSTART;TZID=America/Sao_Paulo:20250502T200000
DTEND;TZID=America/Sao_Paulo:20250502T200000
DTSTAMP:20260424T123857
CREATED:20250428T142038Z
LAST-MODIFIED:20250429T145749Z
UID:15461-1746216000-1746216000@culturasbo.com
SUMMARY:São Paulo Companhia de Dança apresenta: Autorretrato\, de Leilane Teles; Grand Pas de Deux de Dom Quixote\, na versão da SPC; Pré-Estreia Carços Pons Guerra
DESCRIPTION:Classificação: Livre \nEntrada: Gratuita (retirada 1h antes do evento) \nInformações: (19) 3464-9424 \n  \n“Essa é a 9ª vez que subiremos ao palco em Santa Bárbara d’Oeste e\, agora\, com uma pré-estreia junto ao nosso repertório com uma obra clássica e uma contemporânea. O público poderá conferir\, em primeira mão\, a criação do coreógrafo Carlos Pons Guerra\, que dialoga com temas atuais do nosso planeta\, e leva à cena uma coreografia instigante que junta dança\, teatro e outros elementos”\, conta Inês Bogéa\, diretora artística da São Paulo Companhia de Dança. \nA abertura dos espetáculos ficará por conta do Laboratório da Dança Fernanda Araújo\, com a obra ÉTER\, dirigida por Fernanda Araújo\, que também assina a coreografia ao lado de Eduardo Menezes e Cintia Nogueira. Em ambas as sessões\, a SPCD apresenta sua versão do Grand Pas de Deux de Dom Quixote; Ataraxia\, de George Céspedes; e A Vingança dos Flamingos\, que é o destaque da noite\, de Carlos Pons Guerra.” \nAs apresentações da São Paulo Companhia de Dança em Santa Bárbara d’Oeste são realizadas pelo Ministério da Cultura\, Governo do Estado de São Paulo\, por meio da Secretaria da Cultura\, Economia e Indústria Criativas e São Paulo Companhia de Dança via Lei de Incentivo à Cultura Lei Rouanet\, Ministério da Cultura e Governo Federal União e Reconstrução. Patrocínio Itaú. \n\n\nFICHAS TÉCNICAS: \nGrand Pas de Deux de Dom Quixote (2012) \nCoreografia: na versão da SPCD\, a partir do original de 1869 de Marius Petipa (1818-1910) \nMúsica: Leon Minkus (1826-1917) \nIluminação: Wagner Freire \nFigurinos: Tânia Agra \nAtaraxia (2025)\nCoreografia: George Céspedes\nAssistência de Coreografia: Aymara Rodrigues\nMúsicas: Trilha original de George Céspedes; Count To Six And Die (The Vacuum Of Infinite Space Encompassing)\, de Marilyn Manson e John Lowery\, The Golden Age Of Grotesque\, de Brian Warner e Tim Skold\, ambas interpretadas por Marilyn Manson; Candil De Nieve\, de Raúl Torres\, interpretada por Pablo Milanés.\nFigurino: Marco Lima\nIluminação: André Boll \n  \n*Atenção: a obra apresenta cena com efeito estroboscópico que pode afetar espectadores fotossensíveis.
URL:https://culturasbo.com/evento/autorretrato-de-leilane-teles-grand-pas-de-deux-de-dom-quixote-na-versao-da-spc-sao-paulo-companhia-de-danca/
LOCATION:Teatro Municipal Manoel Lyra\, Rua João XXIII\, 61 - Centro\, Santa Bárbara d'Oeste\, SP\, 13450-040\, Brasil
CATEGORIES:Dança,Espetáculo,Teatro
ATTACH;FMTTYPE=image/jpeg:https://culturasbo.com/wp-content/uploads/2025/04/Pas-de-Deux-de-Dom-Quixote-SPCD-Credito-Samira-Dantas-2.jpg
END:VEVENT
BEGIN:VEVENT
DTSTART;TZID=America/Sao_Paulo:20250503T190000
DTEND;TZID=America/Sao_Paulo:20250503T190000
DTSTAMP:20260424T123857
CREATED:20250428T142312Z
LAST-MODIFIED:20250429T145755Z
UID:15464-1746298800-1746298800@culturasbo.com
SUMMARY:São Paulo Companhia de Dança apresenta: Autorretrato\, de Leilane Teles; Grand Pas de Deux de Dom Quixote\, na versão da SPC; Pré-Estreia Carços Pons Guerra
DESCRIPTION:Classificação: Livre \nEntrada: Gratuita (retirada 1h antes do evento) \nInformações: (19) 3464-9424 \n  \n“Essa é a 9ª vez que subiremos ao palco em Santa Bárbara d’Oeste e\, agora\, com uma pré-estreia junto ao nosso repertório com uma obra clássica e uma contemporânea. O público poderá conferir\, em primeira mão\, a criação do coreógrafo Carlos Pons Guerra\, que dialoga com temas atuais do nosso planeta\, e leva à cena uma coreografia instigante que junta dança\, teatro e outros elementos”\, conta Inês Bogéa\, diretora artística da São Paulo Companhia de Dança. \nA abertura dos espetáculos ficará por conta do Laboratório da Dança Fernanda Araújo\, com a obra ÉTER\, dirigida por Fernanda Araújo\, que também assina a coreografia ao lado de Eduardo Menezes e Cintia Nogueira. Em ambas as sessões\, a SPCD apresenta sua versão do Grand Pas de Deux de Dom Quixote; Ataraxia\, de George Céspedes; e A Vingança dos Flamingos\, que é o destaque da noite\, de Carlos Pons Guerra.” \nAs apresentações da São Paulo Companhia de Dança em Santa Bárbara d’Oeste são realizadas pelo Ministério da Cultura\, Governo do Estado de São Paulo\, por meio da Secretaria da Cultura\, Economia e Indústria Criativas e São Paulo Companhia de Dança via Lei de Incentivo à Cultura Lei Rouanet\, Ministério da Cultura e Governo Federal União e Reconstrução. Patrocínio Itaú. \nFICHAS TÉCNICAS: \nGrand Pas de Deux de Dom Quixote (2012) \nCoreografia: na versão da SPCD\, a partir do original de 1869 de Marius Petipa (1818-1910) \nMúsica: Leon Minkus (1826-1917) \nIluminação: Wagner Freire \nFigurinos: Tânia Agra \nAtaraxia (2025)\nCoreografia: George Céspedes\nAssistência de Coreografia: Aymara Rodrigues\nMúsicas: Trilha original de George Céspedes; Count To Six And Die (The Vacuum Of Infinite Space Encompassing)\, de Marilyn Manson e John Lowery\, The Golden Age Of Grotesque\, de Brian Warner e Tim Skold\, ambas interpretadas por Marilyn Manson; Candil De Nieve\, de Raúl Torres\, interpretada por Pablo Milanés.\nFigurino: Marco Lima\nIluminação: André Boll \n  \n*Atenção: a obra apresenta cena com efeito estroboscópico que pode afetar espectadores fotossensíveis.
URL:https://culturasbo.com/evento/autorretrato-de-leilane-teles-grand-pas-de-deux-de-dom-quixote-na-versao-da-spc-sao-paulo-companhia-de-danca-2/
LOCATION:Teatro Municipal Manoel Lyra\, Rua João XXIII\, 61 - Centro\, Santa Bárbara d'Oeste\, SP\, 13450-040\, Brasil
CATEGORIES:Apresentação Artística,Dança,Espetáculo,Teatro
ATTACH;FMTTYPE=image/jpeg:https://culturasbo.com/wp-content/uploads/2025/04/Ataraxia-by-George-Cespedes-Photo-by-Iari-Davies-1.jpg
END:VEVENT
END:VCALENDAR