BEGIN:VCALENDAR
VERSION:2.0
PRODID:-//Secretaria Municipal de Cultura e Turismo - ECPv6.15.13//NONSGML v1.0//EN
CALSCALE:GREGORIAN
METHOD:PUBLISH
X-ORIGINAL-URL:https://culturasbo.com
X-WR-CALDESC:Eventos para Secretaria Municipal de Cultura e Turismo
REFRESH-INTERVAL;VALUE=DURATION:PT1H
X-Robots-Tag:noindex
X-PUBLISHED-TTL:PT1H
BEGIN:VTIMEZONE
TZID:America/Sao_Paulo
BEGIN:STANDARD
TZOFFSETFROM:-0300
TZOFFSETTO:-0300
TZNAME:-03
DTSTART:20240101T000000
END:STANDARD
END:VTIMEZONE
BEGIN:VEVENT
DTSTART;TZID=America/Sao_Paulo:20250918T093000
DTEND;TZID=America/Sao_Paulo:20250918T093000
DTSTAMP:20260424T055859
CREATED:20250901T151539Z
LAST-MODIFIED:20250905T122210Z
UID:16139-1758187800-1758187800@culturasbo.com
SUMMARY:E o Sol Avermelhou... - Cia Arte-Móvel - Cena Bárbara
DESCRIPTION:Classificação: Livre \nEntrada: Gratuita \nInformações: (19) 3458-5868
URL:https://culturasbo.com/evento/e-o-sol-avermelhou-cena-barbara/
LOCATION:CEU das Artes\, R. Argeu Egídio dos Santos\, 100 - Planalto do Sol II\, Santa Bárbara d'Oeste\, São Paulo\, Brasil
CATEGORIES:Teatro
END:VEVENT
BEGIN:VEVENT
DTSTART;TZID=America/Sao_Paulo:20250918T200000
DTEND;TZID=America/Sao_Paulo:20250918T200000
DTSTAMP:20260424T055859
CREATED:20250901T152216Z
LAST-MODIFIED:20250905T122406Z
UID:16142-1758225600-1758225600@culturasbo.com
SUMMARY:Salve Ela! Carolina Maria de Jesus em Cena - Os Ciclomáticos - Cena Bárbara
DESCRIPTION:Classificação: 10 anos \nEntrada: Gratuita \nInformações: (19) 3458-5868
URL:https://culturasbo.com/evento/salva-ela-carolina-maria-de-jesus-em-cena-cena-barbara/
LOCATION:CEU das Artes\, R. Argeu Egídio dos Santos\, 100 - Planalto do Sol II\, Santa Bárbara d'Oeste\, São Paulo\, Brasil
CATEGORIES:Teatro
END:VEVENT
BEGIN:VEVENT
DTSTART;TZID=America/Sao_Paulo:20250919T200000
DTEND;TZID=America/Sao_Paulo:20250919T200000
DTSTAMP:20260424T055859
CREATED:20250901T152625Z
LAST-MODIFIED:20250905T122438Z
UID:16144-1758312000-1758312000@culturasbo.com
SUMMARY:WWW Para Freedom - Barracão Teatro - Cena Bárbara
DESCRIPTION:Classificação: 12 anos \nEntrada: Gratuita \nInformações: (19) 3458-5868
URL:https://culturasbo.com/evento/www-para-freedom-cena-barbara/
LOCATION:CEU das Artes\, R. Argeu Egídio dos Santos\, 100 - Planalto do Sol II\, Santa Bárbara d'Oeste\, São Paulo\, Brasil
CATEGORIES:Teatro
END:VEVENT
BEGIN:VEVENT
DTSTART;TZID=America/Sao_Paulo:20250920T200000
DTEND;TZID=America/Sao_Paulo:20250920T200000
DTSTAMP:20260424T055859
CREATED:20250901T162620Z
LAST-MODIFIED:20250905T122555Z
UID:16146-1758398400-1758398400@culturasbo.com
SUMMARY:A Travessia do Grão Profundo - Núcleo Caatinga da Cia Teatral Avatar - Cena Bárbara
DESCRIPTION:Classificação: 14 anos \nEntrada: Gratuita \nInformações: (19) 3458-5868
URL:https://culturasbo.com/evento/a-travessia-do-grao-profundo-cena-barbara-clone/
LOCATION:CEU das Artes\, R. Argeu Egídio dos Santos\, 100 - Planalto do Sol II\, Santa Bárbara d'Oeste\, São Paulo\, Brasil
CATEGORIES:Teatro
END:VEVENT
BEGIN:VEVENT
DTSTART;TZID=America/Sao_Paulo:20250921T200000
DTEND;TZID=America/Sao_Paulo:20250921T200000
DTSTAMP:20260424T055859
CREATED:20250901T162855Z
LAST-MODIFIED:20250905T122651Z
UID:16148-1758484800-1758484800@culturasbo.com
SUMMARY:E Se Fôssemos Baleias - Coletivo A Digna - Cena Bárbara
DESCRIPTION:Classificação: 1o anos \nEntrada: Gratuita \nInformações: (19) 3458-5868
URL:https://culturasbo.com/evento/e-se-fossemos-baleia-cena-barbara/
LOCATION:CEU das Artes\, R. Argeu Egídio dos Santos\, 100 - Planalto do Sol II\, Santa Bárbara d'Oeste\, São Paulo\, Brasil
CATEGORIES:Teatro
END:VEVENT
BEGIN:VEVENT
DTSTART;TZID=America/Sao_Paulo:20250922T100000
DTEND;TZID=America/Sao_Paulo:20250922T100000
DTSTAMP:20260424T055859
CREATED:20250901T162919Z
LAST-MODIFIED:20250905T122746Z
UID:16151-1758535200-1758535200@culturasbo.com
SUMMARY:E Se Fôssemos Baleia - Coletivo A Digna - Cena Bárbara
DESCRIPTION:Classificação: 1o anos \nEntrada: Gratuita \nInformações: (19) 3458-5868
URL:https://culturasbo.com/evento/e-se-fossemos-baleia-cena-barbara-2/
LOCATION:CEU das Artes\, R. Argeu Egídio dos Santos\, 100 - Planalto do Sol II\, Santa Bárbara d'Oeste\, São Paulo\, Brasil
CATEGORIES:Teatro
END:VEVENT
BEGIN:VEVENT
DTSTART;TZID=America/Sao_Paulo:20250925T200000
DTEND;TZID=America/Sao_Paulo:20250925T200000
DTSTAMP:20260424T055859
CREATED:20250901T163033Z
LAST-MODIFIED:20250905T122911Z
UID:16153-1758830400-1758830400@culturasbo.com
SUMMARY:O Arquediabo e o Camponês - Rabugentos Cia Teatral - Cena Bárbara
DESCRIPTION:Classificação: Livre \nEntrada: Gratuita \nInformações: (19) 3458-5868
URL:https://culturasbo.com/evento/o-arquediabo-e-o-campones-cena-barbara/
LOCATION:CEU das Artes\, R. Argeu Egídio dos Santos\, 100 - Planalto do Sol II\, Santa Bárbara d'Oeste\, São Paulo\, Brasil
CATEGORIES:Teatro
END:VEVENT
BEGIN:VEVENT
DTSTART;TZID=America/Sao_Paulo:20250926T140000
DTEND;TZID=America/Sao_Paulo:20250926T140000
DTSTAMP:20260424T055859
CREATED:20250901T163234Z
LAST-MODIFIED:20250905T122939Z
UID:16155-1758895200-1758895200@culturasbo.com
SUMMARY:As Aventuras de Pedro Malasartes - Cia Xekmat - Cena Bárbara
DESCRIPTION:Classificação: Livre \nEntrada: Gratuita \nInformações: (19) 3458-5868
URL:https://culturasbo.com/evento/as-aventuras-de-pedro-malasartes-cena-barbara/
LOCATION:CEU das Artes\, R. Argeu Egídio dos Santos\, 100 - Planalto do Sol II\, Santa Bárbara d'Oeste\, São Paulo\, Brasil
CATEGORIES:Teatro
END:VEVENT
BEGIN:VEVENT
DTSTART;TZID=America/Sao_Paulo:20250927T150000
DTEND;TZID=America/Sao_Paulo:20250927T150000
DTSTAMP:20260424T055859
CREATED:20250901T163406Z
LAST-MODIFIED:20250905T123033Z
UID:16157-1758985200-1758985200@culturasbo.com
SUMMARY:Sputinik II e Outras Histórias Caninas - Cia do Trailer -Cena Bárbara
DESCRIPTION:Classificação: Livre \nEntrada: Gratuita \nInformações: (19) 3458-5868
URL:https://culturasbo.com/evento/sputinik-ii-e-outras-historias-caninas-cena-barbara/
LOCATION:CEU das Artes\, R. Argeu Egídio dos Santos\, 100 - Planalto do Sol II\, Santa Bárbara d'Oeste\, São Paulo\, Brasil
CATEGORIES:Teatro
END:VEVENT
BEGIN:VEVENT
DTSTART;TZID=America/Sao_Paulo:20250927T200000
DTEND;TZID=America/Sao_Paulo:20250927T200000
DTSTAMP:20260424T055859
CREATED:20250901T165106Z
LAST-MODIFIED:20250905T123112Z
UID:16159-1759003200-1759003200@culturasbo.com
SUMMARY:Isadora - Alma em trânsito - Grupo Lumos - Cena Bárbara
DESCRIPTION:Classificação: 14 anos \nEntrada: Gratuita \nInformações: (19) 3458-5868
URL:https://culturasbo.com/evento/isadora-alma-em-transito-cena-barbara/
LOCATION:CEU das Artes\, R. Argeu Egídio dos Santos\, 100 - Planalto do Sol II\, Santa Bárbara d'Oeste\, São Paulo\, Brasil
CATEGORIES:Teatro
END:VEVENT
BEGIN:VEVENT
DTSTART;TZID=America/Sao_Paulo:20250927T200000
DTEND;TZID=America/Sao_Paulo:20250927T200000
DTSTAMP:20260424T055859
CREATED:20250901T165144Z
LAST-MODIFIED:20250905T123548Z
UID:16161-1759003200-1759003200@culturasbo.com
SUMMARY:Sabores Esquecidos - Trupe Dona Formiga - Cena Bárbara
DESCRIPTION:Classificação: 14 anos \nEntrada: Gratuita \nInformações: (19) 3458-5868
URL:https://culturasbo.com/evento/sabores-esquecidos-cena-barbara/
LOCATION:CEU das Artes\, R. Argeu Egídio dos Santos\, 100 - Planalto do Sol II\, Santa Bárbara d'Oeste\, São Paulo\, Brasil
CATEGORIES:Teatro
END:VEVENT
END:VCALENDAR