BEGIN:VCALENDAR
VERSION:2.0
PRODID:-//Secretaria Municipal de Cultura e Turismo - ECPv6.15.13//NONSGML v1.0//EN
CALSCALE:GREGORIAN
METHOD:PUBLISH
X-WR-CALNAME:Secretaria Municipal de Cultura e Turismo
X-ORIGINAL-URL:https://culturasbo.com
X-WR-CALDESC:Eventos para Secretaria Municipal de Cultura e Turismo
REFRESH-INTERVAL;VALUE=DURATION:PT1H
X-Robots-Tag:noindex
X-PUBLISHED-TTL:PT1H
BEGIN:VTIMEZONE
TZID:America/Sao_Paulo
BEGIN:STANDARD
TZOFFSETFROM:-0300
TZOFFSETTO:-0300
TZNAME:-03
DTSTART:20230101T000000
END:STANDARD
END:VTIMEZONE
BEGIN:VEVENT
DTSTART;TZID=America/Sao_Paulo:20240309T200000
DTEND;TZID=America/Sao_Paulo:20240309T200000
DTSTAMP:20260425T072527
CREATED:20240308T133110Z
LAST-MODIFIED:20241008T114505Z
UID:12402-1710014400-1710014400@culturasbo.com
SUMMARY:“...E o Sol Avermelhou”
DESCRIPTION:Acessibilidade: Tradução simultânea em Libras e Audiodescrição \nClassificação: Livre \nEntrada: Gratuita \nInformações: 19 999553099 \nSinopse: “O Sol Avermelhou” e uma pequena família de retirantes migra de vilarejo em vilarejo em busca dos bens naturais perdidos. Andam\, perambulam e caminham\, os andejos. No curso dessa vereda avistam um místico povoado\, onde descobrem que somente a “Filha da Terra” poderá restaurar o equilíbrio e salvar a humanidade. \nFicha técnica: \nEspetáculo: “…E o Sol Avermelhou” \nConcepção e direção: Otávio Delaneza \nDramaturgia: Denis Espanhol \nTrilha Sonora Original: Giovanni Bonfim \nCenografia: Otávio Delaneza e Vinícius Pestana \nConfecção de painéis: Ateliê Sérgio Fronza \nCostura: Dulce Pestana \nFigurinos: Otávio Delaneza \nCostura: Catarina Pizol\, Marlon Pizol e Dulce Pestana \nElenco: Brunna Oliveira\, Gabriel Mazon\, Lays Ramires e Helton Carlos \n 
URL:https://culturasbo.com/evento/e-o-sol-avermelhou/
LOCATION:Centro Cultural e Biblioteca “Prof° Léo Assad Sallum”\, Rua: do Algodão\, 1450 - Cidade Nova\, Santa Bárbara d'Oeste\, SP\, 13454-170\, Brasil
CATEGORIES:Teatro
ATTACH;FMTTYPE=image/jpeg:https://culturasbo.com/wp-content/uploads/2024/03/FOTO-ATUALIZADA.jpg
END:VEVENT
END:VCALENDAR