BEGIN:VCALENDAR
VERSION:2.0
PRODID:-//Secretaria Municipal de Cultura e Turismo - ECPv6.15.13//NONSGML v1.0//EN
CALSCALE:GREGORIAN
METHOD:PUBLISH
X-WR-CALNAME:Secretaria Municipal de Cultura e Turismo
X-ORIGINAL-URL:https://culturasbo.com
X-WR-CALDESC:Eventos para Secretaria Municipal de Cultura e Turismo
REFRESH-INTERVAL;VALUE=DURATION:PT1H
X-Robots-Tag:noindex
X-PUBLISHED-TTL:PT1H
BEGIN:VTIMEZONE
TZID:America/Sao_Paulo
BEGIN:STANDARD
TZOFFSETFROM:-0300
TZOFFSETTO:-0300
TZNAME:-03
DTSTART:20230101T000000
END:STANDARD
END:VTIMEZONE
BEGIN:VEVENT
DTSTART;TZID=America/Sao_Paulo:20240326T200000
DTEND;TZID=America/Sao_Paulo:20240331T220000
DTSTAMP:20260425T072456
CREATED:20231219T142355Z
LAST-MODIFIED:20241008T114505Z
UID:12013-1711483200-1711922400@culturasbo.com
SUMMARY:Espetáculo Via Crucis
DESCRIPTION:26 A 31 DE MARÇO • 20H • COMPLEXO USINA SANTA BÁRBARA\nENTRADA GRATUITA \nMais informações no site: culturasbo.com/espetaculoviacrucis \nA 25ª edição do espetáculo Via Crucis traz um tributo à mulher-mãe e ao ventre materno. O viés da edição dos 25 anos é a presença expressiva das mulheres dentro do projeto que sempre induz a pesquisar a importância da figura feminina tanto nas Escrituras Sagradas quanto nas Fontes Históricas de modo a dar oportunidade para que estejam como protagonistas nessa encenação. \n 
URL:https://culturasbo.com/evento/espetaculo-via-crucis/
LOCATION:Complexo Usina Santa Bárbara\, Rua Aristeo Carlos Pereira\, Santa Bárbara d'Oeste\, São Paulo\, Brasil
CATEGORIES:Teatro
ATTACH;FMTTYPE=image/jpeg:https://culturasbo.com/wp-content/uploads/2023/12/Fundo-Feed-Mobile.jpg
END:VEVENT
END:VCALENDAR