BEGIN:VCALENDAR
VERSION:2.0
PRODID:-//Secretaria Municipal de Cultura e Turismo - ECPv6.15.13//NONSGML v1.0//EN
CALSCALE:GREGORIAN
METHOD:PUBLISH
X-WR-CALNAME:Secretaria Municipal de Cultura e Turismo
X-ORIGINAL-URL:https://culturasbo.com
X-WR-CALDESC:Eventos para Secretaria Municipal de Cultura e Turismo
REFRESH-INTERVAL;VALUE=DURATION:PT1H
X-Robots-Tag:noindex
X-PUBLISHED-TTL:PT1H
BEGIN:VTIMEZONE
TZID:America/Sao_Paulo
BEGIN:STANDARD
TZOFFSETFROM:-0300
TZOFFSETTO:-0300
TZNAME:-03
DTSTART:20240101T000000
END:STANDARD
END:VTIMEZONE
BEGIN:VEVENT
DTSTART;TZID=America/Sao_Paulo:20250612T200000
DTEND;TZID=America/Sao_Paulo:20250612T200000
DTSTAMP:20260424T121910
CREATED:20250529T161903Z
LAST-MODIFIED:20250610T110612Z
UID:15763-1749758400-1749758400@culturasbo.com
SUMMARY:EVENTO CANCELADO - Vigiar e Punir - Teatro de Animação - Grupo Caravan Maschera
DESCRIPTION:  \n \n  \nClassificação: 16 anos \nEntrada: Gratuito (retirar 1 hora antes do evento) \nInformações: (19)  3464-9424 \n  \nDescrição do Espetáculo: “Vigiar e Punir” é uma adaptação do influente trabalho de Michel Foucault\, que explora o poder e a disciplina nas sociedades modernas. O espetáculo utiliza bonecos\, bufões e comicidade para ilustrar como as práticas de vigilância e controle moldam a vida dos indivíduos e como a sensação de impotência é gerada pela internalização das normas e pela vigilância constante. \nDescritivo da História de Caravan Maschera: A Cia Caravan Maschera Teatro foi fundada em 2010 por Leonardo Garcia Gonçalves e Giorgia Goldoni. Leonardo finalizava suas pesquisas de mestrado em estudos teatrais na Universidade de Paris quando encontra-se com Giorgia\, italiana formada na escola de belas artes da Universidade de Bolonha. Naquele momento\, ambos trilhavam os caminhos enigmáticos que oscilam entre a máscara\, o palhaço\, o bufão e os bonecos. Entre 2010 e 2012 participam de um projeto europeu apoiado pela União Europeia\, no qual\, junto de outros 10 artistas de cinco nacionalidades\, participam de uma formação itinerante entre França\, Espanha\, República Tcheca\, Alemanha e Itália\, cuja linguagem converge formas cênicas voltadas para a visualidade e para o teatro de bonecos. Iniciam em 2012 seus primeiros trabalhos no Brasil\, na zona rural da cidade de Atibaia\, interior de São Paulo.  \n  \nFicha técnica- vigiar e punir   \nProdução:  Caravan Maschera Teatro\nDireção e encenação: Leonardo Garcia Gonçalves\nTexto:  Livre adaptação da obra de Michel Foucault \nElenco: Leonardo Garcia Gonçalves e Rafael Salgado\nBonecos: Leonardo Garcia Gonçalves\, Giorgia Goldoni\, Fernanda Paredes \nCenografia: Leonardo Garcia Gonçalves\, Ganto e Giorgia Goldoni\nFigurino: Kledir Salgado e Giorgia Goldoni\nTrilha sonora: Rafael Vanazzi\n Edição de diálogos: Leonardo Garcia Gonçalves \n\nDesigner de luz:  Leonardo Garcia Gonçalves\nOperação de luz: Bruno Garcia\nVozes dos bonecos: Leonardo Garcia Gonçalves  e Giorgia Goldoni  \n Assessoria de imprensa: Canal Aberto
URL:https://culturasbo.com/evento/vigiar-e-punir-teatro-de-animacao-grupo-caravan-maschera/
LOCATION:Teatro Municipal Manoel Lyra\, Rua João XXIII\, 61 - Centro\, Santa Bárbara d'Oeste\, SP\, 13450-040\, Brasil
CATEGORIES:Espetáculo,Teatro
END:VEVENT
END:VCALENDAR