BEGIN:VCALENDAR
VERSION:2.0
PRODID:-//Secretaria Municipal de Cultura e Turismo - ECPv6.15.13//NONSGML v1.0//EN
CALSCALE:GREGORIAN
METHOD:PUBLISH
X-WR-CALNAME:Secretaria Municipal de Cultura e Turismo
X-ORIGINAL-URL:https://culturasbo.com
X-WR-CALDESC:Eventos para Secretaria Municipal de Cultura e Turismo
REFRESH-INTERVAL;VALUE=DURATION:PT1H
X-Robots-Tag:noindex
X-PUBLISHED-TTL:PT1H
BEGIN:VTIMEZONE
TZID:America/Sao_Paulo
BEGIN:STANDARD
TZOFFSETFROM:-0300
TZOFFSETTO:-0300
TZNAME:-03
DTSTART:20250101T000000
END:STANDARD
END:VTIMEZONE
BEGIN:VEVENT
DTSTART;TZID=America/Sao_Paulo:20260331T133000
DTEND;TZID=America/Sao_Paulo:20260331T133000
DTSTAMP:20260423T165815
CREATED:20260302T154432Z
LAST-MODIFIED:20260302T154432Z
UID:17502-1774963800-1774963800@culturasbo.com
SUMMARY:Mundo Sonha Mundo
DESCRIPTION:Classificação: Livre \nEntrada: Gratuita \nInformações: (19) 3458-5868
URL:https://culturasbo.com/evento/mundo-sonha-mundo/
LOCATION:CEU das Artes\, R. Argeu Egídio dos Santos\, 100 - Planalto do Sol II\, Santa Bárbara d'Oeste\, São Paulo\, Brasil
CATEGORIES:Teatro
END:VEVENT
END:VCALENDAR