BEGIN:VCALENDAR
VERSION:2.0
PRODID:-//Secretaria Municipal de Cultura e Turismo - ECPv6.15.13//NONSGML v1.0//EN
CALSCALE:GREGORIAN
METHOD:PUBLISH
X-ORIGINAL-URL:https://culturasbo.com
X-WR-CALDESC:Eventos para Secretaria Municipal de Cultura e Turismo
REFRESH-INTERVAL;VALUE=DURATION:PT1H
X-Robots-Tag:noindex
X-PUBLISHED-TTL:PT1H
BEGIN:VTIMEZONE
TZID:America/Sao_Paulo
BEGIN:STANDARD
TZOFFSETFROM:-0300
TZOFFSETTO:-0300
TZNAME:-03
DTSTART:20230101T000000
END:STANDARD
END:VTIMEZONE
BEGIN:VEVENT
DTSTART;VALUE=DATE:20240317
DTEND;VALUE=DATE:20240325
DTSTAMP:20260425T090702
CREATED:20231219T141415Z
LAST-MODIFIED:20241008T114505Z
UID:12009-1710633600-1711324799@culturasbo.com
SUMMARY:Semana do Artesão
DESCRIPTION:
URL:https://culturasbo.com/evento/semana-do-artesao/
LOCATION:São Paulo
CATEGORIES:Workshop
ATTACH;FMTTYPE=image/jpeg:https://culturasbo.com/wp-content/uploads/2023/12/Semana-do-Artesao-1.jpg
END:VEVENT
END:VCALENDAR