BEGIN:VCALENDAR
VERSION:2.0
PRODID:-//Secretaria Municipal de Cultura e Turismo - ECPv6.15.13//NONSGML v1.0//EN
CALSCALE:GREGORIAN
METHOD:PUBLISH
X-WR-CALNAME:Secretaria Municipal de Cultura e Turismo
X-ORIGINAL-URL:https://culturasbo.com
X-WR-CALDESC:Eventos para Secretaria Municipal de Cultura e Turismo
REFRESH-INTERVAL;VALUE=DURATION:PT1H
X-Robots-Tag:noindex
X-PUBLISHED-TTL:PT1H
BEGIN:VTIMEZONE
TZID:America/Sao_Paulo
BEGIN:STANDARD
TZOFFSETFROM:-0300
TZOFFSETTO:-0300
TZNAME:-03
DTSTART:20240101T000000
END:STANDARD
END:VTIMEZONE
BEGIN:VEVENT
DTSTART;TZID=America/Sao_Paulo:20250202T190000
DTEND;TZID=America/Sao_Paulo:20250202T220000
DTSTAMP:20260424T193340
CREATED:20250123T162657Z
LAST-MODIFIED:20250123T162657Z
UID:14982-1738522800-1738533600@culturasbo.com
SUMMARY:Oficina / Via Crucis
DESCRIPTION:Classificação: Livre \nAs oficinas/ensaios estão acontecendo em dias específicos da semana. \nMais informações no site: culturasbo.com/espetaculoviacrucis \n 
URL:https://culturasbo.com/evento/oficina-via-crucis-5/
LOCATION:Teatro Municipal Manoel Lyra\, Rua João XXIII\, 61 - Centro\, Santa Bárbara d'Oeste\, SP\, 13450-040\, Brasil
CATEGORIES:Teatro,Workshop
END:VEVENT
BEGIN:VEVENT
DTSTART;TZID=America/Sao_Paulo:20250205T190000
DTEND;TZID=America/Sao_Paulo:20250205T220000
DTSTAMP:20260424T193340
CREATED:20250123T162806Z
LAST-MODIFIED:20250123T162806Z
UID:14983-1738782000-1738792800@culturasbo.com
SUMMARY:Oficina / Via Crucis
DESCRIPTION:Classificação: Livre \nAs oficinas/ensaios estão acontecendo em dias específicos da semana. \nMais informações no site: culturasbo.com/espetaculoviacrucis \n 
URL:https://culturasbo.com/evento/oficina-via-crucis-6/
LOCATION:Teatro Municipal Manoel Lyra\, Rua João XXIII\, 61 - Centro\, Santa Bárbara d'Oeste\, SP\, 13450-040\, Brasil
CATEGORIES:Teatro,Workshop
END:VEVENT
BEGIN:VEVENT
DTSTART;TZID=America/Sao_Paulo:20250207T190000
DTEND;TZID=America/Sao_Paulo:20250207T220000
DTSTAMP:20260424T193340
CREATED:20250123T163125Z
LAST-MODIFIED:20250123T163125Z
UID:14988-1738954800-1738965600@culturasbo.com
SUMMARY:Oficina / Via Crucis
DESCRIPTION:Classificação: Livre \nAs oficinas/ensaios estão acontecendo em dias específicos da semana. \nMais informações no site: culturasbo.com/espetaculoviacrucis \n 
URL:https://culturasbo.com/evento/oficina-via-crucis-8/
LOCATION:Teatro Municipal Manoel Lyra\, Rua João XXIII\, 61 - Centro\, Santa Bárbara d'Oeste\, SP\, 13450-040\, Brasil
CATEGORIES:Teatro,Workshop
END:VEVENT
BEGIN:VEVENT
DTSTART;TZID=America/Sao_Paulo:20250209T190000
DTEND;TZID=America/Sao_Paulo:20250209T220000
DTSTAMP:20260424T193340
CREATED:20250123T163404Z
LAST-MODIFIED:20250123T163404Z
UID:14992-1739127600-1739138400@culturasbo.com
SUMMARY:Oficina / Via Crucis
DESCRIPTION:Classificação: Livre \nAs oficinas/ensaios estão acontecendo em dias específicos da semana. \nMais informações no site: culturasbo.com/espetaculoviacrucis \n 
URL:https://culturasbo.com/evento/oficina-via-crucis-9/
LOCATION:Teatro Municipal Manoel Lyra\, Rua João XXIII\, 61 - Centro\, Santa Bárbara d'Oeste\, SP\, 13450-040\, Brasil
CATEGORIES:Teatro,Workshop
END:VEVENT
BEGIN:VEVENT
DTSTART;TZID=America/Sao_Paulo:20250212T190000
DTEND;TZID=America/Sao_Paulo:20250212T220000
DTSTAMP:20260424T193340
CREATED:20250123T170821Z
LAST-MODIFIED:20250123T170821Z
UID:15004-1739386800-1739397600@culturasbo.com
SUMMARY:Oficina / Via Crucis
DESCRIPTION:Classificação: Livre \nAs oficinas/ensaios estão acontecendo em dias específicos da semana. \nMais informações no site: culturasbo.com/espetaculoviacrucis \n 
URL:https://culturasbo.com/evento/oficina-via-crucis-10/
LOCATION:Teatro Municipal Manoel Lyra\, Rua João XXIII\, 61 - Centro\, Santa Bárbara d'Oeste\, SP\, 13450-040\, Brasil
CATEGORIES:Teatro,Workshop
END:VEVENT
BEGIN:VEVENT
DTSTART;TZID=America/Sao_Paulo:20250214T190000
DTEND;TZID=America/Sao_Paulo:20250214T220000
DTSTAMP:20260424T193340
CREATED:20250123T171637Z
LAST-MODIFIED:20250123T171637Z
UID:15008-1739559600-1739570400@culturasbo.com
SUMMARY:Oficina / Via Crucis
DESCRIPTION:Classificação: Livre \nAs oficinas/ensaios estão acontecendo em dias específicos da semana. \nMais informações no site: culturasbo.com/espetaculoviacrucis \n 
URL:https://culturasbo.com/evento/oficina-via-crucis-11/
LOCATION:Teatro Municipal Manoel Lyra\, Rua João XXIII\, 61 - Centro\, Santa Bárbara d'Oeste\, SP\, 13450-040\, Brasil
CATEGORIES:Teatro,Workshop
END:VEVENT
BEGIN:VEVENT
DTSTART;TZID=America/Sao_Paulo:20250216T190000
DTEND;TZID=America/Sao_Paulo:20250216T220000
DTSTAMP:20260424T193340
CREATED:20250123T171904Z
LAST-MODIFIED:20250123T171904Z
UID:15010-1739732400-1739743200@culturasbo.com
SUMMARY:Oficina / Via Crucis
DESCRIPTION:Classificação: Livre \nAs oficinas/ensaios estão acontecendo em dias específicos da semana. \nMais informações no site: culturasbo.com/espetaculoviacrucis \n 
URL:https://culturasbo.com/evento/oficina-via-crucis-12/
LOCATION:Teatro Municipal Manoel Lyra\, Rua João XXIII\, 61 - Centro\, Santa Bárbara d'Oeste\, SP\, 13450-040\, Brasil
CATEGORIES:Teatro,Workshop
END:VEVENT
BEGIN:VEVENT
DTSTART;TZID=America/Sao_Paulo:20250219T190000
DTEND;TZID=America/Sao_Paulo:20250219T220000
DTSTAMP:20260424T193340
CREATED:20250123T173755Z
LAST-MODIFIED:20250123T173833Z
UID:15012-1739991600-1740002400@culturasbo.com
SUMMARY:Oficina / Via Crucis
DESCRIPTION:Classificação: Livre \nAs oficinas/ensaios estão acontecendo em dias específicos da semana. \nMais informações no site: culturasbo.com/espetaculoviacrucis
URL:https://culturasbo.com/evento/oficina-via-crucis-13/
LOCATION:Teatro Municipal Manoel Lyra\, Rua João XXIII\, 61 - Centro\, Santa Bárbara d'Oeste\, SP\, 13450-040\, Brasil
CATEGORIES:Teatro,Workshop
END:VEVENT
BEGIN:VEVENT
DTSTART;TZID=America/Sao_Paulo:20250221T190000
DTEND;TZID=America/Sao_Paulo:20250221T220000
DTSTAMP:20260424T193340
CREATED:20250204T195221Z
LAST-MODIFIED:20250204T195221Z
UID:15063-1740164400-1740175200@culturasbo.com
SUMMARY:Oficina / Via Crucis
DESCRIPTION:Classificação: Livre \nAs oficinas/ensaios estão acontecendo em dias específicos da semana. \nMais informações no site: culturasbo.com/espetaculoviacrucis
URL:https://culturasbo.com/evento/oficina-via-crucis-21/
LOCATION:Teatro Municipal Manoel Lyra\, Rua João XXIII\, 61 - Centro\, Santa Bárbara d'Oeste\, SP\, 13450-040\, Brasil
CATEGORIES:Teatro,Workshop
END:VEVENT
BEGIN:VEVENT
DTSTART;TZID=America/Sao_Paulo:20250221T190000
DTEND;TZID=America/Sao_Paulo:20250221T220000
DTSTAMP:20260424T193340
CREATED:20250204T195835Z
LAST-MODIFIED:20250204T195835Z
UID:15069-1740164400-1740175200@culturasbo.com
SUMMARY:Oficina / Via Crucis
DESCRIPTION:Classificação: Livre \nAs oficinas/ensaios estão acontecendo em dias específicos da semana. \nMais informações no site: culturasbo.com/espetaculoviacrucis
URL:https://culturasbo.com/evento/oficina-via-crucis-23-02/
LOCATION:Teatro Municipal Manoel Lyra\, Rua João XXIII\, 61 - Centro\, Santa Bárbara d'Oeste\, SP\, 13450-040\, Brasil
CATEGORIES:Teatro,Workshop
END:VEVENT
BEGIN:VEVENT
DTSTART;TZID=America/Sao_Paulo:20250226T190000
DTEND;TZID=America/Sao_Paulo:20250226T220000
DTSTAMP:20260424T193340
CREATED:20250204T200106Z
LAST-MODIFIED:20250204T200258Z
UID:15071-1740596400-1740607200@culturasbo.com
SUMMARY:Oficina / Via Crucis
DESCRIPTION:Classificação: Livre \nAs oficinas/ensaios estão acontecendo em dias específicos da semana. \nMais informações no site: culturasbo.com/espetaculoviacrucis
URL:https://culturasbo.com/evento/oficina-via-crucis-26-02/
LOCATION:Teatro Municipal Manoel Lyra\, Rua João XXIII\, 61 - Centro\, Santa Bárbara d'Oeste\, SP\, 13450-040\, Brasil
CATEGORIES:Teatro,Workshop
END:VEVENT
BEGIN:VEVENT
DTSTART;TZID=America/Sao_Paulo:20250228T190000
DTEND;TZID=America/Sao_Paulo:20250228T220000
DTSTAMP:20260424T193340
CREATED:20250204T200421Z
LAST-MODIFIED:20250204T200436Z
UID:15073-1740769200-1740780000@culturasbo.com
SUMMARY:Oficina / Via Crucis
DESCRIPTION:Classificação: Livre \nAs oficinas/ensaios estão acontecendo em dias específicos da semana. \nMais informações no site: culturasbo.com/espetaculoviacrucis
URL:https://culturasbo.com/evento/oficina-via-crucis-28-02/
LOCATION:Teatro Municipal Manoel Lyra\, Rua João XXIII\, 61 - Centro\, Santa Bárbara d'Oeste\, SP\, 13450-040\, Brasil
CATEGORIES:Teatro,Workshop
END:VEVENT
END:VCALENDAR