BEGIN:VCALENDAR
VERSION:2.0
PRODID:-//Secretaria Municipal de Cultura e Turismo - ECPv6.15.13//NONSGML v1.0//EN
CALSCALE:GREGORIAN
METHOD:PUBLISH
X-WR-CALNAME:Secretaria Municipal de Cultura e Turismo
X-ORIGINAL-URL:https://culturasbo.com
X-WR-CALDESC:Eventos para Secretaria Municipal de Cultura e Turismo
REFRESH-INTERVAL;VALUE=DURATION:PT1H
X-Robots-Tag:noindex
X-PUBLISHED-TTL:PT1H
BEGIN:VTIMEZONE
TZID:America/Sao_Paulo
BEGIN:STANDARD
TZOFFSETFROM:-0300
TZOFFSETTO:-0300
TZNAME:-03
DTSTART:20240101T000000
END:STANDARD
END:VTIMEZONE
BEGIN:VEVENT
DTSTART;TZID=America/Sao_Paulo:20250401T090000
DTEND;TZID=America/Sao_Paulo:20250513T130000
DTSTAMP:20260424T073128
CREATED:20250331T164456Z
LAST-MODIFIED:20250331T164456Z
UID:15355-1743498000-1747141200@culturasbo.com
SUMMARY:Feira de Artesanato
DESCRIPTION:Data: Dia 01\, 02\, 03\, 04\, 05\, 07\, 08\, 09\, 10\, 11 e 12 \nSegunda à sexta: 9h às 16h \nSábado: 9h às 13h \nClassificação: Livre \nEntrada: Gratuita
URL:https://culturasbo.com/evento/feira-de-artesanato-2/
LOCATION:Praça Central\, Vila Macnight\, Santa Bárbara d'Oeste\, SP\, 13450-013
CATEGORIES:Feira
END:VEVENT
BEGIN:VEVENT
DTSTART;TZID=America/Sao_Paulo:20250415T180000
DTEND;TZID=America/Sao_Paulo:20250603T200000
DTSTAMP:20260424T073128
CREATED:20250331T163531Z
LAST-MODIFIED:20250331T163531Z
UID:15347-1744740000-1748980800@culturasbo.com
SUMMARY:Oficina - Produção Cartoneira: da Escrita à Produção Independente - Douglas Fonseca
DESCRIPTION:Classificação: Livre \nEntrada: Gratuita \nInforamções: (19) 3458-5868
URL:https://culturasbo.com/evento/oficina-producao-cartoneira-da-escrita-a-producao-independente-douglas-fonseca/
LOCATION:CEU das Artes\, R. Argeu Egídio dos Santos\, 100 - Planalto do Sol II\, Santa Bárbara d'Oeste\, São Paulo\, Brasil
END:VEVENT
BEGIN:VEVENT
DTSTART;TZID=America/Sao_Paulo:20250505T090000
DTEND;TZID=America/Sao_Paulo:20250520T170000
DTSTAMP:20260424T073128
CREATED:20250506T124331Z
LAST-MODIFIED:20250506T183751Z
UID:15578-1746435600-1747760400@culturasbo.com
SUMMARY:Exposição: "O silêncio que grita"
DESCRIPTION:Classificação: Livre \nEntrada: Gratuita \nHorário: 9h às 12h e 13h às 17h \nSinopse:\nDe 05 a 20 de maio\, a mostra traz painéis que fazem o registro de pessoas e do cotidiano da Villa de Santa Bárbara no século XIX\, que visam incluir a perspectiva das populações que\, até o momento\, estão invisibilizadas pela historiografia local de Santa Bárbara d’Oeste.
URL:https://culturasbo.com/evento/exposicao-o-silencio-que-grita/
LOCATION:Centro Cultural e Biblioteca “Prof° Léo Assad Sallum”\, Rua: do Algodão\, 1450 - Cidade Nova\, Santa Bárbara d'Oeste\, SP\, 13454-170\, Brasil
CATEGORIES:Exposição
ATTACH;FMTTYPE=image/jpeg:https://culturasbo.com/wp-content/uploads/2025/05/exposicao-leo-sallum-scaled.jpeg
END:VEVENT
BEGIN:VEVENT
DTSTART;TZID=America/Sao_Paulo:20250509T130000
DTEND;TZID=America/Sao_Paulo:20250509T140000
DTSTAMP:20260424T073128
CREATED:20250506T125344Z
LAST-MODIFIED:20250506T125344Z
UID:15590-1746795600-1746799200@culturasbo.com
SUMMARY:Palestra: O silêncio que grita
DESCRIPTION:Palestra ministrada por Sidney Bomfim tem como tema a exposição do mesmo nome trazendo os registros da Villa de Santa Bárbara no século XIX
URL:https://culturasbo.com/evento/palestra-o-silencio-que-grita-3/
LOCATION:Centro Cultural e Biblioteca “Prof° Léo Assad Sallum”\, Rua: do Algodão\, 1450 - Cidade Nova\, Santa Bárbara d'Oeste\, SP\, 13454-170\, Brasil
END:VEVENT
BEGIN:VEVENT
DTSTART;TZID=America/Sao_Paulo:20250509T183000
DTEND;TZID=America/Sao_Paulo:20250509T223000
DTSTAMP:20260424T073128
CREATED:20250506T123632Z
LAST-MODIFIED:20250506T123853Z
UID:15572-1746815400-1746829800@culturasbo.com
SUMMARY:Happy Hour da Corporação Musical União Barbarense
DESCRIPTION:Classificação: Livre \nEntrada: Gratuita \nInformações: (19) 99696-6734 \nSinopse:\nEvento aberto ao público com apresentação da Corporação Musical. \nVai ter lanche de pernil\, cuscuz mole\, doces e bebidas. \nTerá karaokê\, para participar fazer a inscrição no dia.
URL:https://culturasbo.com/evento/happy-hour-da-corporacao-musical-uniao-barbarense-3/
LOCATION:Museu da Imigração\, R. João Lino\, 371 - Centro\, Santa Bárbara d'Oeste\, SP\, 13450-001\, Brasil
CATEGORIES:Evento
ATTACH;FMTTYPE=image/jpeg:https://culturasbo.com/wp-content/uploads/2024/05/FOTO-ATUALIZADA-2.jpg
END:VEVENT
BEGIN:VEVENT
DTSTART;TZID=America/Sao_Paulo:20250510T180000
DTEND;TZID=America/Sao_Paulo:20250510T180000
DTSTAMP:20260424T073128
CREATED:20250506T123332Z
LAST-MODIFIED:20250506T123332Z
UID:15570-1746900000-1746900000@culturasbo.com
SUMMARY:Batalha do CEU
DESCRIPTION:Classificação: Livre \nEntrada: Gratuita \nInformações: (19) 3458-5868
URL:https://culturasbo.com/evento/batalha-do-ceu-5/
LOCATION:CEU das Artes\, R. Argeu Egídio dos Santos\, 100 - Planalto do Sol II\, Santa Bárbara d'Oeste\, São Paulo\, Brasil
CATEGORIES:Apresentação Artística,Evento,Música,Show
END:VEVENT
BEGIN:VEVENT
DTSTART;TZID=America/Sao_Paulo:20250513T130000
DTEND;TZID=America/Sao_Paulo:20250513T140000
DTSTAMP:20260424T073128
CREATED:20250506T125418Z
LAST-MODIFIED:20250506T125418Z
UID:15592-1747141200-1747144800@culturasbo.com
SUMMARY:Palestra: O silêncio que grita
DESCRIPTION:Palestra ministrada por Sidney Bomfim tem como tema a exposição do mesmo nome trazendo os registros da Villa de Santa Bárbara no século XIX
URL:https://culturasbo.com/evento/palestra-o-silencio-que-grita-4/
LOCATION:Centro Cultural e Biblioteca “Prof° Léo Assad Sallum”\, Rua: do Algodão\, 1450 - Cidade Nova\, Santa Bárbara d'Oeste\, SP\, 13454-170\, Brasil
END:VEVENT
BEGIN:VEVENT
DTSTART;TZID=America/Sao_Paulo:20250515T080000
DTEND;TZID=America/Sao_Paulo:20250515T090000
DTSTAMP:20260424T073128
CREATED:20250506T125509Z
LAST-MODIFIED:20250506T125509Z
UID:15594-1747296000-1747299600@culturasbo.com
SUMMARY:Palestra: O silêncio que grita
DESCRIPTION:Palestra ministrada por Sidney Bomfim tem como tema a exposição do mesmo nome trazendo os registros da Villa de Santa Bárbara no século XIX
URL:https://culturasbo.com/evento/palestra-o-silencio-que-grita-5/
LOCATION:Centro Cultural e Biblioteca “Prof° Léo Assad Sallum”\, Rua: do Algodão\, 1450 - Cidade Nova\, Santa Bárbara d'Oeste\, SP\, 13454-170\, Brasil
END:VEVENT
BEGIN:VEVENT
DTSTART;TZID=America/Sao_Paulo:20250516T090000
DTEND;TZID=America/Sao_Paulo:20250516T100000
DTSTAMP:20260424T073128
CREATED:20250506T125549Z
LAST-MODIFIED:20250506T125549Z
UID:15596-1747386000-1747389600@culturasbo.com
SUMMARY:Palestra: O silêncio que grita
DESCRIPTION:Palestra ministrada por Sidney Bomfim tem como tema a exposição do mesmo nome trazendo os registros da Villa de Santa Bárbara no século XIX
URL:https://culturasbo.com/evento/palestra-o-silencio-que-grita-6/
LOCATION:Centro Cultural e Biblioteca “Prof° Léo Assad Sallum”\, Rua: do Algodão\, 1450 - Cidade Nova\, Santa Bárbara d'Oeste\, SP\, 13454-170\, Brasil
END:VEVENT
BEGIN:VEVENT
DTSTART;TZID=America/Sao_Paulo:20250516T190000
DTEND;TZID=America/Sao_Paulo:20250516T190000
DTSTAMP:20260424T073128
CREATED:20250428T142958Z
LAST-MODIFIED:20250428T142958Z
UID:15466-1747422000-1747422000@culturasbo.com
SUMMARY:Apresentação Musicas para o Dia das Mães - Colégio Cristão Único
DESCRIPTION:Classificação: Livre \nEVENTO FECHADO \nInformações: (19) 3464-9424
URL:https://culturasbo.com/evento/apresentacao-musicas-para-o-dia-das-maes-colegio-cristao-unico/
LOCATION:Teatro Municipal Manoel Lyra\, Rua João XXIII\, 61 - Centro\, Santa Bárbara d'Oeste\, SP\, 13450-040\, Brasil
END:VEVENT
BEGIN:VEVENT
DTSTART;TZID=America/Sao_Paulo:20250517T133000
DTEND;TZID=America/Sao_Paulo:20250517T180000
DTSTAMP:20260424T073128
CREATED:20250506T113755Z
LAST-MODIFIED:20250506T183544Z
UID:15551-1747488600-1747504800@culturasbo.com
SUMMARY:Mulheres Conectadas pela Arte (PNAB)
DESCRIPTION:Clique aqui para Inscrição para Mulheres Conectadas pela Arte. \nO projeto visa não apenas oferecer capacitação técnica e empreendedora\, mas também promover o bem-estar físico e emocional das participantes. A programação inclui workshops\, palestras inspiradoras\, yoga\, ginástica laboral e rodas de conversa com foco em saúde mental e autoestima. \nO projeto “Mulheres Conectadas pela Arte” é realizado com recurso da Lei de incentivo PNAB (Política Nacional Aldir Blanc)\, por meio do Ministério da Cultura\, Governo Federal e Prefeitura de Santa Bárbara d’ Oeste\, por meio da Secretaria Municipal de Cultura e Turismo\, com patrocínio da Estilotex e Ateliê Lilica Artes e apoio da Feltros Santa Fé\, Tekbond Artesanato e Fitas Gitex.
URL:https://culturasbo.com/evento/mulheres-conectadas-pela-arte-2/
LOCATION:Centro de Memórias\, R. João Lino\, 362 - Centro\, Santa Bárbara d'Oeste\, São Paulo\, 13450-033\, Brasil
ATTACH;FMTTYPE=image/jpeg:https://culturasbo.com/wp-content/uploads/2025/05/2357c1eb074396d6d6f393be70311664.jpg
END:VEVENT
BEGIN:VEVENT
DTSTART;TZID=America/Sao_Paulo:20250517T190000
DTEND;TZID=America/Sao_Paulo:20250517T190000
DTSTAMP:20260424T073128
CREATED:20250428T143627Z
LAST-MODIFIED:20250428T144824Z
UID:15468-1747508400-1747508400@culturasbo.com
SUMMARY:Aniversário de 25 Anos Asas da Paz Kotekitai - Banda Musical da Juventude Soka
DESCRIPTION:Classificação: Livre \nEntrada: Gratuita (mediante doação de alimento ou produtos de limpeza) \nReservas de ingressos no site: https://www.sympla.com.br/evento/concertojuventude-\nsoka—-25-anos-kotekitai/2913470www.ingressodigital.com \nInformações: (19) 3464-9424 \nSinopse: Asas da Paz Kotekitai celebrará seus 25 anos com uma jornada sonora emocionante\, explorando diferentes estilos musicais. O concerto trará ao palco o melhor do repertório da banda\, com músicas que celebram a paz\, a união e a diversidade\, características que definem o estilo autêntico e envolvente do grupo. Prepare-se para uma noite de muita música e uma performance vibrante.
URL:https://culturasbo.com/evento/aniversario-de-25-anos-asas-da-paz-kotekitai-banda-musical-da-juventude-soka/
LOCATION:Teatro Municipal Manoel Lyra\, Rua João XXIII\, 61 - Centro\, Santa Bárbara d'Oeste\, SP\, 13450-040\, Brasil
CATEGORIES:Música
ATTACH;FMTTYPE=image/jpeg:https://culturasbo.com/wp-content/uploads/2025/04/FOTO-2.jpg
END:VEVENT
BEGIN:VEVENT
DTSTART;TZID=America/Sao_Paulo:20250518T120000
DTEND;TZID=America/Sao_Paulo:20250518T170000
DTSTAMP:20260424T073128
CREATED:20250506T112429Z
LAST-MODIFIED:20250506T113055Z
UID:15545-1747569600-1747587600@culturasbo.com
SUMMARY:Samb’Ajuda – Roda de Samba
DESCRIPTION:Classificação: Livre \nEntrada: Gratuita (mediante doação de alimento ou leite) \nInformações: (19) 3455-5082
URL:https://culturasbo.com/evento/sambajuda-roda-de-samba-2/
LOCATION:Museu da Imigração\, R. João Lino\, 371 - Centro\, Santa Bárbara d'Oeste\, SP\, 13450-001\, Brasil
ATTACH;FMTTYPE=image/jpeg:https://culturasbo.com/wp-content/uploads/2025/05/DSC_4389-scaled.jpg
END:VEVENT
BEGIN:VEVENT
DTSTART;TZID=America/Sao_Paulo:20250518T120000
DTEND;TZID=America/Sao_Paulo:20250518T180000
DTSTAMP:20260424T073128
CREATED:20250506T122918Z
LAST-MODIFIED:20250506T122918Z
UID:15564-1747569600-1747591200@culturasbo.com
SUMMARY:Samba de Madureira
DESCRIPTION:Classificação: Livre \nEntrada: Gratuita \nInformações: (19) 3458-5868
URL:https://culturasbo.com/evento/samba-de-madureira-3/
LOCATION:CEU das Artes\, R. Argeu Egídio dos Santos\, 100 - Planalto do Sol II\, Santa Bárbara d'Oeste\, São Paulo\, Brasil
CATEGORIES:Apresentação Artística,Dança,Música,Show
END:VEVENT
BEGIN:VEVENT
DTSTART;TZID=America/Sao_Paulo:20250524T083000
DTEND;TZID=America/Sao_Paulo:20250524T170000
DTSTAMP:20260424T073128
CREATED:20250506T123125Z
LAST-MODIFIED:20250506T123125Z
UID:15566-1748075400-1748106000@culturasbo.com
SUMMARY:Encontro de Câmaras Setoriais
DESCRIPTION:
URL:https://culturasbo.com/evento/encontro-de-camaras-setoriais/
LOCATION:CEU das Artes -“Ariovaldo Inácio – ‘Vardão’”\, Rua: Argeu Egídio dos Santos\, 100 - Planalto do Sol II\, Santa Bárbara d'Oeste\, SP\, 13453-842\, Brasil
CATEGORIES:Reunião
END:VEVENT
BEGIN:VEVENT
DTSTART;TZID=America/Sao_Paulo:20250524T133000
DTEND;TZID=America/Sao_Paulo:20250524T180000
DTSTAMP:20260424T073128
CREATED:20250506T113753Z
LAST-MODIFIED:20250506T113753Z
UID:15548-1748093400-1748109600@culturasbo.com
SUMMARY:Mulheres Conectadas pela Arte
DESCRIPTION:Clique aqui para Inscrição para Mulheres Conectadas pela Arte. \nO projeto visa não apenas oferecer capacitação técnica e empreendedora\, mas também promover o bem-estar físico e emocional das participantes. A programação inclui workshops\, palestras inspiradoras\, yoga\, ginástica laboral e rodas de conversa com foco em saúde mental e autoestima. \nO projeto “Mulheres Conectadas pela Arte” é realizado com recurso da Lei de incentivo PNAB (Política Nacional Aldir Blanc)\, por meio do Ministério da Cultura\, Governo Federal e Prefeitura de Santa Bárbara d’ Oeste\, por meio da Secretaria Municipal de Cultura e Turismo\, com patrocínio da Estilotex e Ateliê Lilica Artes e apoio da Feltros Santa Fé\, Tekbond Artesanato e Fitas Gitex.
URL:https://culturasbo.com/evento/mulheres-conectadas-pela-arte/
LOCATION:Centro de Memórias\, R. João Lino\, 362 - Centro\, Santa Bárbara d'Oeste\, São Paulo\, 13450-033\, Brasil
ATTACH;FMTTYPE=image/jpeg:https://culturasbo.com/wp-content/uploads/2025/05/2357c1eb074396d6d6f393be70311664.jpg
END:VEVENT
BEGIN:VEVENT
DTSTART;TZID=America/Sao_Paulo:20250524T190000
DTEND;TZID=America/Sao_Paulo:20250524T190000
DTSTAMP:20260424T073128
CREATED:20250512T154559Z
LAST-MODIFIED:20250512T165427Z
UID:15630-1748113200-1748113200@culturasbo.com
SUMMARY:Documentário - Passos de Vida: Uma Escola de Dança - Laboratório da Dança Fernanda Araujo
DESCRIPTION:Classificação: Livre \nEntrada: Gratuita (Os ingressos podem ser retirados antecipadamente na secretaria do Laboratório da Dança Fernanda Araújo) \nInformações: (19) 92003-8133 \nDocumentário acessível em libras \n  \nSinopse: Passos de Vida: 25 anos da Escola que Dança é um documentário que percorre os caminhos trilhados por uma escola que\, há um quarto de século\, pulsa no coração de Santa Bárbara d’Oeste. Nascida do legado de uma pioneira — fundadora da primeira escola de dança da cidade — e hoje conduzida por sua filha\, essa história atravessa gerações\, tecendo sonhos com os fios da tradição\, da arte e do afeto.  \nMais do que um espaço de ensino\, a escola é um lar de encontros e transformações. O documentário mergulha nas vivências de alunos\, professores e colaboradores\, revelando como a dança se entrelaça às suas jornadas\, dando forma a conquistas\, superações e laços profundos. Entre festivais\, projetos sociais e movimentos solidários\, emerge uma comunidade onde cada passo ecoa pertencimento. \nRealizado pelo Laboratório da Dança Fernanda Araújo\, o projeto conta com recursos da Lei Paulo Gustavo\, por meio do Ministério da Cultura\, Governo Federal\, Secretaria Municipal de Cultura e Turismo\, e Prefeitura Municipal de Santa Bárbara d’Oeste. \n  \nFicha técnica: \nDireção Geral e Artística: Fernanda Araújo \nPesquisa e Curadoria: Fernanda Araújo \nProdução e Comunicação Visual: Thaís Godoy \nSonoplastia: Helena Macchi \nProfessores e Equipe:  \nAna Laura Bagarolo \nCintia Nogueira \nFernanda Araújo \nHelena Macchi \nMichele Bueno \nThaís Godoy \nCinegrafista | Edição de Audiovisual: Imaginario Filmes \nTradução em Libras: Victor Pascoalini
URL:https://culturasbo.com/evento/documentario-passos-de-vida-uma-escola-de-danca-laboratorio-da-danca-fernanda-araujo/
LOCATION:Anfiteatro Municipal Detinha Dagnoni\, Av. Monte Castelo\, nº 1000 - Jd. Primavera\, Santa Bárbara d'Oetse\, SP\, 13450-032\, Brasil
CATEGORIES:Audiovisual,Documentário
ATTACH;FMTTYPE=image/jpeg:https://culturasbo.com/wp-content/uploads/2025/05/Fotografia_Divulgacao2-1.jpg
END:VEVENT
BEGIN:VEVENT
DTSTART;TZID=America/Sao_Paulo:20250524T193000
DTEND;TZID=America/Sao_Paulo:20250524T193000
DTSTAMP:20260424T073128
CREATED:20250428T144132Z
LAST-MODIFIED:20250430T114257Z
UID:15471-1748115000-1748115000@culturasbo.com
SUMMARY:4° Edição Gala - Festival de Dança - Cia Dança e Teatro JK
DESCRIPTION:Classificação: Livre \nEntrada: R$ 90\,00 (inteira)\, R$ 45\,00 (meia/antecipado) \nIngressos no site: www.entravip.com.br \nInformações: (19) 99248-5656 / 19 3464-9424 \nSinopse: A nossa 4ª Gala é um Festival de Dança que pretende encerrar o semestre com elegância e muita dança\, proporcionando aos nossos alunos e alunas o prazer de vivenciar a experiência única de estar no palco. A noite será abrilhantada por coreografias dos nossos grupos competitivos\, assim como das turmas regulares de todas as modalidades\, todas especialmente preparadas para esta ocasião especial.
URL:https://culturasbo.com/evento/4-edicao-gala-festival-de-danca-cia-danca-e-teatro-jk/
LOCATION:Teatro Municipal Manoel Lyra\, Rua João XXIII\, 61 - Centro\, Santa Bárbara d'Oeste\, SP\, 13450-040\, Brasil
CATEGORIES:Apresentação Artística,Dança
ATTACH;FMTTYPE=image/jpeg:https://culturasbo.com/wp-content/uploads/2025/04/FOTO-1.jpg
END:VEVENT
BEGIN:VEVENT
DTSTART;TZID=America/Sao_Paulo:20250525T120000
DTEND;TZID=America/Sao_Paulo:20250525T180000
DTSTAMP:20260424T073128
CREATED:20250506T122347Z
LAST-MODIFIED:20250506T183524Z
UID:15556-1748174400-1748196000@culturasbo.com
SUMMARY:Toca Raiz Aí Nego - A Origem do Samba (PNAB)
DESCRIPTION:Um espetáculo\, onde haverá homenagens\, em formato de poesia\, música e interpretação\, para quatro ícones que contribuíram para a construção do samba. Sendo eles: Cartola\, Jovelina Pérola Negra\, Ivone Lara e Candeia\, contando parte de suas histórias\, com imagens e suas respectivas canções.
URL:https://culturasbo.com/evento/toca-raiz-ai-nego-a-origem-do-samba/
LOCATION:Centro de Memórias\, R. João Lino\, 362 - Centro\, Santa Bárbara d'Oeste\, São Paulo\, 13450-033\, Brasil
ATTACH;FMTTYPE=image/jpeg:https://culturasbo.com/wp-content/uploads/2025/05/IMG_1501.jpg
END:VEVENT
BEGIN:VEVENT
DTSTART;TZID=America/Sao_Paulo:20250525T150000
DTEND;TZID=America/Sao_Paulo:20250525T180000
DTSTAMP:20260424T073128
CREATED:20250506T123246Z
LAST-MODIFIED:20250506T123246Z
UID:15568-1748185200-1748196000@culturasbo.com
SUMMARY:Batalha do CEU
DESCRIPTION:Classificação: Livre \nEntrada: Gratuita \nInformações: (19) 3458-5868
URL:https://culturasbo.com/evento/batalha-do-ceu-4/
LOCATION:CEU das Artes\, R. Argeu Egídio dos Santos\, 100 - Planalto do Sol II\, Santa Bárbara d'Oeste\, São Paulo\, Brasil
CATEGORIES:Apresentação Artística,Evento,Música,Show
END:VEVENT
BEGIN:VEVENT
DTSTART;TZID=America/Sao_Paulo:20250531T133000
DTEND;TZID=America/Sao_Paulo:20250531T180000
DTSTAMP:20260424T073128
CREATED:20250506T113757Z
LAST-MODIFIED:20250506T113757Z
UID:15550-1748698200-1748714400@culturasbo.com
SUMMARY:Mulheres Conectadas pela Arte
DESCRIPTION:Clique aqui para Inscrição para Mulheres Conectadas pela Arte. \nO projeto visa não apenas oferecer capacitação técnica e empreendedora\, mas também promover o bem-estar físico e emocional das participantes. A programação inclui workshops\, palestras inspiradoras\, yoga\, ginástica laboral e rodas de conversa com foco em saúde mental e autoestima. \nO projeto “Mulheres Conectadas pela Arte” é realizado com recurso da Lei de incentivo PNAB (Política Nacional Aldir Blanc)\, por meio do Ministério da Cultura\, Governo Federal e Prefeitura de Santa Bárbara d’ Oeste\, por meio da Secretaria Municipal de Cultura e Turismo\, com patrocínio da Estilotex e Ateliê Lilica Artes e apoio da Feltros Santa Fé\, Tekbond Artesanato e Fitas Gitex.
URL:https://culturasbo.com/evento/mulheres-conectadas-pela-arte-3/
LOCATION:Centro de Memórias\, R. João Lino\, 362 - Centro\, Santa Bárbara d'Oeste\, São Paulo\, 13450-033\, Brasil
ATTACH;FMTTYPE=image/jpeg:https://culturasbo.com/wp-content/uploads/2025/05/2357c1eb074396d6d6f393be70311664.jpg
END:VEVENT
BEGIN:VEVENT
DTSTART;TZID=America/Sao_Paulo:20250531T190000
DTEND;TZID=America/Sao_Paulo:20250531T220000
DTSTAMP:20260424T073128
CREATED:20250506T123909Z
LAST-MODIFIED:20250522T174225Z
UID:15576-1748718000-1748728800@culturasbo.com
SUMMARY:Exposição: Desenho e Pintura da Escola de Arte - Studio Art
DESCRIPTION:A exposição é composta de desenhos e pinturas realizadas pelos alunos da escola de arte\, Studio Art. Para essa amostra utilizou várias técnicas e temas para a construção das obras. (período de 31/05 a 20/06)
URL:https://culturasbo.com/evento/exposicao-desenho-e-pintura-da-escola-de-arte-studio-art/
LOCATION:Museu da Imigração\, R. João Lino\, 371 - Centro\, Santa Bárbara d'Oeste\, SP\, 13450-001\, Brasil
CATEGORIES:Evento
END:VEVENT
BEGIN:VEVENT
DTSTART;TZID=America/Sao_Paulo:20250602T090000
DTEND;TZID=America/Sao_Paulo:20250613T170000
DTSTAMP:20260424T073128
CREATED:20250605T111657Z
LAST-MODIFIED:20250605T111657Z
UID:15907-1748854800-1749834000@culturasbo.com
SUMMARY:Exposição - Um Trator Nacional para a Agricultura Brasileira
DESCRIPTION:De 2 a 13 de Junho\, das 9h às 13h e das 13h às 17h \nClassificação: Livre \nEntrada: Gratuita \nInformações: (19) 3457-4627
URL:https://culturasbo.com/evento/exposicao-um-trator-nacional-para-a-agricultura-brasileira/
LOCATION:Centro Cultural e Biblioteca “Prof° Léo Assad Sallum”\, Rua: do Algodão\, 1450 - Cidade Nova\, Santa Bárbara d'Oeste\, SP\, 13454-170\, Brasil
CATEGORIES:Exposição
END:VEVENT
BEGIN:VEVENT
DTSTART;TZID=America/Sao_Paulo:20250602T090000
DTEND;TZID=America/Sao_Paulo:20250614T160000
DTSTAMP:20260424T073128
CREATED:20250603T120558Z
LAST-MODIFIED:20250603T120558Z
UID:15853-1748854800-1749916800@culturasbo.com
SUMMARY:Feira de Artesanato de Santa Bárbara
DESCRIPTION:Data: Dia 2\, 3\, 4\, 5\, 6\, 7\, 9\, 10\, 11\, 12\, 13\, 14 \nSegunda à sexta: 9h às 16h \nSábado: 9h às 13h \nClassificação: Livre \nEntrada: Gratuita
URL:https://culturasbo.com/evento/feira-de-artesanato-de-santa-barbara/
LOCATION:Praça Central\, Vila Macnight\, Santa Bárbara d'Oeste\, SP\, 13450-013
CATEGORIES:Feira
END:VEVENT
BEGIN:VEVENT
DTSTART;TZID=America/Sao_Paulo:20250604T200000
DTEND;TZID=America/Sao_Paulo:20250604T200000
DTSTAMP:20260424T073128
CREATED:20250529T151748Z
LAST-MODIFIED:20250529T161015Z
UID:15757-1749067200-1749067200@culturasbo.com
SUMMARY:Espetáculo - Starlight Músicas Clássicas
DESCRIPTION:  \nClassificação: Livre \nEntrada: R$ 140\,00 (inteira)\,R$ 70\,00 (meia/antecipado) \nIngressos no site: www.ingressodigital.com ou bilheteria do teatro \nInformações: (19)  3464-9424 \n  \nSinopse: Vivencie uma noite inesquecível\, onde a magia da música se encontra com a luz\nsuave das velas! O Starlight Concerts traz sua mais recente edição\, celebrando\ngrandes compositores\, em que a beleza das velas se mistura à grandiosidade das\nobras mais icônicas da música clássica.\nEm um ambiente acolhedor e intimista\, sob a luz suave das velas\, os\nespectadores serão transportados para um universo sonoro repleto de emoções\nintensas e delicadezas incomparáveis. Nesta edição\, o público terá o privilégio\nde ouvir algumas das peças mais icônicas de compositores que marcaram a\nhistória da música clássica\, como Ludwig van Beethoven\, Johann Sebastian\nBach\, Frédéric Chopin\, Wolfgang Amadeus Mozart e Antonio Vivaldi. Cada uma\ndessas obras-primas irá emocionar os presentes\, proporcionando uma\nexperiência única que celebra o legado desses mestres da música clássica.\nO Starlight Concerts é uma oportunidade única de viver a magia da música\nclássica em um ambiente sofisticado e intimista\, onde a luz das velas cria uma\natmosfera de pura contemplação e prazer. Não perca a chance de se emocionar\ne se encantar com as composições que continuam a tocar corações ao redor do\nmundo\, geração após geração.
URL:https://culturasbo.com/evento/espetaculo-starlight-musicas-classicas/
LOCATION:Teatro Municipal Manoel Lyra\, Rua João XXIII\, 61 - Centro\, Santa Bárbara d'Oeste\, SP\, 13450-040\, Brasil
CATEGORIES:Espetáculo,Música
END:VEVENT
BEGIN:VEVENT
DTSTART;TZID=America/Sao_Paulo:20250605T200000
DTEND;TZID=America/Sao_Paulo:20250605T200000
DTSTAMP:20260424T073128
CREATED:20250603T114040Z
LAST-MODIFIED:20250603T114040Z
UID:15823-1749153600-1749153600@culturasbo.com
SUMMARY:Circo Teatro Biriba
DESCRIPTION:Classificação: Livre \nEntrada: Gratuita \nInformações: (19) 3458-5868
URL:https://culturasbo.com/evento/circo-teatro-biriba/
LOCATION:CEU das Artes\, R. Argeu Egídio dos Santos\, 100 - Planalto do Sol II\, Santa Bárbara d'Oeste\, São Paulo\, Brasil
CATEGORIES:Circo
END:VEVENT
BEGIN:VEVENT
DTSTART;TZID=America/Sao_Paulo:20250606T183000
DTEND;TZID=America/Sao_Paulo:20250606T230000
DTSTAMP:20260424T073128
CREATED:20250603T122038Z
LAST-MODIFIED:20250603T140626Z
UID:15856-1749234600-1749250800@culturasbo.com
SUMMARY:Happy Hour - Corporação Musical "COMUB"
DESCRIPTION:Classificação: Livre \nEntrada: Gratuita \nInformações: (19) 3455-7000 \nSinopse: Evento aberto ao público com apresentação da Corporação Musical. Terá karaokê\, Prça de alimentaçãoe Feira de Artesanato
URL:https://culturasbo.com/evento/happy-hour-corporacao-musical-comub/
LOCATION:Museu da Imigração\, R. João Lino\, 371 - Centro\, Santa Bárbara d'Oeste\, SP\, 13450-001\, Brasil
CATEGORIES:Evento,Música
ATTACH;FMTTYPE=image/jpeg:https://culturasbo.com/wp-content/uploads/2024/05/FOTO-ATUALIZADA-2.jpg
END:VEVENT
BEGIN:VEVENT
DTSTART;TZID=America/Sao_Paulo:20250606T190000
DTEND;TZID=America/Sao_Paulo:20250606T190000
DTSTAMP:20260424T073128
CREATED:20250529T143918Z
LAST-MODIFIED:20250604T152603Z
UID:15753-1749236400-1749236400@culturasbo.com
SUMMARY:Desfiles de Coleções de Moda - Alunos de Design de Moda da FATEC Americana
DESCRIPTION:Classificação: Livre \nEntrada: Evento fechado \nInformações: (19)  3464-9424 \n 
URL:https://culturasbo.com/evento/desfiles-de-colecoes-de-moda-alunos-de-design-de-moda-da-fatec-americana/
LOCATION:Anfiteatro Municipal Detinha Dagnoni\, Av. Monte Castelo\, nº 1000 - Jd. Primavera\, Santa Bárbara d'Oetse\, SP\, 13450-032\, Brasil
END:VEVENT
BEGIN:VEVENT
DTSTART;TZID=America/Sao_Paulo:20250606T190000
DTEND;TZID=America/Sao_Paulo:20250606T220000
DTSTAMP:20260424T073128
CREATED:20250506T123717Z
LAST-MODIFIED:20250522T174146Z
UID:15573-1749236400-1749247200@culturasbo.com
SUMMARY:Exposição: Desenho Realista Du Dominici
DESCRIPTION:Obras desenvolvidas na técnica “Hiper Realismo em Grafite”\, disponibilizando aos visitantes a experiência de observar ao vivo os minuciosos detalhes que um desenho realista possui. Além de obras inéditas\, estarão expostas as duas obras originais que foram expostas no Salão Internacional de Arte Contemporânea\, Carrousel du Louvre – Museu du Louvre em Paris – França.  \n(período da exposição de 6 a 20 de maio)
URL:https://culturasbo.com/evento/exposicao-desenho-realista-du-dominici/
LOCATION:Museu da Imigração\, R. João Lino\, 371 - Centro\, Santa Bárbara d'Oeste\, SP\, 13450-001\, Brasil
CATEGORIES:Evento
ATTACH;FMTTYPE=image/jpeg:https://culturasbo.com/wp-content/uploads/2025/05/WhatsApp-Image-2025-04-29-at-16.03.50.jpeg
END:VEVENT
BEGIN:VEVENT
DTSTART;TZID=America/Sao_Paulo:20250606T200000
DTEND;TZID=America/Sao_Paulo:20250606T200000
DTSTAMP:20260424T073128
CREATED:20250603T114119Z
LAST-MODIFIED:20250603T114119Z
UID:15826-1749240000-1749240000@culturasbo.com
SUMMARY:Circo Teatro Biriba
DESCRIPTION:Classificação: Livre \nEntrada: Gratuita \nInformações: (19) 3458-5868
URL:https://culturasbo.com/evento/circo-teatro-biriba-2/
LOCATION:CEU das Artes\, R. Argeu Egídio dos Santos\, 100 - Planalto do Sol II\, Santa Bárbara d'Oeste\, São Paulo\, Brasil
CATEGORIES:Circo
END:VEVENT
END:VCALENDAR