BEGIN:VCALENDAR
VERSION:2.0
PRODID:-//Secretaria Municipal de Cultura e Turismo - ECPv6.15.13//NONSGML v1.0//EN
CALSCALE:GREGORIAN
METHOD:PUBLISH
X-WR-CALNAME:Secretaria Municipal de Cultura e Turismo
X-ORIGINAL-URL:https://culturasbo.com
X-WR-CALDESC:Eventos para Secretaria Municipal de Cultura e Turismo
REFRESH-INTERVAL;VALUE=DURATION:PT1H
X-Robots-Tag:noindex
X-PUBLISHED-TTL:PT1H
BEGIN:VTIMEZONE
TZID:America/Sao_Paulo
BEGIN:STANDARD
TZOFFSETFROM:-0300
TZOFFSETTO:-0300
TZNAME:-03
DTSTART:20250101T000000
END:STANDARD
END:VTIMEZONE
BEGIN:VEVENT
DTSTART;TZID=America/Sao_Paulo:20260410T183000
DTEND;TZID=America/Sao_Paulo:20260410T230000
DTSTAMP:20260423T194215
CREATED:20260415T175828Z
LAST-MODIFIED:20260415T175828Z
UID:17546-1775845800-1775862000@culturasbo.com
SUMMARY:Happy Hour no Museu
DESCRIPTION:Classificação: Livre \nEntrada: Gratuita \nInformações: (19) 3455-7000 \nO happy hour é para arrecadar fundos para a corporação\, com karaokê e alimentação. Um encontro especial para soltar a voz e reunir amigos.
URL:https://culturasbo.com/evento/happy-hour-no-museu-abril-2026/
LOCATION:Museu da Imigração\, R. João Lino\, 371 - Centro\, Santa Bárbara d'Oeste\, SP\, 13450-001\, Brasil
CATEGORIES:Evento,Reunião
END:VEVENT
BEGIN:VEVENT
DTSTART;TZID=America/Sao_Paulo:20260414T090000
DTEND;TZID=America/Sao_Paulo:20260515T170000
DTSTAMP:20260423T194215
CREATED:20260415T185212Z
LAST-MODIFIED:20260415T185212Z
UID:17548-1776157200-1778864400@culturasbo.com
SUMMARY:Exposição "Águas que me embebedam"
DESCRIPTION:Exposição: “Águas que me embebedam”\nArtista plástico: João Paulo Ramos\nPeríodo: 14 de abril a 15 de maio \nHorário: De terça à sexta\, das 9h às 12h e das 13h às 17h\nExcepcionalmente dia 08 de maio\, sexta-feira\, das 9h às 12h – 13h às 17h e das 18h às 22h \nSinopse: \nA água mencionada no título da exposição é\, na verdade\, uma metáfora. A partir dela\, são desenvolvidas obras que transitam por diferentes universos\, situando-se entre o sagrado e o profano\, o onírico e o utópico. O conjunto das obras cria um universo lúdico\, repleto de cores\, formas e texturas\, convidando o espectador a uma experiência visual agradável\, capaz de despertar curiosidade e provocar reflexões. As obras e flâmulas são produzidas a partir de materiais como lona de caminhão e algodão cru\, explorando técnicas mistas em suportes diversos\, como tela\, madeira e a própria lona. \n  \nLocal: Museu da Imigração\nWebsite da divulgação: @joaoarte36\nClassificação: livre\nContato de informações: (19) 99661-3918
URL:https://culturasbo.com/evento/exposicao-aguas-que-me-embebedam/
LOCATION:Museu da Imigração\, R. João Lino\, 371 - Centro\, Santa Bárbara d'Oeste\, SP\, 13450-001\, Brasil
CATEGORIES:Exposição
ATTACH;FMTTYPE=image/jpeg:https://culturasbo.com/wp-content/uploads/2026/04/WhatsApp-Image-2026-04-01-at-11.31.57.jpeg
END:VEVENT
BEGIN:VEVENT
DTSTART;TZID=America/Sao_Paulo:20260414T093000
DTEND;TZID=America/Sao_Paulo:20260414T103000
DTSTAMP:20260423T194215
CREATED:20260415T185721Z
LAST-MODIFIED:20260415T190726Z
UID:17551-1776159000-1776162600@culturasbo.com
SUMMARY:Projeto Nas Asas da Leitura
DESCRIPTION:Horário: 9h30 \nClassificação: Livre \nEntrada: Gratuita
URL:https://culturasbo.com/evento/projeto-nas-asas-da-leitura-01/
LOCATION:Centro Cultural e Biblioteca “Prof° Léo Assad Sallum”\, Rua: do Algodão\, 1450 - Cidade Nova\, Santa Bárbara d'Oeste\, SP\, 13454-170\, Brasil
CATEGORIES:Contação de Histórias
END:VEVENT
BEGIN:VEVENT
DTSTART;TZID=America/Sao_Paulo:20260415T093000
DTEND;TZID=America/Sao_Paulo:20260415T100000
DTSTAMP:20260423T194215
CREATED:20260415T190431Z
LAST-MODIFIED:20260415T190635Z
UID:17553-1776245400-1776247200@culturasbo.com
SUMMARY:Projeto Nas Asas da Leitura
DESCRIPTION:Horário: 9h30 e 15h \nClassificação: Livre \nEntrada: Gratuita
URL:https://culturasbo.com/evento/projeto-nas-asas-da-leitura-02/
LOCATION:Centro Cultural e Biblioteca “Prof° Léo Assad Sallum”\, Rua: do Algodão\, 1450 - Cidade Nova\, Santa Bárbara d'Oeste\, SP\, 13454-170\, Brasil
CATEGORIES:Contação de Histórias
END:VEVENT
BEGIN:VEVENT
DTSTART;TZID=America/Sao_Paulo:20260417T093000
DTEND;TZID=America/Sao_Paulo:20260417T100000
DTSTAMP:20260423T194215
CREATED:20260415T190703Z
LAST-MODIFIED:20260415T190807Z
UID:17555-1776418200-1776420000@culturasbo.com
SUMMARY:Projeto Nas Asas da Leitura
DESCRIPTION:Horário: 9h30 e 15h \nClassificação: Livre \nEntrada: Gratuita
URL:https://culturasbo.com/evento/projeto-nas-asas-da-leitura-03/
LOCATION:Centro Cultural e Biblioteca “Prof° Léo Assad Sallum”\, Rua: do Algodão\, 1450 - Cidade Nova\, Santa Bárbara d'Oeste\, SP\, 13454-170\, Brasil
CATEGORIES:Contação de Histórias
END:VEVENT
BEGIN:VEVENT
DTSTART;TZID=America/Sao_Paulo:20260419T120000
DTEND;TZID=America/Sao_Paulo:20260419T170000
DTSTAMP:20260423T194215
CREATED:20260415T175634Z
LAST-MODIFIED:20260415T175634Z
UID:17544-1776600000-1776618000@culturasbo.com
SUMMARY:Projeto Samb’Ajuda
DESCRIPTION:Classificação: Livre \nEntrada: Gratuita – Solidária: mediante doação de 1 kg de alimento não perecível ou 1 litro de leite (não é obrigatório\, mas muito bem vindo!) \nAs doações serão destinadas a instituição social da cidade \nInformações: (19) 3455-7000 \nUm grupo de amigos que através da música\, Samba Raiz\, ajudam pessoas. Um evento com entrada solidária de 1 kg de alimento não perecível ou 1 litro de leite. No mês de março\, em comemoração às mulheres\, participação da cantora Rosãngela Amaral.
URL:https://culturasbo.com/evento/projeto-sambajuda-abril-2026/
LOCATION:Centro de Memórias\, R. João Lino\, 362 - Centro\, Santa Bárbara d'Oeste\, São Paulo\, 13450-033\, Brasil
CATEGORIES:Apresentação Artística,Evento,Música,Show
ATTACH;FMTTYPE=image/jpeg:https://culturasbo.com/wp-content/uploads/2025/05/DSC_4389-scaled.jpg
END:VEVENT
BEGIN:VEVENT
DTSTART;TZID=America/Sao_Paulo:20260427T190000
DTEND;TZID=America/Sao_Paulo:20260427T210000
DTSTAMP:20260423T194215
CREATED:20260415T190948Z
LAST-MODIFIED:20260415T190948Z
UID:17561-1777316400-1777323600@culturasbo.com
SUMMARY:Clube de Leitura - Projeto nas Asas da Leitura
DESCRIPTION:Horário: 19h \nClassificação: Livre \nEntrada: Gratuita
URL:https://culturasbo.com/evento/projeto-nas-asas-da-leitura-clube/
LOCATION:Centro Cultural e Biblioteca “Prof° Léo Assad Sallum”\, Rua: do Algodão\, 1450 - Cidade Nova\, Santa Bárbara d'Oeste\, SP\, 13454-170\, Brasil
CATEGORIES:Círculo do Livro,Evento
END:VEVENT
END:VCALENDAR