BEGIN:VCALENDAR
VERSION:2.0
PRODID:-//Secretaria Municipal de Cultura e Turismo - ECPv6.15.13//NONSGML v1.0//EN
CALSCALE:GREGORIAN
METHOD:PUBLISH
X-ORIGINAL-URL:https://culturasbo.com
X-WR-CALDESC:Eventos para Secretaria Municipal de Cultura e Turismo
REFRESH-INTERVAL;VALUE=DURATION:PT1H
X-Robots-Tag:noindex
X-PUBLISHED-TTL:PT1H
BEGIN:VTIMEZONE
TZID:America/Sao_Paulo
BEGIN:STANDARD
TZOFFSETFROM:-0300
TZOFFSETTO:-0300
TZNAME:-03
DTSTART:20230101T000000
END:STANDARD
END:VTIMEZONE
BEGIN:VEVENT
DTSTART;TZID=America/Sao_Paulo:20241019T090000
DTEND;TZID=America/Sao_Paulo:20241019T090000
DTSTAMP:20260425T134518
CREATED:20241014T150016Z
LAST-MODIFIED:20241014T150016Z
UID:13941-1729328400-1729328400@culturasbo.com
SUMMARY:Workshop "Encontro Literário: A Importância da Cultura Afro-Brasileira"
DESCRIPTION:A Associação Cultural e Beneficente Carolina Maria de Jesus tem o prazer de convidá-lo(a) para o Workshop “Encontro Literário: A Importância da Cultura Afro-Brasileira”. \nNeste encontro\, vamos promover uma formação crítica e ética sobre questões atuais e históricas relacionadas à cultura afro-brasileira\, destacando a força e a riqueza da ancestralidade africana no Brasil. \nO que você vai encontrar: \nRoda de conversa com especialistas; Debate sobre temas relevantes e atuais; Reflexões sobre a história e a influência da cultura afro-brasileira; Delicioso café da manhã para recepcionar os participantes.
URL:https://culturasbo.com/evento/workshop-encontro-literario-a-importancia-da-cultura-afro-brasileira/
LOCATION:Centro Cultural “Edgard Tricânico D’elboux”\, Rua: Padre Arthur Sampaio\, 76 - Conj. Hab. Roberto Romano\, Santa Bárbara d'Oeste\, SP\, 13458-184
CATEGORIES:Workshop
ATTACH;FMTTYPE=image/jpeg:https://culturasbo.com/wp-content/uploads/2024/10/WhatsApp-Image-2024-10-14-at-11.22.07.jpg
END:VEVENT
BEGIN:VEVENT
DTSTART;TZID=America/Sao_Paulo:20241019T200000
DTEND;TZID=America/Sao_Paulo:20241019T200000
DTSTAMP:20260425T134518
CREATED:20231220T125028Z
LAST-MODIFIED:20241014T130842Z
UID:12096-1729368000-1729368000@culturasbo.com
SUMMARY:Encontro de Orquestras de Violas
DESCRIPTION:CLASSIFICAÇÃO: LIVRE \nINGRESSOS: GRATUITO – RETIRAR 1h ANTES
URL:https://culturasbo.com/evento/encontro-de-orquestras-de-viola/
LOCATION:Teatro Municipal Manoel Lyra\, Rua João XXIII\, 61 - Centro\, Santa Bárbara d'Oeste\, SP\, 13450-040\, Brasil
CATEGORIES:Música,Show
ATTACH;FMTTYPE=image/jpeg:https://culturasbo.com/wp-content/uploads/2023/12/Viola.jpg
END:VEVENT
BEGIN:VEVENT
DTSTART;TZID=America/Sao_Paulo:20241101T200000
DTEND;TZID=America/Sao_Paulo:20241101T200000
DTSTAMP:20260425T134518
CREATED:20241029T132926Z
LAST-MODIFIED:20241029T133002Z
UID:14394-1730491200-1730491200@culturasbo.com
SUMMARY:Show "Nós Do Rock Rural"
DESCRIPTION:Classificação: Livre \nIngressos: R$ 140\,00 (Inteira)\, R$ 70\,00 (Meia) \nIngresso solidário: R$ 70\,00 – com 1Kg de alimento \nVENDAS: www.ingressodigital.com \nInformações: telefone (19) 3471-0333 e celular (12) 99727-0204
URL:https://culturasbo.com/evento/show-nos-do-rock-rural/
LOCATION:Teatro Municipal Manoel Lyra\, Rua João XXIII\, 61 - Centro\, Santa Bárbara d'Oeste\, SP\, 13450-040\, Brasil
CATEGORIES:Música,Show
END:VEVENT
BEGIN:VEVENT
DTSTART;VALUE=DATE:20241108
DTEND;VALUE=DATE:20241111
DTSTAMP:20260425T134518
CREATED:20231220T120650Z
LAST-MODIFIED:20241008T114425Z
UID:12088-1731024000-1731283199@culturasbo.com
SUMMARY:Feira das Nações de Santa Bárbara d'Oeste
DESCRIPTION:
URL:https://culturasbo.com/evento/feira-das-nacoes-de-santa-barbara-doeste/
CATEGORIES:Dança,Festival,Show,Teatro
ATTACH;FMTTYPE=image/jpeg:https://culturasbo.com/wp-content/uploads/2023/12/53332516934_334007463b_c.jpg
END:VEVENT
BEGIN:VEVENT
DTSTART;TZID=America/Sao_Paulo:20241109T080000
DTEND;TZID=America/Sao_Paulo:20241109T110000
DTSTAMP:20260425T134518
CREATED:20241029T122346Z
LAST-MODIFIED:20241029T122346Z
UID:14360-1731139200-1731150000@culturasbo.com
SUMMARY:Ensaio Orquestra Barbarense de Violas
DESCRIPTION:
URL:https://culturasbo.com/evento/ensaio-orquestra-barbarense-de-violas/
LOCATION:Anfiteatro Municipal Detinha Dagnoni\, Av. Monte Castelo\, nº 1000 - Jd. Primavera\, Santa Bárbara d'Oetse\, SP\, 13450-032\, Brasil
CATEGORIES:Música
END:VEVENT
BEGIN:VEVENT
DTSTART;TZID=America/Sao_Paulo:20241111T183000
DTEND;TZID=America/Sao_Paulo:20241111T210000
DTSTAMP:20260425T134518
CREATED:20241029T122452Z
LAST-MODIFIED:20241029T122452Z
UID:14362-1731349800-1731358800@culturasbo.com
SUMMARY:Ensaio Coral Municipal "Vozes Bárbaras"
DESCRIPTION:
URL:https://culturasbo.com/evento/ensaio-coral-municipal-vozes-barbaras-2/
LOCATION:Anfiteatro Municipal Detinha Dagnoni\, Av. Monte Castelo\, nº 1000 - Jd. Primavera\, Santa Bárbara d'Oetse\, SP\, 13450-032\, Brasil
CATEGORIES:Música
END:VEVENT
BEGIN:VEVENT
DTSTART;TZID=America/Sao_Paulo:20241113T140000
DTEND;TZID=America/Sao_Paulo:20241113T140000
DTSTAMP:20260425T134518
CREATED:20241029T133623Z
LAST-MODIFIED:20241029T133623Z
UID:14397-1731506400-1731506400@culturasbo.com
SUMMARY:“Ideias de Cecília” - Teatro de Animação com Bonecos
DESCRIPTION:Unimed Santa Bárbara d’Oeste e Americana\nCooperativa de Trabalho Médico \nIngressos gratuitos (Retirar 1 hora antes) \nInformações: 19 98935-8004
URL:https://culturasbo.com/evento/ideias-de-cecilia-teatro-de-animacao-com-bonecos/
LOCATION:Teatro Municipal Manoel Lyra\, Rua João XXIII\, 61 - Centro\, Santa Bárbara d'Oeste\, SP\, 13450-040\, Brasil
CATEGORIES:Teatro
END:VEVENT
BEGIN:VEVENT
DTSTART;TZID=America/Sao_Paulo:20241113T193000
DTEND;TZID=America/Sao_Paulo:20241113T193000
DTSTAMP:20260425T134518
CREATED:20241029T123455Z
LAST-MODIFIED:20241029T123845Z
UID:14364-1731526200-1731526200@culturasbo.com
SUMMARY:(Evento Fechado) Palestra Masterclass Associativismo e Cooperativismo - Meios para Otimizar as Produções de Artesanato
DESCRIPTION:
URL:https://culturasbo.com/evento/evento-fechado-palestra-masterclass-associativismo-e-cooperativismo-meios-para-otimizar-as-producoes-de-artesanato/
LOCATION:Anfiteatro Municipal Detinha Dagnoni\, Av. Monte Castelo\, nº 1000 - Jd. Primavera\, Santa Bárbara d'Oetse\, SP\, 13450-032\, Brasil
CATEGORIES:Palestra
END:VEVENT
BEGIN:VEVENT
DTSTART;TZID=America/Sao_Paulo:20241114T190000
DTEND;TZID=America/Sao_Paulo:20241114T190000
DTSTAMP:20260425T134518
CREATED:20241029T133907Z
LAST-MODIFIED:20241029T133907Z
UID:14399-1731610800-1731610800@culturasbo.com
SUMMARY:(Evento Fechado) Escola Imperial - Festival Artístico
DESCRIPTION:Informações: (19) 99304-9304
URL:https://culturasbo.com/evento/evento-fechado-escola-imperial-festival-artistico/
LOCATION:Teatro Municipal Manoel Lyra\, Rua João XXIII\, 61 - Centro\, Santa Bárbara d'Oeste\, SP\, 13450-040\, Brasil
CATEGORIES:Apresentação Artística,Festival
END:VEVENT
BEGIN:VEVENT
DTSTART;TZID=America/Sao_Paulo:20241118T183000
DTEND;TZID=America/Sao_Paulo:20241118T210000
DTSTAMP:20260425T134518
CREATED:20241029T124046Z
LAST-MODIFIED:20241029T124153Z
UID:14367-1731954600-1731963600@culturasbo.com
SUMMARY:Ensaio Coral Municipal "Vozes Bárbaras"
DESCRIPTION:
URL:https://culturasbo.com/evento/ensaio-coral-municipal-vozes-barbaras-clone/
LOCATION:Anfiteatro Municipal Detinha Dagnoni\, Av. Monte Castelo\, nº 1000 - Jd. Primavera\, Santa Bárbara d'Oetse\, SP\, 13450-032\, Brasil
CATEGORIES:Música
END:VEVENT
BEGIN:VEVENT
DTSTART;TZID=America/Sao_Paulo:20241118T200000
DTEND;TZID=America/Sao_Paulo:20241118T200000
DTSTAMP:20260425T134518
CREATED:20241029T134333Z
LAST-MODIFIED:20241029T134333Z
UID:14401-1731960000-1731960000@culturasbo.com
SUMMARY:Apresentação de Encerramento dos Alunos do Curso Técnico em Teatro do Senac Americana - Turma Americana
DESCRIPTION:Ingressos gratuitos (Retirar 1h antes) \nInformações: 199302-2333
URL:https://culturasbo.com/evento/apresentacao-de-encerramento-dos-alunos-do-curso-tecnico-em-teatro-do-senac-americana-turma-americana/
LOCATION:Teatro Municipal Manoel Lyra\, Rua João XXIII\, 61 - Centro\, Santa Bárbara d'Oeste\, SP\, 13450-040\, Brasil
CATEGORIES:Teatro
END:VEVENT
BEGIN:VEVENT
DTSTART;TZID=America/Sao_Paulo:20241119T200000
DTEND;TZID=America/Sao_Paulo:20241119T200000
DTSTAMP:20260425T134518
CREATED:20241029T124328Z
LAST-MODIFIED:20241029T124328Z
UID:14370-1732046400-1732046400@culturasbo.com
SUMMARY:Corporação Musical Barbarense “Finalização de Curso de Música” – Apresentação dos alunos
DESCRIPTION:
URL:https://culturasbo.com/evento/corporacao-musical-barbarense-finalizacao-de-curso-de-musica-apresentacao-dos-alunos/
LOCATION:Anfiteatro Municipal Detinha Dagnoni\, Av. Monte Castelo\, nº 1000 - Jd. Primavera\, Santa Bárbara d'Oetse\, SP\, 13450-032\, Brasil
CATEGORIES:Música
END:VEVENT
BEGIN:VEVENT
DTSTART;VALUE=DATE:20241120
DTEND;VALUE=DATE:20241121
DTSTAMP:20260425T134518
CREATED:20231220T122138Z
LAST-MODIFIED:20241008T114425Z
UID:12092-1732060800-1732147199@culturasbo.com
SUMMARY:Novembro Negro
DESCRIPTION:
URL:https://culturasbo.com/evento/novembro-negro/
CATEGORIES:Dança,Festival,Show,Workshop
ATTACH;FMTTYPE=image/jpeg:https://culturasbo.com/wp-content/uploads/2023/12/Novembro-Negro.jpg
END:VEVENT
BEGIN:VEVENT
DTSTART;TZID=America/Sao_Paulo:20241121T153000
DTEND;TZID=America/Sao_Paulo:20241121T153000
DTSTAMP:20260425T134518
CREATED:20241029T134708Z
LAST-MODIFIED:20241029T135017Z
UID:14403-1732203000-1732203000@culturasbo.com
SUMMARY:Festival de Dança - Meire Prado Ballet
DESCRIPTION:Classificação: Livre \nSETOR A – Inteira: R$ 170\,00. Meia/Antecipado R$ 85\,00\nSETOR B – Inteira: R$ 140\,00. Meia/Antecipado R$ 70\,00 \nInformações: (19) 99944-9989
URL:https://culturasbo.com/evento/festival-de-danca-meire-prado-ballet/
LOCATION:Teatro Municipal Manoel Lyra\, Rua João XXIII\, 61 - Centro\, Santa Bárbara d'Oeste\, SP\, 13450-040\, Brasil
CATEGORIES:Dança
END:VEVENT
BEGIN:VEVENT
DTSTART;TZID=America/Sao_Paulo:20241121T180000
DTEND;TZID=America/Sao_Paulo:20241121T180000
DTSTAMP:20260425T134518
CREATED:20241029T124756Z
LAST-MODIFIED:20241029T124756Z
UID:14373-1732212000-1732212000@culturasbo.com
SUMMARY:Secretaria de Educação/Casa Da Criança ABE - Formatura Da Turma De Jardim II
DESCRIPTION:
URL:https://culturasbo.com/evento/secretaria-de-educacao-casa-da-crianca-abe-formatura-da-turma-de-jardim-ii/
LOCATION:Anfiteatro Municipal Detinha Dagnoni\, Av. Monte Castelo\, nº 1000 - Jd. Primavera\, Santa Bárbara d'Oetse\, SP\, 13450-032\, Brasil
CATEGORIES:Formatura
END:VEVENT
BEGIN:VEVENT
DTSTART;TZID=America/Sao_Paulo:20241123T180000
DTEND;TZID=America/Sao_Paulo:20241123T220000
DTSTAMP:20260425T134518
CREATED:20241029T130121Z
LAST-MODIFIED:20241029T130121Z
UID:14375-1732384800-1732399200@culturasbo.com
SUMMARY:Troca de faixa dos atletas da equipe de karatê da SEME
DESCRIPTION:Ministrada pelo técnico de esportes João Donizete de Oliveira.
URL:https://culturasbo.com/evento/troca-de-faixa-dos-atletas-da-equipe-de-karate-da-seme/
LOCATION:Anfiteatro Municipal Detinha Dagnoni\, Av. Monte Castelo\, nº 1000 - Jd. Primavera\, Santa Bárbara d'Oetse\, SP\, 13450-032\, Brasil
CATEGORIES:Evento
END:VEVENT
BEGIN:VEVENT
DTSTART;TZID=America/Sao_Paulo:20241123T200000
DTEND;TZID=America/Sao_Paulo:20241123T200000
DTSTAMP:20260425T134518
CREATED:20241029T134953Z
LAST-MODIFIED:20241029T135120Z
UID:14405-1732392000-1732392000@culturasbo.com
SUMMARY:Festival da Cia de Dança e Teatro JK
DESCRIPTION:Classificação: Livre\nIngressos: 90\,00 (Inteira) e 45\,00 (Meia)\nInformações: (19) 99304-0495
URL:https://culturasbo.com/evento/festival-de-danca-meire-prado-ballet-clone/
LOCATION:Teatro Municipal Manoel Lyra\, Rua João XXIII\, 61 - Centro\, Santa Bárbara d'Oeste\, SP\, 13450-040\, Brasil
CATEGORIES:Dança
END:VEVENT
BEGIN:VEVENT
DTSTART;TZID=America/Sao_Paulo:20241124T153000
DTEND;TZID=America/Sao_Paulo:20241124T153000
DTSTAMP:20260425T134518
CREATED:20241029T130521Z
LAST-MODIFIED:20241029T130522Z
UID:14382-1732462200-1732462200@culturasbo.com
SUMMARY:Apresentação de Dança - Encontro de Princesas
DESCRIPTION:Evento gratuito \nInformações: (19) 99178-4632
URL:https://culturasbo.com/evento/apresentacao-de-danca-encontro-de-princesas/
LOCATION:Anfiteatro Municipal Detinha Dagnoni\, Av. Monte Castelo\, nº 1000 - Jd. Primavera\, Santa Bárbara d'Oetse\, SP\, 13450-032\, Brasil
CATEGORIES:Dança
END:VEVENT
BEGIN:VEVENT
DTSTART;TZID=America/Sao_Paulo:20241124T193000
DTEND;TZID=America/Sao_Paulo:20241124T193000
DTSTAMP:20260425T134518
CREATED:20241029T135215Z
LAST-MODIFIED:20241029T135215Z
UID:14408-1732476600-1732476600@culturasbo.com
SUMMARY:Festival da Cia de Dança e Teatro JK
DESCRIPTION:Classificação: Livre\nIngressos: 90\,00 (Inteira) e 45\,00 (Meia)\nInformações: (19) 99304-0495
URL:https://culturasbo.com/evento/festival-da-cia-de-danca-e-teatro-jk/
LOCATION:Teatro Municipal Manoel Lyra\, Rua João XXIII\, 61 - Centro\, Santa Bárbara d'Oeste\, SP\, 13450-040\, Brasil
CATEGORIES:Dança
END:VEVENT
BEGIN:VEVENT
DTSTART;TZID=America/Sao_Paulo:20241125T183000
DTEND;TZID=America/Sao_Paulo:20241125T210000
DTSTAMP:20260425T134518
CREATED:20241029T130557Z
LAST-MODIFIED:20241029T132148Z
UID:14385-1732559400-1732568400@culturasbo.com
SUMMARY:Ensaio Coral Municipal "Vozes Bárbaras"
DESCRIPTION:
URL:https://culturasbo.com/evento/ensaio-coral-municipal-vozes-barbaras-clone-2/
LOCATION:Anfiteatro Municipal Detinha Dagnoni\, Av. Monte Castelo\, nº 1000 - Jd. Primavera\, Santa Bárbara d'Oetse\, SP\, 13450-032\, Brasil
CATEGORIES:Música
END:VEVENT
BEGIN:VEVENT
DTSTART;TZID=America/Sao_Paulo:20241125T200000
DTEND;TZID=America/Sao_Paulo:20241125T200000
DTSTAMP:20260425T134518
CREATED:20241029T140636Z
LAST-MODIFIED:20241029T140636Z
UID:14422-1732564800-1732564800@culturasbo.com
SUMMARY:(Evento Fechado) Colégio Exitus - Festival Artístico
DESCRIPTION:Informações: (19)99726-6341
URL:https://culturasbo.com/evento/evento-fechado-colegio-exitus-festival-artistico/
LOCATION:Teatro Municipal Manoel Lyra\, Rua João XXIII\, 61 - Centro\, Santa Bárbara d'Oeste\, SP\, 13450-040\, Brasil
CATEGORIES:Festival
END:VEVENT
BEGIN:VEVENT
DTSTART;TZID=America/Sao_Paulo:20241126T180000
DTEND;TZID=America/Sao_Paulo:20241129T180000
DTSTAMP:20260425T134518
CREATED:20241029T130747Z
LAST-MODIFIED:20241029T130747Z
UID:14387-1732644000-1732903200@culturasbo.com
SUMMARY:Secretaria de Educação/Casa Da Criança ABE - Formatura Da Turma De Jardim II
DESCRIPTION:
URL:https://culturasbo.com/evento/secretaria-de-educacao-casa-da-crianca-abe-formatura-da-turma-de-jardim-ii-2/
LOCATION:Anfiteatro Municipal Detinha Dagnoni\, Av. Monte Castelo\, nº 1000 - Jd. Primavera\, Santa Bárbara d'Oetse\, SP\, 13450-032\, Brasil
CATEGORIES:Formatura
END:VEVENT
BEGIN:VEVENT
DTSTART;TZID=America/Sao_Paulo:20241129T190000
DTEND;TZID=America/Sao_Paulo:20241130T190000
DTSTAMP:20260425T134518
CREATED:20241029T140935Z
LAST-MODIFIED:20241128T141734Z
UID:14427-1732906800-1732993200@culturasbo.com
SUMMARY:Festival de Dança - Sandra Godoy
DESCRIPTION:Classificação: Livre\nIngressos: 178\,00 (Inteira) e 98\,00 (Meia)\nInformações: (19)99726-6341
URL:https://culturasbo.com/evento/festival-de-danca-sandra-godoy/
LOCATION:Teatro Municipal Manoel Lyra\, Rua João XXIII\, 61 - Centro\, Santa Bárbara d'Oeste\, SP\, 13450-040\, Brasil
CATEGORIES:Dança,Festival
END:VEVENT
BEGIN:VEVENT
DTSTART;TZID=America/Sao_Paulo:20241130T183000
DTEND;TZID=America/Sao_Paulo:20241130T183000
DTSTAMP:20260425T134518
CREATED:20241029T130918Z
LAST-MODIFIED:20241029T130918Z
UID:14389-1732991400-1732991400@culturasbo.com
SUMMARY:(Evento Fechado) Formatura Escola Imperial
DESCRIPTION:
URL:https://culturasbo.com/evento/evento-fechado-formatura-escola-imperial/
LOCATION:Anfiteatro Municipal Detinha Dagnoni\, Av. Monte Castelo\, nº 1000 - Jd. Primavera\, Santa Bárbara d'Oetse\, SP\, 13450-032\, Brasil
CATEGORIES:Formatura
END:VEVENT
BEGIN:VEVENT
DTSTART;TZID=America/Sao_Paulo:20241201T183000
DTEND;TZID=America/Sao_Paulo:20241201T183000
DTSTAMP:20260425T134518
CREATED:20241029T143818Z
LAST-MODIFIED:20241029T143818Z
UID:14429-1733077800-1733077800@culturasbo.com
SUMMARY:(Evento Fechado) Formatura Colégio O Caminho LTDA – ME
DESCRIPTION:Informações: (19) 3626-6420 – Ricardo
URL:https://culturasbo.com/evento/evento-fechado-formatura-colegio-o-caminho-ltda-me/
LOCATION:Anfiteatro Municipal Detinha Dagnoni\, Av. Monte Castelo\, nº 1000 - Jd. Primavera\, Santa Bárbara d'Oetse\, SP\, 13450-032\, Brasil
CATEGORIES:Formatura
END:VEVENT
BEGIN:VEVENT
DTSTART;TZID=America/Sao_Paulo:20241201T190000
DTEND;TZID=America/Sao_Paulo:20241201T190000
DTSTAMP:20260425T134518
CREATED:20241030T123639Z
LAST-MODIFIED:20241128T164416Z
UID:14462-1733079600-1733079600@culturasbo.com
SUMMARY:Aladdin o Musical - Sandra Godoy
DESCRIPTION:Classificação: Livre\nIngressos: 178\,00 (Inteira) e 89\,00 (Meia)\nInformações: (19) 3464-9427
URL:https://culturasbo.com/evento/festival-de-danca-sandra-godoy-2/
LOCATION:Teatro Municipal Manoel Lyra\, Rua João XXIII\, 61 - Centro\, Santa Bárbara d'Oeste\, SP\, 13450-040\, Brasil
CATEGORIES:Dança,Festival
END:VEVENT
BEGIN:VEVENT
DTSTART;TZID=America/Sao_Paulo:20241202T200000
DTEND;TZID=America/Sao_Paulo:20241203T200000
DTSTAMP:20260425T134518
CREATED:20241128T164759Z
LAST-MODIFIED:20241128T164939Z
UID:14646-1733169600-1733256000@culturasbo.com
SUMMARY:Veredas da Salvação Senac Americana - Curso Técnico em Teatro Turma Santa Bárbara d’Oeste
DESCRIPTION:Classificação: Livre\nGratuito\nInformações: (19) 3464-9427
URL:https://culturasbo.com/evento/veredas-da-salvacao-senac-americana-curso-tecnico-em-teatro-turma-santa-barbara-doeste/
LOCATION:Teatro Municipal Manoel Lyra\, Rua João XXIII\, 61 - Centro\, Santa Bárbara d'Oeste\, SP\, 13450-040\, Brasil
CATEGORIES:Teatro
END:VEVENT
BEGIN:VEVENT
DTSTART;TZID=America/Sao_Paulo:20241203T193000
DTEND;TZID=America/Sao_Paulo:20241203T193000
DTSTAMP:20260425T134518
CREATED:20241029T144021Z
LAST-MODIFIED:20241029T144021Z
UID:14431-1733254200-1733254200@culturasbo.com
SUMMARY:(Evento Fechado) Formatura AMEV
DESCRIPTION:Informações: (19) 99809-8286 – Rita
URL:https://culturasbo.com/evento/evento-fechado-formatura-amev/
LOCATION:Anfiteatro Municipal Detinha Dagnoni\, Av. Monte Castelo\, nº 1000 - Jd. Primavera\, Santa Bárbara d'Oetse\, SP\, 13450-032\, Brasil
CATEGORIES:Formatura
END:VEVENT
BEGIN:VEVENT
DTSTART;TZID=America/Sao_Paulo:20241204T193000
DTEND;TZID=America/Sao_Paulo:20241204T193000
DTSTAMP:20260425T134518
CREATED:20231219T165919Z
LAST-MODIFIED:20241128T163541Z
UID:12068-1733340600-1733340600@culturasbo.com
SUMMARY:Acendimento da Decoração de Natal - Natal das Árvores
DESCRIPTION:Evento • Gratuito
URL:https://culturasbo.com/evento/acendimento-da-decoracao-de-natal-natal-das-arvores/
LOCATION:Praça Central\, Vila Macnight\, Santa Bárbara d'Oeste\, SP\, 13450-013
CATEGORIES:Evento
ATTACH;FMTTYPE=image/jpeg:https://culturasbo.com/wp-content/uploads/2023/12/Natal-das-Arvores-2023.jpg
END:VEVENT
BEGIN:VEVENT
DTSTART;TZID=America/Sao_Paulo:20241204T210000
DTEND;TZID=America/Sao_Paulo:20241204T210000
DTSTAMP:20260425T134518
CREATED:20241128T163043Z
LAST-MODIFIED:20241128T163043Z
UID:14642-1733346000-1733346000@culturasbo.com
SUMMARY:Caravana de Natal da Coca-Cola
DESCRIPTION:Início do trajeto: Rua Agricultura\, altura do nº 840 e segue pelas principais avenidas da cidade \nGratuito.
URL:https://culturasbo.com/evento/caravana-de-natal-da-coca-cola/
CATEGORIES:Evento
ATTACH;FMTTYPE=image/jpeg:https://culturasbo.com/wp-content/uploads/2023/12/Natal-das-Arvores-2023.jpg
END:VEVENT
END:VCALENDAR