BEGIN:VCALENDAR
VERSION:2.0
PRODID:-//Secretaria Municipal de Cultura e Turismo - ECPv6.15.13//NONSGML v1.0//EN
CALSCALE:GREGORIAN
METHOD:PUBLISH
X-ORIGINAL-URL:https://culturasbo.com
X-WR-CALDESC:Eventos para Secretaria Municipal de Cultura e Turismo
REFRESH-INTERVAL;VALUE=DURATION:PT1H
X-Robots-Tag:noindex
X-PUBLISHED-TTL:PT1H
BEGIN:VTIMEZONE
TZID:America/Sao_Paulo
BEGIN:STANDARD
TZOFFSETFROM:-0300
TZOFFSETTO:-0300
TZNAME:-03
DTSTART:20230101T000000
END:STANDARD
END:VTIMEZONE
BEGIN:VEVENT
DTSTART;TZID=America/Sao_Paulo:20241221T193000
DTEND;TZID=America/Sao_Paulo:20241222T193000
DTSTAMP:20260424T104815
CREATED:20241030T134505Z
LAST-MODIFIED:20241206T170201Z
UID:14479-1734809400-1734895800@culturasbo.com
SUMMARY:Moana - Arabesque Stúdio de Dança
DESCRIPTION:Classificação: Livre Ingressos: 100\,00 (Inteira) e 50\,00(Meia) \nInformações: (19) 3464-9427
URL:https://culturasbo.com/evento/festival-de-danca-arabesque/
LOCATION:Teatro Municipal Manoel Lyra\, Rua João XXIII\, 61 - Centro\, Santa Bárbara d'Oeste\, SP\, 13450-040\, Brasil
CATEGORIES:Dança
END:VEVENT
BEGIN:VEVENT
DTSTART;TZID=America/Sao_Paulo:20241221T133000
DTEND;TZID=America/Sao_Paulo:20241221T133000
DTSTAMP:20260424T104815
CREATED:20241128T144551Z
LAST-MODIFIED:20241128T144617Z
UID:14618-1734787800-1734787800@culturasbo.com
SUMMARY:Cantata de Natal - Coral Municipal ‘Vozes Bárbaras’
DESCRIPTION:Gratuito \n 
URL:https://culturasbo.com/evento/cantata-de-natal-coral-municipal-vozes-barbaras/
LOCATION:Tivoli Shopping\, R. do Ósmio\, 699 - Vila Mollon IV\, Santa Bárbara d'Oeste\, SP\, 13456-625
END:VEVENT
BEGIN:VEVENT
DTSTART;TZID=America/Sao_Paulo:20241220T200000
DTEND;TZID=America/Sao_Paulo:20241220T200000
DTSTAMP:20260424T104815
CREATED:20241030T123311Z
LAST-MODIFIED:20241128T144121Z
UID:14460-1734724800-1734724800@culturasbo.com
SUMMARY:Especial de Fim de Ano Escola RB\, Música e Artes
DESCRIPTION:Ingressos: R$ 40\,00 (inteira) e R$ 20\,00 (meia)\nInformações: (19) 3455-8256
URL:https://culturasbo.com/evento/especial-de-fim-de-ano-escola-rb-musica-e-artes-clone/
LOCATION:Anfiteatro Municipal Detinha Dagnoni\, Av. Monte Castelo\, nº 1000 - Jd. Primavera\, Santa Bárbara d'Oetse\, SP\, 13450-032\, Brasil
CATEGORIES:Apresentação Artística,Música
END:VEVENT
BEGIN:VEVENT
DTSTART;TZID=America/Sao_Paulo:20241220T190000
DTEND;TZID=America/Sao_Paulo:20241220T190000
DTSTAMP:20260424T104815
CREATED:20241030T134302Z
LAST-MODIFIED:20241206T170005Z
UID:14477-1734721200-1734721200@culturasbo.com
SUMMARY:Divertidamente - Academia de Dança Entrée Danse
DESCRIPTION:Classificação: Livre\nIngressos: 70\,00 (Inteira) e 35\,00 (Meia)\nTelefone: (19) 3464-9427
URL:https://culturasbo.com/evento/academia-de-danca-de-sumare-entre-e-dance/
LOCATION:Teatro Municipal Manoel Lyra\, Rua João XXIII\, 61 - Centro\, Santa Bárbara d'Oeste\, SP\, 13450-040\, Brasil
CATEGORIES:Dança
END:VEVENT
BEGIN:VEVENT
DTSTART;TZID=America/Sao_Paulo:20241219T183000
DTEND;TZID=America/Sao_Paulo:20241219T183000
DTSTAMP:20260424T104815
CREATED:20241030T133938Z
LAST-MODIFIED:20241030T133938Z
UID:14475-1734633000-1734633000@culturasbo.com
SUMMARY:(Evento Fechado) Formatura Guarda Mirim 2º Semestre de 2024
DESCRIPTION:
URL:https://culturasbo.com/evento/evento-fechado-formatura-guarda-mirim-2o-semestre-de-2024/
LOCATION:Teatro Municipal Manoel Lyra\, Rua João XXIII\, 61 - Centro\, Santa Bárbara d'Oeste\, SP\, 13450-040\, Brasil
CATEGORIES:Formatura
END:VEVENT
BEGIN:VEVENT
DTSTART;TZID=America/Sao_Paulo:20241219T183000
DTEND;TZID=America/Sao_Paulo:20241219T183000
DTSTAMP:20260424T104815
CREATED:20241030T122950Z
LAST-MODIFIED:20241030T122950Z
UID:14458-1734633000-1734633000@culturasbo.com
SUMMARY:(Evento Fechado) Formatura Escola Estadual Irene de Assis Saes
DESCRIPTION:Informações: (19) (19) 99484-7453 – Letícia
URL:https://culturasbo.com/evento/evento-fechado-formatura-escola-estadual-irene-de-assis-saes/
LOCATION:Anfiteatro Municipal Detinha Dagnoni\, Av. Monte Castelo\, nº 1000 - Jd. Primavera\, Santa Bárbara d'Oetse\, SP\, 13450-032\, Brasil
CATEGORIES:Formatura
END:VEVENT
BEGIN:VEVENT
DTSTART;TZID=America/Sao_Paulo:20241218T193000
DTEND;TZID=America/Sao_Paulo:20241218T193000
DTSTAMP:20260424T104815
CREATED:20241128T145031Z
LAST-MODIFIED:20241206T165841Z
UID:14624-1734550200-1734550200@culturasbo.com
SUMMARY:Mostra de Artes dos Alunos do Programa “Caminhos da Cultura” - 1° Edição
DESCRIPTION:Classificação: Livre\nCanto\, Dança\, Teatro\, Violão • Gratuito\nTelefone: (19) 3464-9427
URL:https://culturasbo.com/evento/mostra-dos-alunos-da-escola-de-artes-caminhos-da-cultura/
LOCATION:Teatro Municipal Manoel Lyra\, Rua João XXIII\, 61 - Centro\, Santa Bárbara d'Oeste\, SP\, 13450-040\, Brasil
CATEGORIES:Apresentação Artística
END:VEVENT
BEGIN:VEVENT
DTSTART;TZID=America/Sao_Paulo:20241218T190000
DTEND;TZID=America/Sao_Paulo:20241218T190000
DTSTAMP:20260424T104815
CREATED:20241030T122822Z
LAST-MODIFIED:20241030T122822Z
UID:14456-1734548400-1734548400@culturasbo.com
SUMMARY:(Evento Fechado) Escola de Música Maestro Paulo Bellan
DESCRIPTION:Informações: (19) 99379-0206 – Isabelle
URL:https://culturasbo.com/evento/evento-fechado-escola-de-musica-maestro-paulo-bellan/
LOCATION:Anfiteatro Municipal Detinha Dagnoni\, Av. Monte Castelo\, nº 1000 - Jd. Primavera\, Santa Bárbara d'Oetse\, SP\, 13450-032\, Brasil
CATEGORIES:Formatura
END:VEVENT
BEGIN:VEVENT
DTSTART;TZID=America/Sao_Paulo:20241217T193000
DTEND;TZID=America/Sao_Paulo:20241217T193000
DTSTAMP:20260424T104815
CREATED:20241128T145345Z
LAST-MODIFIED:20241128T145345Z
UID:14626-1734463800-1734463800@culturasbo.com
SUMMARY:Exibição De Documentário - 'Rock No Seu Interior'
DESCRIPTION:Classificação: Livre\nGratuito\nTelefone: (19) 3455-8256
URL:https://culturasbo.com/evento/exibicao-de-documentario-rock-no-seu-interior/
LOCATION:Anfiteatro Municipal Detinha Dagnoni\, Av. Monte Castelo\, nº 1000 - Jd. Primavera\, Santa Bárbara d'Oetse\, SP\, 13450-032\, Brasil
CATEGORIES:Documentário
END:VEVENT
BEGIN:VEVENT
DTSTART;TZID=America/Sao_Paulo:20241216T193000
DTEND;TZID=America/Sao_Paulo:20241217T193000
DTSTAMP:20260424T104815
CREATED:20241030T133633Z
LAST-MODIFIED:20241030T133757Z
UID:14473-1734377400-1734463800@culturasbo.com
SUMMARY:(Evento Fechado) Colégio Pilarzinho – Festival Artístico
DESCRIPTION:
URL:https://culturasbo.com/evento/evento-fechado-colegio-pilarzinho-festival-artistico/
LOCATION:Teatro Municipal Manoel Lyra\, Rua João XXIII\, 61 - Centro\, Santa Bárbara d'Oeste\, SP\, 13450-040\, Brasil
CATEGORIES:Festival
END:VEVENT
BEGIN:VEVENT
DTSTART;TZID=America/Sao_Paulo:20241215T200000
DTEND;TZID=America/Sao_Paulo:20241215T200000
DTSTAMP:20260424T104815
CREATED:20241030T132229Z
LAST-MODIFIED:20241128T145700Z
UID:14470-1734292800-1734292800@culturasbo.com
SUMMARY:Mostra Arte em Movimento – Espetáculo Teatral com os Alunos e Freqüentadores do Espaço Arte-móvel
DESCRIPTION:Classificação: Livre\nIngressos: 40\,00 (Inteira) e 20\,00 (Meia)\nInformações: (19) 3464-9427
URL:https://culturasbo.com/evento/mostra-arte-em-movimento-espetaculo-teatral-com-os-alunos-e-frequentadores-do-espaco-arte-movel/
LOCATION:Teatro Municipal Manoel Lyra\, Rua João XXIII\, 61 - Centro\, Santa Bárbara d'Oeste\, SP\, 13450-040\, Brasil
CATEGORIES:Apresentação Artística
END:VEVENT
BEGIN:VEVENT
DTSTART;TZID=America/Sao_Paulo:20241215T183000
DTEND;TZID=America/Sao_Paulo:20241215T183000
DTSTAMP:20260424T104815
CREATED:20241030T122511Z
LAST-MODIFIED:20241128T162515Z
UID:14454-1734287400-1734287400@culturasbo.com
SUMMARY:Mostra de Apresentação dos Alunos - Espetáculo das Artes Cênicas
DESCRIPTION:Ingressos: R$ 40\,00 (inteira) e R$ 20\,00 (meia)\nInformações: (19) 3455-8256
URL:https://culturasbo.com/evento/mostra-de-apresentacao-dos-alunos-espetaculo-das-artes-cenicas-clone/
LOCATION:Anfiteatro Municipal Detinha Dagnoni\, Av. Monte Castelo\, nº 1000 - Jd. Primavera\, Santa Bárbara d'Oetse\, SP\, 13450-032\, Brasil
CATEGORIES:Apresentação Artística
END:VEVENT
BEGIN:VEVENT
DTSTART;TZID=America/Sao_Paulo:20241214T190000
DTEND;TZID=America/Sao_Paulo:20241215T190000
DTSTAMP:20260424T104815
CREATED:20241030T122143Z
LAST-MODIFIED:20241128T145922Z
UID:14452-1734202800-1734289200@culturasbo.com
SUMMARY:Cia Juliana Daniel & Convidadas – Haflet Alf Mabrouk  Ballet Clássico\, Dança do Ventre e Dança Cigana
DESCRIPTION:Ingressos: Gratuito – (entrada mediante doação de alimentos e ou produtos de limpeza)\nInformações: (19) 3455-8256 \nClassificação: Livre
URL:https://culturasbo.com/evento/cia-juliana-daniel-convidadas-haflet-alf-mabrouk-danca-ballet-classico-danca-do-ventre-danca-cigana/
LOCATION:Anfiteatro Municipal Detinha Dagnoni\, Av. Monte Castelo\, nº 1000 - Jd. Primavera\, Santa Bárbara d'Oetse\, SP\, 13450-032\, Brasil
CATEGORIES:Dança
END:VEVENT
BEGIN:VEVENT
DTSTART;TZID=America/Sao_Paulo:20241213T200000
DTEND;TZID=America/Sao_Paulo:20241213T200000
DTSTAMP:20260424T104815
CREATED:20241030T121258Z
LAST-MODIFIED:20241128T161807Z
UID:14450-1734120000-1734120000@culturasbo.com
SUMMARY:Especial de Fim de Ano Escola RB\, Música e Artes
DESCRIPTION:Ingressos: R$ 40\,00 (inteira) e R$ 20\,00 (meia)\nInformações: (19) 3455-8256
URL:https://culturasbo.com/evento/especial-de-fim-de-ano-escola-rb-musica-e-artes/
LOCATION:Anfiteatro Municipal Detinha Dagnoni\, Av. Monte Castelo\, nº 1000 - Jd. Primavera\, Santa Bárbara d'Oetse\, SP\, 13450-032\, Brasil
CATEGORIES:Apresentação Artística,Música
END:VEVENT
BEGIN:VEVENT
DTSTART;TZID=America/Sao_Paulo:20241212T193000
DTEND;TZID=America/Sao_Paulo:20241213T193000
DTSTAMP:20260424T104815
CREATED:20241030T131937Z
LAST-MODIFIED:20241206T165626Z
UID:14468-1734031800-1734118200@culturasbo.com
SUMMARY:Oz: O Poder Está em Você! - Grandplié Stúdio de Dança
DESCRIPTION:Classificação: Livre\nIngressos: 120\,00 (Inteira) e 60\,00 (Meia)\nInformações: (19) 3464-9427
URL:https://culturasbo.com/evento/festival-de-danca-grandplie/
LOCATION:Teatro Municipal Manoel Lyra\, Rua João XXIII\, 61 - Centro\, Santa Bárbara d'Oeste\, SP\, 13450-040\, Brasil
CATEGORIES:Dança
END:VEVENT
BEGIN:VEVENT
DTSTART;TZID=America/Sao_Paulo:20241212T183000
DTEND;TZID=America/Sao_Paulo:20241212T183000
DTSTAMP:20260424T104815
CREATED:20241030T120442Z
LAST-MODIFIED:20241030T120442Z
UID:14448-1734028200-1734028200@culturasbo.com
SUMMARY:(Evento Fechado) Formatura CIEP Padre Victório Freguglia
DESCRIPTION:Informações: (19) 99186-0638 – Aline
URL:https://culturasbo.com/evento/evento-fechado-formatura-ciep-padre-victorio-freguglia/
LOCATION:Anfiteatro Municipal Detinha Dagnoni\, Av. Monte Castelo\, nº 1000 - Jd. Primavera\, Santa Bárbara d'Oetse\, SP\, 13450-032\, Brasil
CATEGORIES:Formatura
END:VEVENT
BEGIN:VEVENT
DTSTART;TZID=America/Sao_Paulo:20241211T190000
DTEND;TZID=America/Sao_Paulo:20241211T190000
DTSTAMP:20260424T104815
CREATED:20241030T120155Z
LAST-MODIFIED:20241030T120155Z
UID:14446-1733943600-1733943600@culturasbo.com
SUMMARY:(Evento Fechado) Formatura A Sementinha
DESCRIPTION:Informações: (19) 99115-3628 – Marilza
URL:https://culturasbo.com/evento/evento-fechado-formatura-a-sementinha/
LOCATION:Anfiteatro Municipal Detinha Dagnoni\, Av. Monte Castelo\, nº 1000 - Jd. Primavera\, Santa Bárbara d'Oetse\, SP\, 13450-032\, Brasil
CATEGORIES:Formatura
END:VEVENT
BEGIN:VEVENT
DTSTART;TZID=America/Sao_Paulo:20241210T183000
DTEND;TZID=America/Sao_Paulo:20241210T183000
DTSTAMP:20260424T104815
CREATED:20241030T115309Z
LAST-MODIFIED:20241030T115309Z
UID:14444-1733855400-1733855400@culturasbo.com
SUMMARY:(Evento Fechado) Formatura EMEI Profa Rita de Cássia Toledo M. S. Alves
DESCRIPTION:Informações: (19) 99146-6114 – Daniele
URL:https://culturasbo.com/evento/evento-fechado-formatura-emei-profa-rita-de-cassia-toledo-m-s-alves/
LOCATION:Anfiteatro Municipal Detinha Dagnoni\, Av. Monte Castelo\, nº 1000 - Jd. Primavera\, Santa Bárbara d'Oetse\, SP\, 13450-032\, Brasil
CATEGORIES:Formatura
END:VEVENT
BEGIN:VEVENT
DTSTART;TZID=America/Sao_Paulo:20241208T183000
DTEND;TZID=America/Sao_Paulo:20241208T183000
DTSTAMP:20260424T104815
CREATED:20241030T115053Z
LAST-MODIFIED:20241128T162513Z
UID:14442-1733682600-1733682600@culturasbo.com
SUMMARY:Mostra de Apresentação dos Alunos - Espetáculo das Artes Cênicas
DESCRIPTION:Ingressos: R$ 40\,00 (inteira) e R$ 20\,00 (meia)\nInformações: (19) 3455-8256
URL:https://culturasbo.com/evento/mostra-de-apresentacao-dos-alunos-espetaculo-das-artes-cenicas/
LOCATION:Anfiteatro Municipal Detinha Dagnoni\, Av. Monte Castelo\, nº 1000 - Jd. Primavera\, Santa Bárbara d'Oetse\, SP\, 13450-032\, Brasil
CATEGORIES:Apresentação Artística
END:VEVENT
BEGIN:VEVENT
DTSTART;TZID=America/Sao_Paulo:20241207T173000
DTEND;TZID=America/Sao_Paulo:20241208T193000
DTSTAMP:20260424T104815
CREATED:20241030T130742Z
LAST-MODIFIED:20241206T165454Z
UID:14466-1733592600-1733686200@culturasbo.com
SUMMARY:Vinte e Cinco - Laboratório da Dança
DESCRIPTION:Classificação: Livre\nIngressos: 90\,00 (inteira) e 45\,00 (meia)\, R$ 45\,00 (solidário) com doação de alimentos\, produtos de higiene ou limpeza.\nInformações: (19) 3464-9427 \nSábado: 17H30 \nDomingo: 19H30
URL:https://culturasbo.com/evento/festival-de-danca-laboratorio-da-danca-2/
LOCATION:Teatro Municipal Manoel Lyra\, Rua João XXIII\, 61 - Centro\, Santa Bárbara d'Oeste\, SP\, 13450-040\, Brasil
CATEGORIES:Dança
END:VEVENT
BEGIN:VEVENT
DTSTART;TZID=America/Sao_Paulo:20241206T193000
DTEND;TZID=America/Sao_Paulo:20241206T193000
DTSTAMP:20260424T104815
CREATED:20241030T114404Z
LAST-MODIFIED:20241030T114404Z
UID:14438-1733513400-1733513400@culturasbo.com
SUMMARY:(Evento Fechado) Formatura AMEV
DESCRIPTION:Informações: (19) 99809-8286 – Rita
URL:https://culturasbo.com/evento/evento-fechado-formatura-amev-2/
LOCATION:Anfiteatro Municipal Detinha Dagnoni\, Av. Monte Castelo\, nº 1000 - Jd. Primavera\, Santa Bárbara d'Oetse\, SP\, 13450-032\, Brasil
CATEGORIES:Formatura
END:VEVENT
BEGIN:VEVENT
DTSTART;TZID=America/Sao_Paulo:20241206T180000
DTEND;TZID=America/Sao_Paulo:20241206T180000
DTSTAMP:20260424T104815
CREATED:20241030T114609Z
LAST-MODIFIED:20241030T114609Z
UID:14440-1733508000-1733508000@culturasbo.com
SUMMARY:(Evento Fechado) Formatura Escola de Educação Infantil Ondinhazul
DESCRIPTION:Informações: (19) 99947-9497 – Elisson \nDuas sessões: 18h e 20h.
URL:https://culturasbo.com/evento/evento-fechado-formatura-escola-de-educacao-infantil-ondinhazul/
LOCATION:Anfiteatro Municipal Detinha Dagnoni\, Av. Monte Castelo\, nº 1000 - Jd. Primavera\, Santa Bárbara d'Oetse\, SP\, 13450-032\, Brasil
CATEGORIES:Formatura
END:VEVENT
BEGIN:VEVENT
DTSTART;TZID=America/Sao_Paulo:20241205T193000
DTEND;TZID=America/Sao_Paulo:20241205T193000
DTSTAMP:20260424T104815
CREATED:20231219T165149Z
LAST-MODIFIED:20241128T162917Z
UID:12062-1733427000-1733427000@culturasbo.com
SUMMARY:Inauguração da Casa do Papai Noel
DESCRIPTION:Classificação: Livre \nEspetáculo Gratuito\nInformações: (19) 3455-7000
URL:https://culturasbo.com/evento/inauguracao-da-casa-do-papai-noel/
LOCATION:Centro de Memórias\, R. João Lino\, 362 - Centro\, Santa Bárbara d'Oeste\, São Paulo\, 13450-033\, Brasil
CATEGORIES:Teatro
ATTACH;FMTTYPE=image/jpeg:https://culturasbo.com/wp-content/uploads/2023/12/Casa-Papai-Noel.jpg
END:VEVENT
BEGIN:VEVENT
DTSTART;TZID=America/Sao_Paulo:20241205T190000
DTEND;TZID=America/Sao_Paulo:20241205T190000
DTSTAMP:20260424T104815
CREATED:20241030T114239Z
LAST-MODIFIED:20241030T114239Z
UID:14436-1733425200-1733425200@culturasbo.com
SUMMARY:(Evento Fechado) Formatura EMEI Professora Clotilde Teixeira Cullen
DESCRIPTION:Informações: (19) 99418-7212 – Giovana
URL:https://culturasbo.com/evento/evento-fechado-formatura-emei-professora-clotilde-teixeira-cullen/
LOCATION:Anfiteatro Municipal Detinha Dagnoni\, Av. Monte Castelo\, nº 1000 - Jd. Primavera\, Santa Bárbara d'Oetse\, SP\, 13450-032\, Brasil
CATEGORIES:Formatura
END:VEVENT
BEGIN:VEVENT
DTSTART;TZID=America/Sao_Paulo:20241204T210000
DTEND;TZID=America/Sao_Paulo:20241204T210000
DTSTAMP:20260424T104815
CREATED:20241128T163043Z
LAST-MODIFIED:20241128T163043Z
UID:14642-1733346000-1733346000@culturasbo.com
SUMMARY:Caravana de Natal da Coca-Cola
DESCRIPTION:Início do trajeto: Rua Agricultura\, altura do nº 840 e segue pelas principais avenidas da cidade \nGratuito.
URL:https://culturasbo.com/evento/caravana-de-natal-da-coca-cola/
LOCATION:São Paulo
CATEGORIES:Evento
ATTACH;FMTTYPE=image/jpeg:https://culturasbo.com/wp-content/uploads/2023/12/Natal-das-Arvores-2023.jpg
END:VEVENT
BEGIN:VEVENT
DTSTART;TZID=America/Sao_Paulo:20241204T193000
DTEND;TZID=America/Sao_Paulo:20241204T193000
DTSTAMP:20260424T104815
CREATED:20231219T165919Z
LAST-MODIFIED:20241128T163541Z
UID:12068-1733340600-1733340600@culturasbo.com
SUMMARY:Acendimento da Decoração de Natal - Natal das Árvores
DESCRIPTION:Evento • Gratuito
URL:https://culturasbo.com/evento/acendimento-da-decoracao-de-natal-natal-das-arvores/
LOCATION:Praça Central\, Vila Macnight\, Santa Bárbara d'Oeste\, SP\, 13450-013
CATEGORIES:Evento
ATTACH;FMTTYPE=image/jpeg:https://culturasbo.com/wp-content/uploads/2023/12/Natal-das-Arvores-2023.jpg
END:VEVENT
BEGIN:VEVENT
DTSTART;TZID=America/Sao_Paulo:20241203T193000
DTEND;TZID=America/Sao_Paulo:20241203T193000
DTSTAMP:20260424T104815
CREATED:20241029T144021Z
LAST-MODIFIED:20241029T144021Z
UID:14431-1733254200-1733254200@culturasbo.com
SUMMARY:(Evento Fechado) Formatura AMEV
DESCRIPTION:Informações: (19) 99809-8286 – Rita
URL:https://culturasbo.com/evento/evento-fechado-formatura-amev/
LOCATION:Anfiteatro Municipal Detinha Dagnoni\, Av. Monte Castelo\, nº 1000 - Jd. Primavera\, Santa Bárbara d'Oetse\, SP\, 13450-032\, Brasil
CATEGORIES:Formatura
END:VEVENT
BEGIN:VEVENT
DTSTART;TZID=America/Sao_Paulo:20241202T200000
DTEND;TZID=America/Sao_Paulo:20241203T200000
DTSTAMP:20260424T104815
CREATED:20241128T164759Z
LAST-MODIFIED:20241128T164939Z
UID:14646-1733169600-1733256000@culturasbo.com
SUMMARY:Veredas da Salvação Senac Americana - Curso Técnico em Teatro Turma Santa Bárbara d’Oeste
DESCRIPTION:Classificação: Livre\nGratuito\nInformações: (19) 3464-9427
URL:https://culturasbo.com/evento/veredas-da-salvacao-senac-americana-curso-tecnico-em-teatro-turma-santa-barbara-doeste/
LOCATION:Teatro Municipal Manoel Lyra\, Rua João XXIII\, 61 - Centro\, Santa Bárbara d'Oeste\, SP\, 13450-040\, Brasil
CATEGORIES:Teatro
END:VEVENT
BEGIN:VEVENT
DTSTART;TZID=America/Sao_Paulo:20241201T190000
DTEND;TZID=America/Sao_Paulo:20241201T190000
DTSTAMP:20260424T104815
CREATED:20241030T123639Z
LAST-MODIFIED:20241128T164416Z
UID:14462-1733079600-1733079600@culturasbo.com
SUMMARY:Aladdin o Musical - Sandra Godoy
DESCRIPTION:Classificação: Livre\nIngressos: 178\,00 (Inteira) e 89\,00 (Meia)\nInformações: (19) 3464-9427
URL:https://culturasbo.com/evento/festival-de-danca-sandra-godoy-2/
LOCATION:Teatro Municipal Manoel Lyra\, Rua João XXIII\, 61 - Centro\, Santa Bárbara d'Oeste\, SP\, 13450-040\, Brasil
CATEGORIES:Dança,Festival
END:VEVENT
BEGIN:VEVENT
DTSTART;TZID=America/Sao_Paulo:20241201T183000
DTEND;TZID=America/Sao_Paulo:20241201T183000
DTSTAMP:20260424T104815
CREATED:20241029T143818Z
LAST-MODIFIED:20241029T143818Z
UID:14429-1733077800-1733077800@culturasbo.com
SUMMARY:(Evento Fechado) Formatura Colégio O Caminho LTDA – ME
DESCRIPTION:Informações: (19) 3626-6420 – Ricardo
URL:https://culturasbo.com/evento/evento-fechado-formatura-colegio-o-caminho-ltda-me/
LOCATION:Anfiteatro Municipal Detinha Dagnoni\, Av. Monte Castelo\, nº 1000 - Jd. Primavera\, Santa Bárbara d'Oetse\, SP\, 13450-032\, Brasil
CATEGORIES:Formatura
END:VEVENT
END:VCALENDAR