BEGIN:VCALENDAR
VERSION:2.0
PRODID:-//Secretaria Municipal de Cultura e Turismo - ECPv6.15.13//NONSGML v1.0//EN
CALSCALE:GREGORIAN
METHOD:PUBLISH
X-ORIGINAL-URL:https://culturasbo.com
X-WR-CALDESC:Eventos para Secretaria Municipal de Cultura e Turismo
REFRESH-INTERVAL;VALUE=DURATION:PT1H
X-Robots-Tag:noindex
X-PUBLISHED-TTL:PT1H
BEGIN:VTIMEZONE
TZID:America/Sao_Paulo
BEGIN:STANDARD
TZOFFSETFROM:-0300
TZOFFSETTO:-0300
TZNAME:-03
DTSTART:20240101T000000
END:STANDARD
END:VTIMEZONE
BEGIN:VEVENT
DTSTART;TZID=America/Sao_Paulo:20250729T193000
DTEND;TZID=America/Sao_Paulo:20250729T193000
DTSTAMP:20260423T195220
CREATED:20250704T122724Z
LAST-MODIFIED:20250704T122737Z
UID:15980-1753817400-1753817400@culturasbo.com
SUMMARY:"Casulo" - Cia Arte-Móvel
DESCRIPTION:Classificação: Livre \nEntrada: Gratuita  (retirada dos ingressos 1 hora antes do evento) \nInformações: (19)  3464-9424
URL:https://culturasbo.com/evento/casulo-cia-arte-movel/
LOCATION:Teatro Municipal Manoel Lyra\, Rua João XXIII\, 61 - Centro\, Santa Bárbara d'Oeste\, SP\, 13450-040\, Brasil
CATEGORIES:Apresentação Artística
END:VEVENT
BEGIN:VEVENT
DTSTART;TZID=America/Sao_Paulo:20250727T180000
DTEND;TZID=America/Sao_Paulo:20250727T180000
DTSTAMP:20260423T195220
CREATED:20250704T123421Z
LAST-MODIFIED:20250704T123421Z
UID:15985-1753639200-1753639200@culturasbo.com
SUMMARY:Batalha do CEU
DESCRIPTION:Classificação: Livre \nEntrada: Gratuita \nInformações: (19) 3458-5868
URL:https://culturasbo.com/evento/batalha-do-ceu-8/
LOCATION:CEU das Artes\, R. Argeu Egídio dos Santos\, 100 - Planalto do Sol II\, Santa Bárbara d'Oeste\, São Paulo\, Brasil
CATEGORIES:Apresentação Artística,Evento,Música,Show
END:VEVENT
BEGIN:VEVENT
DTSTART;TZID=America/Sao_Paulo:20250727T160000
DTEND;TZID=America/Sao_Paulo:20250727T160000
DTSTAMP:20260423T195220
CREATED:20250704T122448Z
LAST-MODIFIED:20250704T122605Z
UID:15974-1753632000-1753632000@culturasbo.com
SUMMARY:"Festival POP" - OFISB - Orquestra Filarmônica de Santa Bárbara
DESCRIPTION:Classificação: Livre \nEntrada: Gratuita  (retirada dos ingressos 1 hora antes do evento) \nInformações: (19)  3464-9424
URL:https://culturasbo.com/evento/festival-pop-ofisb-orquestra-filarmonica-de-santa-barbara/
LOCATION:Teatro Municipal Manoel Lyra\, Rua João XXIII\, 61 - Centro\, Santa Bárbara d'Oeste\, SP\, 13450-040\, Brasil
CATEGORIES:Música
END:VEVENT
BEGIN:VEVENT
DTSTART;TZID=America/Sao_Paulo:20250727T090000
DTEND;TZID=America/Sao_Paulo:20250727T090000
DTSTAMP:20260423T195220
CREATED:20250704T145118Z
LAST-MODIFIED:20250704T145118Z
UID:16064-1753606800-1753606800@culturasbo.com
SUMMARY:Histórias Viajantes - Confraria do Conto - Palco Aberto 2025
DESCRIPTION:Classificação: Livre \nEntrada: Gratuita
URL:https://culturasbo.com/evento/historias-viajantes-confraria-do-conto-palco-aberto-2025/
LOCATION:Parque dos Ipês\, Av. Corifeu de Azevedo Marques\, Jardim Belo Horizonte\, Santa Bárbara d'Oeste\, São Paulo\, Brazil
CATEGORIES:Apresentação Artística,Evento,Teatro
END:VEVENT
BEGIN:VEVENT
DTSTART;TZID=America/Sao_Paulo:20250725T193000
DTEND;TZID=America/Sao_Paulo:20250725T193000
DTSTAMP:20260423T195220
CREATED:20250704T120305Z
LAST-MODIFIED:20250704T120319Z
UID:15965-1753471800-1753471800@culturasbo.com
SUMMARY:Audição de Alunos SMAB
DESCRIPTION:Classificação: Livre \nEntrada: R$ 50\,00 (inteira)\, R$ 25\,00 (meia/ antecipado) \nInformações: (19) 99210-8488 / (19)  3464-9424
URL:https://culturasbo.com/evento/audicao-de-alunos-smab/
LOCATION:Teatro Municipal Manoel Lyra\, Rua João XXIII\, 61 - Centro\, Santa Bárbara d'Oeste\, SP\, 13450-040\, Brasil
CATEGORIES:Apresentação Artística
ATTACH;FMTTYPE=image/png:https://culturasbo.com/wp-content/uploads/2025/07/Captura-de-tela-2025-07-04-090040-1.png
END:VEVENT
BEGIN:VEVENT
DTSTART;TZID=America/Sao_Paulo:20250725T140000
DTEND;TZID=America/Sao_Paulo:20250725T140000
DTSTAMP:20260423T195220
CREATED:20250704T130153Z
LAST-MODIFIED:20250704T130153Z
UID:16000-1753452000-1753452000@culturasbo.com
SUMMARY:Contação de Histórias - Nas Asas da Leitura - FLISB - Festival Literário Santa Bárbara 2025
DESCRIPTION:Classificação: Livre \nEntrada: Gratuita \nInformações: (19) 3458-5868
URL:https://culturasbo.com/evento/contacao-de-historias-nas-asas-da-leitura-flisb-festival-literario-santa-barbara-2025/
LOCATION:CEU das Artes\, R. Argeu Egídio dos Santos\, 100 - Planalto do Sol II\, Santa Bárbara d'Oeste\, São Paulo\, Brasil
CATEGORIES:Contação de Histórias
END:VEVENT
BEGIN:VEVENT
DTSTART;TZID=America/Sao_Paulo:20250725T080000
DTEND;TZID=America/Sao_Paulo:20250725T210000
DTSTAMP:20260423T195220
CREATED:20250704T130325Z
LAST-MODIFIED:20250704T130325Z
UID:16002-1753430400-1753477200@culturasbo.com
SUMMARY:Congresso Artes da Cena
DESCRIPTION:Classificação: Livre \nEntrada: Gratuita \nInformações: (19) 3458-5868
URL:https://culturasbo.com/evento/congresso-artes-da-cena/
LOCATION:CEU das Artes\, R. Argeu Egídio dos Santos\, 100 - Planalto do Sol II\, Santa Bárbara d'Oeste\, São Paulo\, Brasil
CATEGORIES:Evento
END:VEVENT
BEGIN:VEVENT
DTSTART;TZID=America/Sao_Paulo:20250724T190000
DTEND;TZID=America/Sao_Paulo:20250724T190000
DTSTAMP:20260423T195220
CREATED:20250704T133816Z
LAST-MODIFIED:20250704T133935Z
UID:16014-1753383600-1753383600@culturasbo.com
SUMMARY:Samba Rock
DESCRIPTION:Classificação: 12 anos \nEntrada: Com Inscrição \nInformações: (19) 3455-7000 \nÉ uma vivência prática e cultural voltada para pessoas de todas as idades interessadas em conhecer ou aprofundar-se nessa dança brasileira que mistura samba\, rock e soul. Com objetivo de apresentar a história e a origem do samba rock; ensinar os passos básicos e técnicos de condução e marcação; trabalhar a musicalidade\, o ritmo; valorizar a expressão cultural brasileira que une dança\, música e identidade.
URL:https://culturasbo.com/evento/samba-rock-2/
LOCATION:Centro de Memórias\, R. João Lino\, 362 - Centro\, Santa Bárbara d'Oeste\, São Paulo\, 13450-033\, Brasil
CATEGORIES:Oficina
END:VEVENT
BEGIN:VEVENT
DTSTART;TZID=America/Sao_Paulo:20250724T140000
DTEND;TZID=America/Sao_Paulo:20250724T140000
DTSTAMP:20260423T195220
CREATED:20250704T141738Z
LAST-MODIFIED:20250704T141738Z
UID:16040-1753365600-1753365600@culturasbo.com
SUMMARY:Encontro de Princesas - FLISB - Festival Literário Santa Bárbara 2025
DESCRIPTION:Classificação: Livre \nEntrada: Gratuita \nInformações: (19) 3454-1605 (telefone) / (19) 3455-2619 (whatsapp)
URL:https://culturasbo.com/evento/encontro-de-princesas-flisb-festival-literario-santa-barbara-2025/
LOCATION:Biblioteca Central\, R. Campos Sales\, 70 - Vila Breda\, Santa Bárbara d'Oeste\, São Paulo\, 13450-219\, Brazil
CATEGORIES:Apresentação Artística
END:VEVENT
BEGIN:VEVENT
DTSTART;TZID=America/Sao_Paulo:20250723T140000
DTEND;TZID=America/Sao_Paulo:20250723T140000
DTSTAMP:20260423T195220
CREATED:20250704T125841Z
LAST-MODIFIED:20250704T125841Z
UID:15998-1753279200-1753279200@culturasbo.com
SUMMARY:Bingo Literário - FLISB - Festival Literário Santa Bárbara 2025
DESCRIPTION:Classificação: Livre \nEntrada: Gratuita \nInformações: (19) 3458-5868
URL:https://culturasbo.com/evento/bingo-literario-flisb-festival-literario-santa-barbara-2025-2/
LOCATION:CEU das Artes\, R. Argeu Egídio dos Santos\, 100 - Planalto do Sol II\, Santa Bárbara d'Oeste\, São Paulo\, Brasil
CATEGORIES:Evento
END:VEVENT
BEGIN:VEVENT
DTSTART;TZID=America/Sao_Paulo:20250722T150000
DTEND;TZID=America/Sao_Paulo:20250722T150000
DTSTAMP:20260423T195220
CREATED:20250704T141452Z
LAST-MODIFIED:20250704T141452Z
UID:16037-1753196400-1753196400@culturasbo.com
SUMMARY:E o Sol Avermelhou - Cia Arte-Móvel - FLISB - Festival Literário Santa Bárbara 2025
DESCRIPTION:Classificação: Livre \nEntrada: Gratuita \nInformações: (19) 3457-4627
URL:https://culturasbo.com/evento/e-o-sol-avermelhou-cia-arte-movel-flisb-festival-literario-santa-barbara-2025/
LOCATION:Centro Cultural e Biblioteca “Prof° Léo Assad Sallum”\, Rua: do Algodão\, 1450 - Cidade Nova\, Santa Bárbara d'Oeste\, SP\, 13454-170\, Brasil
CATEGORIES:Apresentação Artística,Espetáculo,Teatro
END:VEVENT
BEGIN:VEVENT
DTSTART;TZID=America/Sao_Paulo:20250720T160000
DTEND;TZID=America/Sao_Paulo:20250720T160000
DTSTAMP:20260423T195220
CREATED:20250704T145300Z
LAST-MODIFIED:20250704T145300Z
UID:16066-1753027200-1753027200@culturasbo.com
SUMMARY:Histórias de Assombrar - Cia Luzes e Lendas - Palco Aberto 2025
DESCRIPTION:Classificação: Livre \nEntrada: Gratuita
URL:https://culturasbo.com/evento/historias-de-assombrar-cia-luzes-e-lendas-palco-aberto-2025/
LOCATION:Parque dos Jacarandás\, R. do Estanho\, s/n - Vila Mollon IV\, Santa Bárbara d'Oeste\, São Paulo\, 13456-520
CATEGORIES:Apresentação Artística,Espetáculo,Evento
END:VEVENT
BEGIN:VEVENT
DTSTART;TZID=America/Sao_Paulo:20250719T183000
DTEND;TZID=America/Sao_Paulo:20250720T193000
DTSTAMP:20260423T195220
CREATED:20250704T143453Z
LAST-MODIFIED:20250714T140625Z
UID:16049-1752949800-1753039800@culturasbo.com
SUMMARY:Festival Tradições - Festa da Cultura Nordestina
DESCRIPTION:  \nFestival Tradições – Festa da Cultura Nordestina\nDias 19 de julho\, das 18h30 às 21h30 e 20 de julho\, de 12h30 às 19h30\nEntrada gratuita \nLocal: Praça da Migração (Av. da Indústria\, no Jardim Pérola) \n  \nA 4ª edição do Festival Tradições – Festa da Cultura Nordestina já tem suas atrações culturais confirmadas. Realizado pela Prefeitura de Santa Bárbara d’Oeste\, por meio da Secretaria de Cultura e Turismo\, o evento acontecerá nos dias 19 e 20 de julho\, na Praça da Migração\, no Jardim Pérola. A entrada é gratuita. \nCom shows distribuídos ao longo dos dois dias de programação\, o Festival reunirá artistas locais e regionais em uma celebração da cultura popular. Confira a programação musical: \nSábado – 19 de julho\n• 18h30 – Janaína de Cássia\n• 21h30 – Arraiá da Nega \nDomingo – 20 de julho\n• 12h30 – Daniel Rocha\n• 15h00 – Folia de Reis Ouro\, Incenso e Mirra\n• 16h30 – Alexandra Souza e Banda\n• 19h30 – Banda Dois Dobrado \nAlém dos shows\, o evento contará com uma Praça de Alimentação solidária\, com a participação de seis entidades sociais do município\, selecionadas por meio de chamamento público. São elas: Serviço de Assistência Social Meimei (S.A.S.)\, Associação Vinde a Luz\, Rotary Club de Santa Bárbara d’Oeste – Progresso\, Casa da Criança\, AMEV (Associação Assistencial para Melhoria de Vida) e AMOBAM (Associação de Moradores do Bairro Mollon). \nO Festival Tradições é uma realização anual que promove a valorização das manifestações culturais nordestinas\, com programação gratuita e aberta ao público.
URL:https://culturasbo.com/evento/festival-tradicoes-festa-da-cultura-nordestina/
LOCATION:Praça da Migração\, Av. da Indústria\, s/n - Jardim Perola\, Santa Bárbara d'Oeste\, São Paulo\, Brasil
CATEGORIES:Evento,Feira,Festival
END:VEVENT
BEGIN:VEVENT
DTSTART;TZID=America/Sao_Paulo:20250718T140000
DTEND;TZID=America/Sao_Paulo:20250718T140000
DTSTAMP:20260423T195220
CREATED:20250912T152729Z
LAST-MODIFIED:20250912T152729Z
UID:16255-1752847200-1752847200@culturasbo.com
SUMMARY:Alinhavando - NAC - Cena Bárbara
DESCRIPTION:Classificação: Livre \nEntrada: Gratuita \nInformações: (19) 99955-3099 \n  \n  \n 
URL:https://culturasbo.com/evento/alinhavando-nac-cena-barbara/
LOCATION:Espaço Arte-Móvel
CATEGORIES:Espetáculo,Teatro
END:VEVENT
BEGIN:VEVENT
DTSTART;TZID=America/Sao_Paulo:20250718T140000
DTEND;TZID=America/Sao_Paulo:20250718T140000
DTSTAMP:20260423T195220
CREATED:20250704T141046Z
LAST-MODIFIED:20250704T141112Z
UID:16033-1752847200-1752847200@culturasbo.com
SUMMARY:Alinhavando - FLISB - Festival Literário Santa Bárbara 2025
DESCRIPTION:Classificação: Livre \nEntrada: Gratuita \nInformações: (19) 3454-1605 (telefone) / (19) 3455-2619 (whatsapp)
URL:https://culturasbo.com/evento/alinhavando-flisb-festival-literario-santa-barbara-2025-2/
LOCATION:Biblioteca Central\, R. Campos Sales\, 70 - Vila Breda\, Santa Bárbara d'Oeste\, São Paulo\, 13450-219\, Brazil
CATEGORIES:Apresentação Artística,Teatro
END:VEVENT
BEGIN:VEVENT
DTSTART;TZID=America/Sao_Paulo:20250717T190000
DTEND;TZID=America/Sao_Paulo:20250717T190000
DTSTAMP:20260423T195220
CREATED:20250704T133640Z
LAST-MODIFIED:20250704T133955Z
UID:16011-1752778800-1752778800@culturasbo.com
SUMMARY:Samba Rock
DESCRIPTION:Classificação: 12 anos \nEntrada: Com Inscrição \nInformações: (19) 3455-7000 \nÉ uma vivência prática e cultural voltada para pessoas de todas as idades interessadas em conhecer ou aprofundar-se nessa dança brasileira que mistura samba\, rock e soul. Com objetivo de apresentar a história e a origem do samba rock; ensinar os passos básicos e técnicos de condução e marcação; trabalhar a musicalidade\, o ritmo; valorizar a expressão cultural brasileira que une dança\, música e identidade.
URL:https://culturasbo.com/evento/samba-rock/
LOCATION:Centro de Memórias\, R. João Lino\, 362 - Centro\, Santa Bárbara d'Oeste\, São Paulo\, 13450-033\, Brasil
CATEGORIES:Oficina
END:VEVENT
BEGIN:VEVENT
DTSTART;TZID=America/Sao_Paulo:20250717T140000
DTEND;TZID=America/Sao_Paulo:20250717T140000
DTSTAMP:20260423T195220
CREATED:20250704T135647Z
LAST-MODIFIED:20250704T140053Z
UID:16026-1752760800-1752760800@culturasbo.com
SUMMARY:Bingo Literário - FLISB - Festival Literário Santa Bárbara 2025
DESCRIPTION:Classificação: Livre \nEntrada: Gratuita \nInformações: (19) 3454-1605 (telefone) / (19) 3455-2619 (whatsapp)
URL:https://culturasbo.com/evento/bingo-literario-flisb-festival-literario-santa-barbara-2025-5/
LOCATION:Biblioteca Central\, R. Campos Sales\, 70 - Vila Breda\, Santa Bárbara d'Oeste\, São Paulo\, 13450-219\, Brazil
CATEGORIES:Evento
END:VEVENT
BEGIN:VEVENT
DTSTART;TZID=America/Sao_Paulo:20250716T140000
DTEND;TZID=America/Sao_Paulo:20250716T140000
DTSTAMP:20260423T195220
CREATED:20250704T135226Z
LAST-MODIFIED:20250704T135226Z
UID:16020-1752674400-1752674400@culturasbo.com
SUMMARY:Bingo Literário - FLISB - Festival Literário Santa Bárbara 2025
DESCRIPTION:Classificação: Livre \nEntrada: Gratuita \nInformações: (19) 3457-4627
URL:https://culturasbo.com/evento/bingo-literario-flisb-festival-literario-santa-barbara-2025-3/
LOCATION:Centro Cultural e Biblioteca “Prof° Léo Assad Sallum”\, Rua: do Algodão\, 1450 - Cidade Nova\, Santa Bárbara d'Oeste\, SP\, 13454-170\, Brasil
CATEGORIES:Evento
END:VEVENT
BEGIN:VEVENT
DTSTART;TZID=America/Sao_Paulo:20250715T090000
DTEND;TZID=America/Sao_Paulo:20250715T090000
DTSTAMP:20260423T195220
CREATED:20250704T141257Z
LAST-MODIFIED:20250704T141527Z
UID:16035-1752570000-1752570000@culturasbo.com
SUMMARY:Histórias Fantásticas de Pifi e Pafe - Cia Xekmat - FLISB - Festival Literário Santa Bárbara 2025
DESCRIPTION:Classificação: Livre \nEntrada: Gratuita \nInformações: (19) 3454-1605 (telefone) / (19) 3455-2619 (whatsapp)
URL:https://culturasbo.com/evento/historias-fantasticas-de-pifi-e-pafe-cia-xekmat/
LOCATION:Biblioteca Central\, R. Campos Sales\, 70 - Vila Breda\, Santa Bárbara d'Oeste\, São Paulo\, 13450-219\, Brazil
CATEGORIES:Apresentação Artística,Teatro
END:VEVENT
BEGIN:VEVENT
DTSTART;TZID=America/Sao_Paulo:20250713T190000
DTEND;TZID=America/Sao_Paulo:20250713T190000
DTSTAMP:20260423T195220
CREATED:20250704T115513Z
LAST-MODIFIED:20250704T115537Z
UID:15961-1752433200-1752433200@culturasbo.com
SUMMARY:Divertissement 2025 - Arabesque Studio de Dança
DESCRIPTION:Classificação: Livre \nEntrada: R$ 40\,00 (inteira)\, R$ 20\,00 (meia/ antecipado) \nOpcional: Doação de um litro de leite ou produto de higiene ou roupas e calçados usados (em bom estado e limpo) para criaças de 0 a 12 anos. \nIngressos no site: https://www.entravip.com.br/comprar/334/11-divertissement \nInformações: (19) 992990-3900 / (19)  3464-9424 \n  \nFICHA TÉCNICA \nDireção: Hellen Sens \nSinopse 11° Divertissement: Divertissement é uma apresentação de dança realizada anualmente pela Arabesque Studio de Dança\, onde seu maior objetivo é mostrar aos pais o desenvolvimento dos alunos no primeiro semestre\, além de concientizar a todos os envolvidos quanto à importância da doação e de fazer o bem. \n 
URL:https://culturasbo.com/evento/divertissement-2025-arabesque-studio-de-danca/
LOCATION:Teatro Municipal Manoel Lyra\, Rua João XXIII\, 61 - Centro\, Santa Bárbara d'Oeste\, SP\, 13450-040\, Brasil
CATEGORIES:Apresentação Artística,Dança
ATTACH;FMTTYPE=image/jpeg:https://culturasbo.com/wp-content/uploads/2025/07/BALLET_CLASSICO_ADULTO.jpg
END:VEVENT
BEGIN:VEVENT
DTSTART;TZID=America/Sao_Paulo:20250713T160000
DTEND;TZID=America/Sao_Paulo:20250713T160000
DTSTAMP:20260423T195220
CREATED:20250704T144938Z
LAST-MODIFIED:20250704T144938Z
UID:16062-1752422400-1752422400@culturasbo.com
SUMMARY:Lendas da Mata - Grupo Mirabolantes - Palco Aberto 2025
DESCRIPTION:Classificação: Livre \nEntrada: Gratuita
URL:https://culturasbo.com/evento/lendas-da-mata-grupo-mirabolantes-palco-aberto-2025/
LOCATION:Parque dos Ipês\, Av. Corifeu de Azevedo Marques\, Jardim Belo Horizonte\, Santa Bárbara d'Oeste\, São Paulo\, Brazil
CATEGORIES:Apresentação Artística,Evento
END:VEVENT
BEGIN:VEVENT
DTSTART;TZID=America/Sao_Paulo:20250713T150000
DTEND;TZID=America/Sao_Paulo:20250713T150000
DTSTAMP:20260423T195220
CREATED:20250704T125737Z
LAST-MODIFIED:20250704T125737Z
UID:15996-1752418800-1752418800@culturasbo.com
SUMMARY:Samba de Madureira
DESCRIPTION:Classificação: Livre \nEntrada: Gratuita (mediante doação) \nInformações: (19) 3458-5868
URL:https://culturasbo.com/evento/samba-de-madureira-4/
LOCATION:CEU das Artes\, R. Argeu Egídio dos Santos\, 100 - Planalto do Sol II\, Santa Bárbara d'Oeste\, São Paulo\, Brasil
CATEGORIES:Música,Show
END:VEVENT
BEGIN:VEVENT
DTSTART;TZID=America/Sao_Paulo:20250713T120000
DTEND;TZID=America/Sao_Paulo:20250713T120000
DTSTAMP:20260423T195220
CREATED:20250704T130801Z
LAST-MODIFIED:20250704T130801Z
UID:16004-1752408000-1752408000@culturasbo.com
SUMMARY:Projeto Samb’Ajuda
DESCRIPTION:Classificação: Livre \nEntrada: Gratuita – Solidária: mediante doação de 1 kg de alimento não perecível ou 1 litro de leite (não é obrigatório\, mas muito bem vindo!) \nAs doações serão destinadas a instituição social da cidade \nInformações: (19) 3455-7000 \nEvento de roda de samba\, com alimentação\, artesanato e área kids
URL:https://culturasbo.com/evento/projeto-sambajuda-4/
LOCATION:Museu da Imigração\, R. João Lino\, 371 - Centro\, Santa Bárbara d'Oeste\, SP\, 13450-001\, Brasil
CATEGORIES:Apresentação Artística,Evento,Música,Show
ATTACH;FMTTYPE=image/jpeg:https://culturasbo.com/wp-content/uploads/2025/05/DSC_4389-scaled.jpg
END:VEVENT
BEGIN:VEVENT
DTSTART;TZID=America/Sao_Paulo:20250712T190000
DTEND;TZID=America/Sao_Paulo:20250712T190000
DTSTAMP:20260423T195220
CREATED:20250704T114155Z
LAST-MODIFIED:20250704T114242Z
UID:15952-1752346800-1752346800@culturasbo.com
SUMMARY:Apresentação dos Alunos - Bellan Escola de Música e Arte
DESCRIPTION:Classificação: Livre \nEntrada: R$ 40\,00 (inteira)\, R$ 20\,00 (meia/ antecipado) \nInformações: (19) 99242-4030 / (19)  3464-9424 \nSinopse: O “Terra Nostra” é um espetáculo inédito realizado pela Bellan Escola de Música e Arte\, celebrando a história da imigração italiana no Brasil. A apresentação combina teatro\, músicas icônicas e arranjos exclusivos\, escritos pelo Maestro Paulo Bellan\, que envolvem alunos de diferentes idades em um palco vibrante e emocionante. Contaremos com a participação especial do Coral “Vozes Bárbaras”.
URL:https://culturasbo.com/evento/apresentacao-dos-alunos-bellan-escola-de-musica-e-arte/
LOCATION:Teatro Municipal Manoel Lyra\, Rua João XXIII\, 61 - Centro\, Santa Bárbara d'Oeste\, SP\, 13450-040\, Brasil
CATEGORIES:Apresentação Artística,Dança,Música
END:VEVENT
BEGIN:VEVENT
DTSTART;TZID=America/Sao_Paulo:20250712T180000
DTEND;TZID=America/Sao_Paulo:20250712T180000
DTSTAMP:20260423T195220
CREATED:20250704T125442Z
LAST-MODIFIED:20250704T125442Z
UID:15993-1752343200-1752343200@culturasbo.com
SUMMARY:Festa na Roça (Arraiá)
DESCRIPTION:Classificação: Livre \nEntrada: Gratuita \nInformações: (19) 3458-5868
URL:https://culturasbo.com/evento/festa-na-roca-arraia/
LOCATION:CEU das Artes\, R. Argeu Egídio dos Santos\, 100 - Planalto do Sol II\, Santa Bárbara d'Oeste\, São Paulo\, Brasil
CATEGORIES:Evento
END:VEVENT
BEGIN:VEVENT
DTSTART;TZID=America/Sao_Paulo:20250712T090000
DTEND;TZID=America/Sao_Paulo:20250712T090000
DTSTAMP:20260423T195220
CREATED:20250704T144733Z
LAST-MODIFIED:20250704T144733Z
UID:16059-1752310800-1752310800@culturasbo.com
SUMMARY:Brincadeiras e Cantigas com Histórias - Palco Aberto 2025
DESCRIPTION:Classificação: Livre \nEntrada: Gratuita
URL:https://culturasbo.com/evento/brincadeiras-e-cantigas-com-historias-palco-aberto-2025/
LOCATION:Parque dos Jacarandás\, R. do Estanho\, s/n - Vila Mollon IV\, Santa Bárbara d'Oeste\, São Paulo\, 13456-520
CATEGORIES:Apresentação Artística,Contação de Histórias
END:VEVENT
BEGIN:VEVENT
DTSTART;TZID=America/Sao_Paulo:20250711T190000
DTEND;TZID=America/Sao_Paulo:20250711T190000
DTSTAMP:20260423T195220
CREATED:20250704T131155Z
LAST-MODIFIED:20250704T131155Z
UID:16006-1752260400-1752260400@culturasbo.com
SUMMARY:Happy Hour - Corporação Musical "COMUB"
DESCRIPTION:Classificação: Livre \nEntrada: Gratuita \nInformações: (19) 3455-7000 \nSinopse: Evento em prol da Corporação Musical União Barbarense\, com karaokê\, alimentação e artesanato.
URL:https://culturasbo.com/evento/happy-hour-corporacao-musical-comub-2/
LOCATION:Museu da Imigração\, R. João Lino\, 371 - Centro\, Santa Bárbara d'Oeste\, SP\, 13450-001\, Brasil
CATEGORIES:Evento,Música
ATTACH;FMTTYPE=image/jpeg:https://culturasbo.com/wp-content/uploads/2024/05/FOTO-ATUALIZADA-2.jpg
END:VEVENT
BEGIN:VEVENT
DTSTART;TZID=America/Sao_Paulo:20250711T190000
DTEND;TZID=America/Sao_Paulo:20250711T190000
DTSTAMP:20260423T195220
CREATED:20250704T113036Z
LAST-MODIFIED:20250704T113036Z
UID:15954-1752260400-1752260400@culturasbo.com
SUMMARY:(Evento Fechado) Guarda Mirim de Santa Bárbara d'Oeste Formatura da Pré Aprendizagem 1º Semestre de 2025
DESCRIPTION:Classificação: Livre \nEntrada: Evento fechado
URL:https://culturasbo.com/evento/evento-fechado-guarda-mirim-de-santa-barbara-doeste-formatura-da-pre-aprendizagem-1o-semestre-de-2025/
LOCATION:Teatro Municipal Manoel Lyra\, Rua João XXIII\, 61 - Centro\, Santa Bárbara d'Oeste\, SP\, 13450-040\, Brasil
CATEGORIES:Formatura
END:VEVENT
BEGIN:VEVENT
DTSTART;TZID=America/Sao_Paulo:20250711T140000
DTEND;TZID=America/Sao_Paulo:20250711T140000
DTSTAMP:20260423T195220
CREATED:20250704T125300Z
LAST-MODIFIED:20250704T125300Z
UID:15991-1752242400-1752242400@culturasbo.com
SUMMARY:Alinhavando - FLISB - Festival Literário Santa Bárbara 2025
DESCRIPTION:Classificação: Livre \nEntrada: Gratuita \nInformações: (19) 3458-5868
URL:https://culturasbo.com/evento/alinhavando-flisb-festival-literario-santa-barbara-2025/
LOCATION:CEU das Artes\, R. Argeu Egídio dos Santos\, 100 - Planalto do Sol II\, Santa Bárbara d'Oeste\, São Paulo\, Brasil
CATEGORIES:Apresentação Artística,Teatro
END:VEVENT
BEGIN:VEVENT
DTSTART;TZID=America/Sao_Paulo:20250710T150000
DTEND;TZID=America/Sao_Paulo:20250710T150000
DTSTAMP:20260423T195220
CREATED:20250704T125056Z
LAST-MODIFIED:20250704T140915Z
UID:15989-1752159600-1752159600@culturasbo.com
SUMMARY:Brincadeiras e Cantigas com Renata de Paula - FLISB - Festival Literário Santa Bárbara 2025
DESCRIPTION:Classificação: Livre \nEntrada: Gratuita \nInformações: (19) 3458-5868
URL:https://culturasbo.com/evento/brincadeiras-e-cantigas-flisb-festival-literario-santa-barbara-2025/
LOCATION:CEU das Artes\, R. Argeu Egídio dos Santos\, 100 - Planalto do Sol II\, Santa Bárbara d'Oeste\, São Paulo\, Brasil
CATEGORIES:Contação de Histórias
END:VEVENT
END:VCALENDAR