BEGIN:VCALENDAR
VERSION:2.0
PRODID:-//Secretaria Municipal de Cultura e Turismo - ECPv6.15.13//NONSGML v1.0//EN
CALSCALE:GREGORIAN
METHOD:PUBLISH
X-WR-CALNAME:Secretaria Municipal de Cultura e Turismo
X-ORIGINAL-URL:https://culturasbo.com
X-WR-CALDESC:Eventos para Secretaria Municipal de Cultura e Turismo
REFRESH-INTERVAL;VALUE=DURATION:PT1H
X-Robots-Tag:noindex
X-PUBLISHED-TTL:PT1H
BEGIN:VTIMEZONE
TZID:America/Sao_Paulo
BEGIN:STANDARD
TZOFFSETFROM:-0300
TZOFFSETTO:-0300
TZNAME:-03
DTSTART:20230101T000000
END:STANDARD
END:VTIMEZONE
BEGIN:VEVENT
DTSTART;TZID=America/Sao_Paulo:20240420T160000
DTEND;TZID=America/Sao_Paulo:20240420T235900
DTSTAMP:20260424T220229
CREATED:20231219T144600Z
LAST-MODIFIED:20241008T114505Z
UID:12024-1713628800-1713657540@culturasbo.com
SUMMARY:FÉstival - Santa Bárbara d'Oeste
DESCRIPTION:Acesse o site do evento: http://festival.culturasbo.com \nO “FÉstival – um dia da celebração da fé e da família” divulgou sua programação completa de shows. Nos palcos Fé e Avivah\, as atrações musicais e teatrais\, além de espaços interativos\, contarão com programação das 16 às 23 horas no dia 20 deste mês. Com entrada gratuita\, o evento será no Complexo Usina Santa Bárbara\, no Residencial Dona Margarida. \nServiço: \nFÉstival em Santa Bárbara \nData: 20 de abril\, das 16 horas a meia-noite \nLocal: Complexo Usina Santa Bárbara | Rua Aristeo Carlos Pereira\, Residencial Dona Margarida\, Santa Bárbara d’Oeste/SP \nProgramação: \n16h | 23h – Espaço interativo – Vivência Cristã \n16h | 23h – Atividades recreativas \n17h – Clebão de Paula | Palco Fé \n18h – Jardim do Inimigo – O Musical\, Cia Nissi | Palco Avivah \n19h – Jefferson e Suellen | Palco Fé \n20h30 – Em Prol do Reino | Palco Avivah \n21h – André e Felipe | Palco Fé \n22h30 – Rodrigo Ito | Palco Avivah \n23h – Bruna Karla | Palco Fé \nEntrada gratuita
URL:https://culturasbo.com/evento/festival-avivah/
LOCATION:Complexo Usina Santa Bárbara\, Rua Aristeo Carlos Pereira\, Santa Bárbara d'Oeste\, São Paulo\, Brasil
CATEGORIES:Festival
ATTACH;FMTTYPE=image/jpeg:https://culturasbo.com/wp-content/uploads/2023/12/Avivah.jpg
END:VEVENT
BEGIN:VEVENT
DTSTART;TZID=America/Sao_Paulo:20240422T133000
DTEND;TZID=America/Sao_Paulo:20240422T133000
DTSTAMP:20260424T220229
CREATED:20240311T122243Z
LAST-MODIFIED:20241008T114454Z
UID:12416-1713792600-1713792600@culturasbo.com
SUMMARY:"Narrativas em Tinta"
DESCRIPTION:Classificação: Livre \nEntrada: Gratuita \nInformações: (19) 99767-2582 – Amauri / (19) 99115-6601 – Elisabete \nSinopse:\nExposição de obras artísticas de pintura sobre tela (acrílico\, encaústica\, óleo) retratando locais históricos e turísticos de Santa Bárbara d’Oeste (Usina Santa Bárbara\, Parque dos Ipês\, Usina de Cillos\, Santão\, etc. ) e sessão de narrativa oral versando especificamente sobre os locais apresentados nas pintura. \n* Ficha técnica:\nArtista Visual/expositora – Elisabete Padovezi\nNarrador oral – Amauri de Oliveira\nMonitora – Renata de Paula\nFotógrafo – Gilberto Neves
URL:https://culturasbo.com/evento/narrativas-em-tinta-2/
LOCATION:Centro Cultural e Biblioteca “Prof° Léo Assad Sallum”\, Rua: do Algodão\, 1450 - Cidade Nova\, Santa Bárbara d'Oeste\, SP\, 13454-170\, Brasil
CATEGORIES:Apresentação Artística,Exposição
ATTACH;FMTTYPE=image/jpeg:https://culturasbo.com/wp-content/uploads/2024/03/FOTO-ATUALIZADA-1-.jpg
END:VEVENT
BEGIN:VEVENT
DTSTART;TZID=America/Sao_Paulo:20240425T190000
DTEND;TZID=America/Sao_Paulo:20240425T190000
DTSTAMP:20260424T220229
CREATED:20240402T143039Z
LAST-MODIFIED:20241008T114454Z
UID:12625-1714071600-1714071600@culturasbo.com
SUMMARY:Círculo do Livro – “ Tudo é Rio” de Carla Madeira
DESCRIPTION:Classificação : 18 anos \nEntrada: Gratuita (não precisa de inscrição) \nInformações entre em contato pelo WhatsApp da Biblioteca : (19) 3455-2619    https://wa.me/message/2UQZSXT4QHBKM1 \nSobre a Obra:\nCom uma narrativa madura\, precisa e ao mesmo tempo delicada e poética\, o romance narra a história do casal Dalva e Venâncio\, que tem a vida transformada após uma perda trágica\, resultado do ciúme doentio do marido\, e de Lucy\, a prostituta mais depravada e cobiçada da cidade\, que entra no caminho deles\, formando um triângulo amoroso. \nTeremos sorteio de um livro\, com o título a ser escolhido pela biblioteca!
URL:https://culturasbo.com/evento/circulo-do-livro-tudo-e-rio-de-carla-madeira/
LOCATION:Biblioteca Pública Municipal “Maria Aparecida Almeida Nogueira”\, Rua: Campos Salles\, 72 - Vila Breda\, Santa Bárbara d'Oeste\, SP\, 13450-219\, Brasil
CATEGORIES:Círculo do Livro
ATTACH;FMTTYPE=image/jpeg:https://culturasbo.com/wp-content/uploads/2024/04/foto-atualizada.jpg
END:VEVENT
BEGIN:VEVENT
DTSTART;TZID=America/Sao_Paulo:20240426T140000
DTEND;TZID=America/Sao_Paulo:20240426T140000
DTSTAMP:20260424T220229
CREATED:20240312T174007Z
LAST-MODIFIED:20241008T114454Z
UID:12443-1714140000-1714140000@culturasbo.com
SUMMARY:"Rolando Causos"
DESCRIPTION:Classificação: Livre \nEntrada: Gratuita \nInformações: (19) 99767-2582 \nSinopse:\nO espetáculo teatral “Rolando Causos” através de diferentes situações vividas pelos divertidos personagens Zé Lari e Zé Larai\, são recontadas histórias de antigamente e da zona rural\, contos e causos tradicionais e populares\, pesquisadas com antigos moradores de Santa Bárbara d’Oeste. Usando os mais diferentes recursos e técnicas\, as histórias: “Os causos e as histórias de pescador”\, “Causos de Viagem”\, “Causos do Arraiá”\, são alguns dos momentos divertidos e hilários deste espetáculo realizado pelos experientes atores/narradores Amauri de Oliveira e Roberto Isler\, destacando as diferenças\, as riquezas e o valor das histórias caipiras e tradicionais para o público jovem e no resgate da memória para o público de terceira idade. \nApós a apresentação\, haverá bate papo com o público. \n* Ficha técnica:\nAtor/narrador: Amauri de Oliveira\nAtor/narrador: Roberto Isler\nTécnica: Renata de Paula\nTécnica: André Lima\nFotógrafo: Gilberto Neves\nDesigner gráfico: Thiago Oliveira \n* Website:\nhttps://www.instagram.com/ciaxekmat/\nhttps://www.facebook.com/CiaXekmat
URL:https://culturasbo.com/evento/rolando-causos/
LOCATION:Associação dos Diabéticos de Santa Bárbara d’Oeste / Salão da Igreja São Sebastião\, Rua Itália\, s/n° Jardim Europa\, Santa Bárbara d'Oeste\, SP\, 13455-415\, Brasil
CATEGORIES:Teatro
ATTACH;FMTTYPE=image/jpeg:https://culturasbo.com/wp-content/uploads/2024/03/FOTO-ATUALIZADA-1-1-2.jpg
END:VEVENT
BEGIN:VEVENT
DTSTART;VALUE=DATE:20240427
DTEND;VALUE=DATE:20240429
DTSTAMP:20260424T220229
CREATED:20231219T164524Z
LAST-MODIFIED:20241008T114454Z
UID:12055-1714176000-1714348799@culturasbo.com
SUMMARY:Festival Gastronômico - Comida de Rua
DESCRIPTION:
URL:https://culturasbo.com/evento/festival-gastronomico-comida-de-rua/
CATEGORIES:Exposição,Show
ATTACH;FMTTYPE=image/jpeg:https://culturasbo.com/wp-content/uploads/2023/12/Comida-de-Rua.jpg
END:VEVENT
BEGIN:VEVENT
DTSTART;TZID=America/Sao_Paulo:20240429T133000
DTEND;TZID=America/Sao_Paulo:20240429T133000
DTSTAMP:20260424T220229
CREATED:20240312T174332Z
LAST-MODIFIED:20241008T114454Z
UID:12450-1714397400-1714397400@culturasbo.com
SUMMARY:"Rolando Causos"
DESCRIPTION:Classificação: Livre \nEntrada: Gratuita \nInformações: (19) 99767-2582 \nSinopse:\nO espetáculo teatral “Rolando Causos” através de diferentes situações vividas pelos divertidos personagens Zé Lari e Zé Larai\, são recontadas histórias de antigamente e da zona rural\, contos e causos tradicionais e populares\, pesquisadas com antigos moradores de Santa Bárbara d’Oeste. Usando os mais diferentes recursos e técnicas\, as histórias: “Os causos e as histórias de pescador”\, “Causos de Viagem”\, “Causos do Arraiá”\, são alguns dos momentos divertidos e hilários deste espetáculo realizado pelos experientes atores/narradores Amauri de Oliveira e Roberto Isler\, destacando as diferenças\, as riquezas e o valor das histórias caipiras e tradicionais para o público jovem e no resgate da memória para o público de terceira idade. \nApós a apresentação\, haverá bate papo com o público. \n* Ficha técnica:\nAtor/narrador: Amauri de Oliveira\nAtor/narrador: Roberto Isler\nTécnica: Renata de Paula\nTécnica: André Lima\nFotógrafo: Gilberto Neves\nDesigner gráfico: Thiago Oliveira \n* Website:\nhttps://www.instagram.com/ciaxekmat/\nhttps://www.facebook.com/CiaXekmat
URL:https://culturasbo.com/evento/rolando-causos-2/
LOCATION:Amev-Associação Assistencial para Melhoria de Vida\, Rua: do Amor\, 685 - Jardim Vista Alegre\, Santa Bárbara d'Oeste\, SP\, 13458-580\, Brasil
CATEGORIES:Teatro
ATTACH;FMTTYPE=image/jpeg:https://culturasbo.com/wp-content/uploads/2024/03/FOTO-ATUALIZADA-1-1-2.jpg
END:VEVENT
BEGIN:VEVENT
DTSTART;TZID=America/Sao_Paulo:20240430T133000
DTEND;TZID=America/Sao_Paulo:20240430T133000
DTSTAMP:20260424T220229
CREATED:20240312T174433Z
LAST-MODIFIED:20241008T114454Z
UID:12452-1714483800-1714483800@culturasbo.com
SUMMARY:"Rolando Causos"
DESCRIPTION:Classificação: Livre \nEntrada: Gratuita \nInformações: (19) 99767-2582 \nSinopse:\nO espetáculo teatral “Rolando Causos” através de diferentes situações vividas pelos divertidos personagens Zé Lari e Zé Larai\, são recontadas histórias de antigamente e da zona rural\, contos e causos tradicionais e populares\, pesquisadas com antigos moradores de Santa Bárbara d’Oeste. Usando os mais diferentes recursos e técnicas\, as histórias: “Os causos e as histórias de pescador”\, “Causos de Viagem”\, “Causos do Arraiá”\, são alguns dos momentos divertidos e hilários deste espetáculo realizado pelos experientes atores/narradores Amauri de Oliveira e Roberto Isler\, destacando as diferenças\, as riquezas e o valor das histórias caipiras e tradicionais para o público jovem e no resgate da memória para o público de terceira idade. \nApós a apresentação\, haverá bate papo com o público. \n* Ficha técnica:\nAtor/narrador: Amauri de Oliveira\nAtor/narrador: Roberto Isler\nTécnica: Renata de Paula\nTécnica: André Lima\nFotógrafo: Gilberto Neves\nDesigner gráfico: Thiago Oliveira \n* Website:\nhttps://www.instagram.com/ciaxekmat/\nhttps://www.facebook.com/CiaXekmat
URL:https://culturasbo.com/evento/rolando-causos-3/
LOCATION:NAS – Núcleo de Atendimento Social Mollon\, Rua do Cobre\, 777 - Mollon\, Santa Bárbara d'Oeste\, SP\, 13456-430\, Brasil
CATEGORIES:Teatro
ATTACH;FMTTYPE=image/jpeg:https://culturasbo.com/wp-content/uploads/2024/03/FOTO-ATUALIZADA-1-1-2.jpg
END:VEVENT
END:VCALENDAR