BEGIN:VCALENDAR
VERSION:2.0
PRODID:-//Secretaria Municipal de Cultura e Turismo - ECPv6.15.13//NONSGML v1.0//EN
CALSCALE:GREGORIAN
METHOD:PUBLISH
X-WR-CALNAME:Secretaria Municipal de Cultura e Turismo
X-ORIGINAL-URL:https://culturasbo.com
X-WR-CALDESC:Eventos para Secretaria Municipal de Cultura e Turismo
REFRESH-INTERVAL;VALUE=DURATION:PT1H
X-Robots-Tag:noindex
X-PUBLISHED-TTL:PT1H
BEGIN:VTIMEZONE
TZID:America/Sao_Paulo
BEGIN:STANDARD
TZOFFSETFROM:-0300
TZOFFSETTO:-0300
TZNAME:-03
DTSTART:20240101T000000
END:STANDARD
END:VTIMEZONE
BEGIN:VEVENT
DTSTART;TZID=America/Sao_Paulo:20250123T190000
DTEND;TZID=America/Sao_Paulo:20250123T220000
DTSTAMP:20260424T104415
CREATED:20250123T162850Z
LAST-MODIFIED:20250123T162850Z
UID:14984-1737658800-1737669600@culturasbo.com
SUMMARY:Oficina / Via Crucis
DESCRIPTION:Classificação: Livre \nAs oficinas/ensaios estão acontecendo em dias específicos da semana. \nMais informações no site: culturasbo.com/espetaculoviacrucis \n 
URL:https://culturasbo.com/evento/oficina-via-crucis-7/
LOCATION:Teatro Municipal Manoel Lyra\, Rua João XXIII\, 61 - Centro\, Santa Bárbara d'Oeste\, SP\, 13450-040\, Brasil
CATEGORIES:Teatro,Workshop
END:VEVENT
BEGIN:VEVENT
DTSTART;TZID=America/Sao_Paulo:20250124T190000
DTEND;TZID=America/Sao_Paulo:20250124T220000
DTSTAMP:20260424T104415
CREATED:20250123T160750Z
LAST-MODIFIED:20250123T160750Z
UID:14974-1737745200-1737756000@culturasbo.com
SUMMARY:Oficina / Via Crucis
DESCRIPTION:Classificação: Livre \nAs oficinas/ensaios estão acontecendo em dias específicos da semana. \nMais informações no site: culturasbo.com/espetaculoviacrucis 
URL:https://culturasbo.com/evento/oficina-via-crucis-2/
LOCATION:Teatro Municipal Manoel Lyra\, Rua João XXIII\, 61 - Centro\, Santa Bárbara d'Oeste\, SP\, 13450-040\, Brasil
CATEGORIES:Teatro,Workshop
END:VEVENT
BEGIN:VEVENT
DTSTART;TZID=America/Sao_Paulo:20250126T190000
DTEND;TZID=America/Sao_Paulo:20250126T220000
DTSTAMP:20260424T104415
CREATED:20250123T160314Z
LAST-MODIFIED:20250123T160546Z
UID:14972-1737918000-1737928800@culturasbo.com
SUMMARY:Oficina / Via Crucis
DESCRIPTION:Classificação: Livre \nAs oficinas/ensaios estão acontecendo em dias específicos da semana. \nMais informações no site: culturasbo.com/espetaculoviacrucis \n 
URL:https://culturasbo.com/evento/oficina-via-crucis/
LOCATION:Teatro Municipal Manoel Lyra\, Rua João XXIII\, 61 - Centro\, Santa Bárbara d'Oeste\, SP\, 13450-040\, Brasil
CATEGORIES:Teatro,Workshop
END:VEVENT
BEGIN:VEVENT
DTSTART;TZID=America/Sao_Paulo:20250129T190000
DTEND;TZID=America/Sao_Paulo:20250129T220000
DTSTAMP:20260424T104415
CREATED:20250123T161005Z
LAST-MODIFIED:20250123T161005Z
UID:14975-1738177200-1738188000@culturasbo.com
SUMMARY:Oficina / Via Crucis
DESCRIPTION:Classificação: Livre \nAs oficinas/ensaios estão acontecendo em dias específicos da semana. \nMais informações no site: culturasbo.com/espetaculoviacrucis \n 
URL:https://culturasbo.com/evento/oficina-via-crucis-3/
LOCATION:Teatro Municipal Manoel Lyra\, Rua João XXIII\, 61 - Centro\, Santa Bárbara d'Oeste\, SP\, 13450-040\, Brasil
CATEGORIES:Teatro,Workshop
END:VEVENT
BEGIN:VEVENT
DTSTART;TZID=America/Sao_Paulo:20250131T190000
DTEND;TZID=America/Sao_Paulo:20250131T220000
DTSTAMP:20260424T104415
CREATED:20250123T161243Z
LAST-MODIFIED:20250123T161243Z
UID:14980-1738350000-1738360800@culturasbo.com
SUMMARY:Oficina / Via Crucis
DESCRIPTION:Classificação: Livre \nAs oficinas/ensaios estão acontecendo em dias específicos da semana. \nMais informações no site: culturasbo.com/espetaculoviacrucis \n 
URL:https://culturasbo.com/evento/oficina-via-crucis-4/
LOCATION:Teatro Municipal Manoel Lyra\, Rua João XXIII\, 61 - Centro\, Santa Bárbara d'Oeste\, SP\, 13450-040\, Brasil
END:VEVENT
END:VCALENDAR