BEGIN:VCALENDAR
VERSION:2.0
PRODID:-//Secretaria Municipal de Cultura e Turismo - ECPv6.15.13//NONSGML v1.0//EN
CALSCALE:GREGORIAN
METHOD:PUBLISH
X-WR-CALNAME:Secretaria Municipal de Cultura e Turismo
X-ORIGINAL-URL:https://culturasbo.com
X-WR-CALDESC:Eventos para Secretaria Municipal de Cultura e Turismo
REFRESH-INTERVAL;VALUE=DURATION:PT1H
X-Robots-Tag:noindex
X-PUBLISHED-TTL:PT1H
BEGIN:VTIMEZONE
TZID:America/Sao_Paulo
BEGIN:STANDARD
TZOFFSETFROM:-0300
TZOFFSETTO:-0300
TZNAME:-03
DTSTART:20240101T000000
END:STANDARD
END:VTIMEZONE
BEGIN:VEVENT
DTSTART;TZID=America/Sao_Paulo:20251115T160000
DTEND;TZID=America/Sao_Paulo:20251115T160000
DTSTAMP:20260423T182520
CREATED:20251114T145518Z
LAST-MODIFIED:20251114T145518Z
UID:16373-1763222400-1763222400@culturasbo.com
SUMMARY:Samba do Negro Silva: Samba Raiz - Palco Aberto - Novembro Negro 2025
DESCRIPTION:Entrada Gratuita \nRealização: Secretaria de Cultura e Turismo
URL:https://culturasbo.com/evento/samba-do-negro-silva-samba-raiz-palco-aberto-novembro-negro-2025/
LOCATION:Parque dos Ipês\, Av. Corifeu de Azevedo Marques\, Jardim Belo Horizonte\, Santa Bárbara d'Oeste\, São Paulo\, Brazil
CATEGORIES:Música
END:VEVENT
BEGIN:VEVENT
DTSTART;TZID=America/Sao_Paulo:20251116T073000
DTEND;TZID=America/Sao_Paulo:20251116T073000
DTSTAMP:20260423T182520
CREATED:20251114T145737Z
LAST-MODIFIED:20251114T145737Z
UID:16375-1763278200-1763278200@culturasbo.com
SUMMARY:Cortejo Afro - Novembro Negro 2025
DESCRIPTION:Entrada: Gratuita \nRealização: Secretarias de Educação e Cultura e Turismo
URL:https://culturasbo.com/evento/cortejo-afro-novembro-negro-2025/
LOCATION:Museu da Imigração\, R. João Lino\, 371 - Centro\, Santa Bárbara d'Oeste\, SP\, 13450-001\, Brasil
END:VEVENT
BEGIN:VEVENT
DTSTART;TZID=America/Sao_Paulo:20251116T090000
DTEND;TZID=America/Sao_Paulo:20251116T090000
DTSTAMP:20260423T182520
CREATED:20251114T150156Z
LAST-MODIFIED:20251114T150156Z
UID:16377-1763283600-1763283600@culturasbo.com
SUMMARY:Periferia em Movimento - Novembro Negro 2025
DESCRIPTION:Entrada: Gratuita \nRealização: Secretarias de  Educação e Cultura e Turismo \n  \n 
URL:https://culturasbo.com/evento/periferia-em-movimento-novembro-negro-2025/
LOCATION:EMEFEI Profª Mª M. G. Valente – Dona Bininha\, Rua Padre Arthur Aampaio\, 571 - Conj. Roberto Rimano\, Santa Bárbara d'Oeste\, São Paulo\, Brazil
END:VEVENT
BEGIN:VEVENT
DTSTART;TZID=America/Sao_Paulo:20251116T150000
DTEND;TZID=America/Sao_Paulo:20251116T150000
DTSTAMP:20260423T182520
CREATED:20251114T150641Z
LAST-MODIFIED:20251114T162314Z
UID:16380-1763305200-1763305200@culturasbo.com
SUMMARY:Circuito Hip Hop - Novembro Negro 2025
DESCRIPTION:Entrada: Gratuita \nRealização: Batalha do CEU e Secretaria de Cultura e Turismo \n15h – Abertura \n15h – Marana (Grafite) \n16h – Zannin + Helena \n16h30 – Monkey Head + PXD \n17h – Batalha de Rima \n19h30 – Female Group \n2oh – Jotapê \n 
URL:https://culturasbo.com/evento/circuito-hip-hop-novembro-negro-2025/
LOCATION:CEU das Artes\, R. Argeu Egídio dos Santos\, 100 - Planalto do Sol II\, Santa Bárbara d'Oeste\, São Paulo\, Brasil
CATEGORIES:Apresentação Artística,Dança,Espetáculo,Evento,Intervenção Artística,Música
END:VEVENT
BEGIN:VEVENT
DTSTART;TZID=America/Sao_Paulo:20251116T160000
DTEND;TZID=America/Sao_Paulo:20251116T160000
DTSTAMP:20260423T182520
CREATED:20251114T150838Z
LAST-MODIFIED:20251114T150838Z
UID:16382-1763308800-1763308800@culturasbo.com
SUMMARY:Flavinho no Pagode: Pele Preta - Palco Aberto - Novembro Negro 2025
DESCRIPTION:Entrada: Gratuita \nRealização: Secretaria de Cultura e Turismo
URL:https://culturasbo.com/evento/flavinho-no-pagode-pele-preta-palco-aberto-novembro-negro-2025/
LOCATION:Parque dos Ipês\, Av. Corifeu de Azevedo Marques\, Jardim Belo Horizonte\, Santa Bárbara d'Oeste\, São Paulo\, Brazil
CATEGORIES:Música
END:VEVENT
BEGIN:VEVENT
DTSTART;TZID=America/Sao_Paulo:20251117T190000
DTEND;TZID=America/Sao_Paulo:20251117T190000
DTSTAMP:20260423T182520
CREATED:20251114T151235Z
LAST-MODIFIED:20251114T151235Z
UID:16384-1763406000-1763406000@culturasbo.com
SUMMARY:Cerimônia de Entrega da Medalha Zumbi dos Palmares - Novembro Negro 2025
DESCRIPTION:Entrada: Gratuita \nRealização: Câmara Municipal de Santa Bárbara d’Oeste
URL:https://culturasbo.com/evento/cerimonia-de-entrega-da-medalha-zumbi-dos-palmares-novembro-negro-2025/
LOCATION:Câmara Municipal de Santa Bárbara d’Oeste\, Rodovia Luís Ometto (SP-306)\, 1001 - Res. Dona Margarida\, Santa Bárbara d'Oeste\, São Paulo\, Brazil
END:VEVENT
BEGIN:VEVENT
DTSTART;TZID=America/Sao_Paulo:20251120T140000
DTEND;TZID=America/Sao_Paulo:20251120T140000
DTSTAMP:20260423T182520
CREATED:20251114T161308Z
LAST-MODIFIED:20251114T161308Z
UID:16388-1763647200-1763647200@culturasbo.com
SUMMARY:Projeto Samb’Ajuda: Samba e Raiz - Novembro Negro 2025
DESCRIPTION:Classificação: Livre \nEntrada: Gratuita \nRealização: Secretaria de Cultura e Turismo
URL:https://culturasbo.com/evento/projeto-sambajuda-samba-e-raiz-novembro-negro-2025/
LOCATION:Centro de Memórias\, R. João Lino\, 362 - Centro\, Santa Bárbara d'Oeste\, São Paulo\, 13450-033\, Brasil
CATEGORIES:Apresentação Artística,Evento,Música,Show
END:VEVENT
BEGIN:VEVENT
DTSTART;TZID=America/Sao_Paulo:20251123T160000
DTEND;TZID=America/Sao_Paulo:20251123T160000
DTSTAMP:20260423T182520
CREATED:20251114T161600Z
LAST-MODIFIED:20251114T161600Z
UID:16392-1763913600-1763913600@culturasbo.com
SUMMARY:Cenopoesia: A Palavra em Manifesto - Poeta Júlia Mota - Palco Aberto - Novembro Negro 2025
DESCRIPTION:Entrada: Gratuita \nRealização: Secretaria de Cultura e Turismo
URL:https://culturasbo.com/evento/cenopoesia-a-palavra-em-manifesto-poeta-julia-mota-palco-aberto-novembro-negro-2025/
LOCATION:Parque dos Jacarandás\, R. do Estanho\, s/n - Vila Mollon IV\, Santa Bárbara d'Oeste\, São Paulo\, 13456-520
END:VEVENT
BEGIN:VEVENT
DTSTART;TZID=America/Sao_Paulo:20251124T183000
DTEND;TZID=America/Sao_Paulo:20251124T183000
DTSTAMP:20260423T182520
CREATED:20251114T162214Z
LAST-MODIFIED:20251114T163658Z
UID:16394-1764009000-1764009000@culturasbo.com
SUMMARY:Seminário de Boas Práticas Antirracistas - ONLINE - Novembro Negro 202
DESCRIPTION:Acesse: www.youtube.com/live/wiOtBBrV7gE?si=x61AfqdcVLNh6ETz \nRealização: Secretaria deEducação \n  \n 
URL:https://culturasbo.com/evento/seminario-de-boas-praticas-antirracistas-online-novembro-negro-202/
END:VEVENT
BEGIN:VEVENT
DTSTART;TZID=America/Sao_Paulo:20251126T180000
DTEND;TZID=America/Sao_Paulo:20251126T220000
DTSTAMP:20260423T182520
CREATED:20251114T162759Z
LAST-MODIFIED:20251114T163814Z
UID:16397-1764180000-1764194400@culturasbo.com
SUMMARY:Diversidade em Cena: Um Encontro Cultura - Novembro Negro 2025
DESCRIPTION:Entrada: Gratuita \nRealização: Secretarias de Educação e Cultura e Turismo
URL:https://culturasbo.com/evento/diversidade-em-cena-um-encontro-cultura-novembro-negro-2025/
LOCATION:CIEP Carmelina Pellegrino Cervone\, Estr. do Pedroso\, 1732 - Parque Res. Zabani\, Santa Bárbara d'Oeste\, São Paulo\, Brazil
END:VEVENT
BEGIN:VEVENT
DTSTART;TZID=America/Sao_Paulo:20251129T160000
DTEND;TZID=America/Sao_Paulo:20251129T160000
DTSTAMP:20260423T182520
CREATED:20251114T163050Z
LAST-MODIFIED:20251114T163050Z
UID:16400-1764432000-1764432000@culturasbo.com
SUMMARY:Samb’Ajuda - Palco Aberto - Novembro Negro 2025
DESCRIPTION:Classificação: Livre \nEntrada: Gratuita \nRealização: Secretaria de Cultura e Turismo
URL:https://culturasbo.com/evento/sambajuda-palco-aberto-novembro-negro-2025/
LOCATION:Parque dos Jacarandás\, R. do Estanho\, s/n - Vila Mollon IV\, Santa Bárbara d'Oeste\, São Paulo\, 13456-520
CATEGORIES:Apresentação Artística,Evento,Música,Show
END:VEVENT
BEGIN:VEVENT
DTSTART;TZID=America/Sao_Paulo:20251129T200000
DTEND;TZID=America/Sao_Paulo:20251129T200000
DTSTAMP:20260423T182520
CREATED:20251128T125153Z
LAST-MODIFIED:20251128T125153Z
UID:16407-1764446400-1764446400@culturasbo.com
SUMMARY:Moana Um Mar de Aventuras - Cia de Dança e Teatro JK
DESCRIPTION:Classificação: Livre \nEntrada: Ingressos: R$ 110 (inteira)\, R$ 55 (meia/antecipada) \nVendas no site: www.entravip.com.br \nInformações: (19) 99586-6811 \nSINOPSE: A história conta que Moana é uma jovem curiosa e corajosa\, que sente um forte chamado pelo mar. Diferente de seu pai\, que teme o oceano\, ela sonha em desbravá-lo. Quando sua ilha começa a sofrer\, Moana decide partir em uma jornada para salvar seu povo. Ao lado do semideus Maui\, do atrapalhado Hei Hei e com a ajuda do próprio oceano\, ela enfrentará grandes desafios para devolver o coração de Te Fiti e restaurar a vida em sua ilha. \n FICHA TÉCNICA:  \nDiretor Geral: Jobson Victor da Silva  \nDiretora Artística: Jackeline Américo  \nDiretora de cena: Brunna Oliveira  \nFigurinista: Priscila Lusvordes\, Cleide M. J. Lusvordes e Josy Paz \nCenografia: Jobson Victor da Silva e Rodrigo Brunherotto  \nDesigner gráfico: Jackeline Américo  \nFotografia: Saulo G. Munhoz  \nCinegrafista: Imaginário Filmes  \nCaptação de áudio: Lucas Rissato \n 
URL:https://culturasbo.com/evento/moana-um-mar-de-aventuras-cia-de-danca-e-teatro-jk/
LOCATION:Teatro Municipal Manoel Lyra\, Rua João XXIII\, 61 - Centro\, Santa Bárbara d'Oeste\, SP\, 13450-040\, Brasil
CATEGORIES:Espetáculo
ATTACH;FMTTYPE=image/jpeg:https://culturasbo.com/wp-content/uploads/2025/11/IMG_7944.jpg
END:VEVENT
BEGIN:VEVENT
DTSTART;TZID=America/Sao_Paulo:20251130T160000
DTEND;TZID=America/Sao_Paulo:20251130T160000
DTSTAMP:20260423T182520
CREATED:20251114T163256Z
LAST-MODIFIED:20251114T163256Z
UID:16402-1764518400-1764518400@culturasbo.com
SUMMARY:Robson Cruz e Banda - Palco Aberto - Novembro Negro 2025
DESCRIPTION:Entrada: Gratuita \nRealização: Secretaria de Cultura e Turismo
URL:https://culturasbo.com/evento/robson-cruz-e-banda-palco-aberto-novembro-negro-2025/
LOCATION:Parque dos Ipês\, Av. Corifeu de Azevedo Marques\, Jardim Belo Horizonte\, Santa Bárbara d'Oeste\, São Paulo\, Brazil
CATEGORIES:Música
END:VEVENT
BEGIN:VEVENT
DTSTART;TZID=America/Sao_Paulo:20251130T160000
DTEND;TZID=America/Sao_Paulo:20251130T160000
DTSTAMP:20260423T182520
CREATED:20251114T163541Z
LAST-MODIFIED:20251114T163541Z
UID:16404-1764518400-1764518400@culturasbo.com
SUMMARY:Samba do Negro Silva: Origens - Novembro Negro 2025
DESCRIPTION:Entrada: Gratuita \nRealização: Secretaria de Cultura e Turismo
URL:https://culturasbo.com/evento/samba-do-negro-silva-origens-novembro-negro-2025/
LOCATION:Mercadão da Cidade\, Rua Floriano Peixoto\, 1653 - Centro\, Santa Bárbara d'Oeste\, São Paulo\, Brazil
CATEGORIES:Música
END:VEVENT
BEGIN:VEVENT
DTSTART;TZID=America/Sao_Paulo:20251130T190000
DTEND;TZID=America/Sao_Paulo:20251130T190000
DTSTAMP:20260423T182520
CREATED:20251128T125233Z
LAST-MODIFIED:20251128T125233Z
UID:16410-1764529200-1764529200@culturasbo.com
SUMMARY:Moana Um Mar de Aventuras - Cia de Dança e Teatro JK
DESCRIPTION:Classificação: Livre \nEntrada: Ingressos: R$ 110 (inteira)\, R$ 55 (meia/antecipada) \nVendas no site: www.entravip.com.br \nInformações: (19) 99586-6811 \nSINOPSE: A história conta que Moana é uma jovem curiosa e corajosa\, que sente um forte chamado pelo mar. Diferente de seu pai\, que teme o oceano\, ela sonha em desbravá-lo. Quando sua ilha começa a sofrer\, Moana decide partir em uma jornada para salvar seu povo. Ao lado do semideus Maui\, do atrapalhado Hei Hei e com a ajuda do próprio oceano\, ela enfrentará grandes desafios para devolver o coração de Te Fiti e restaurar a vida em sua ilha. \n FICHA TÉCNICA:  \nDiretor Geral: Jobson Victor da Silva  \nDiretora Artística: Jackeline Américo  \nDiretora de cena: Brunna Oliveira  \nFigurinista: Priscila Lusvordes\, Cleide M. J. Lusvordes e Josy Paz \nCenografia: Jobson Victor da Silva e Rodrigo Brunherotto  \nDesigner gráfico: Jackeline Américo  \nFotografia: Saulo G. Munhoz  \nCinegrafista: Imaginário Filmes  \nCaptação de áudio: Lucas Rissato \n 
URL:https://culturasbo.com/evento/moana-um-mar-de-aventuras-cia-de-danca-e-teatro-jk-2/
LOCATION:Teatro Municipal Manoel Lyra\, Rua João XXIII\, 61 - Centro\, Santa Bárbara d'Oeste\, SP\, 13450-040\, Brasil
CATEGORIES:Espetáculo
ATTACH;FMTTYPE=image/jpeg:https://culturasbo.com/wp-content/uploads/2025/11/IMG_7944.jpg
END:VEVENT
END:VCALENDAR